Workbook

Sheet 2021
A1: FECHA DE CORTE | F1: PLAN DE ACCIÓN INSTITUTO MUNICIPAL DE EMPLEO Y FORMACIÓN EMPRESARIAL DE BUCARAMANGA | Y1: VIGENCIA 2021
A2: 44316
A4: PDM 2020-2023 | F4: PROYECTOS DE INVERSIÓN | K4: CUMPLIMIENTO DE META | N4: RECURSOS PROGRAMADOS | T4: RECURSOS EJECUTADOS | Y4: EJECUCIÓN PPTAL | Z4: RECURSOS GESTIONADOS | AA4: RESPONSABLES
A5: Línea estratégica | B5: Componente | C5: Programa | D5: Meta PDM | E5: Indicador de producto | F5: Código BPIM | G5: Nombre del Proyecto | H5: Actividades | I5: Fecha inicio | J5: Fecha de terminación | K5: Meta programada | L5: Meta ejecutada | M5: AVANCE | N5: Rubro | O5: RECURSOS PROPIOS | P5: SGP | Q5: SGR | R5: OTROS | S5: TOTAL PROGRAMADO | T5: RECURSOS PROPIOS | U5: SGP | V5: SGR | W5: OTROS | X5: TOTAL EJECUTADO | AA5: Dependencia | AB5: Responsable
A6: BUCARAMANGA PRODUCTIVA Y COMPETITIVA: EMPRESAS INNOVADORAS, RESPONSABLES Y CONSCIENTES | B6: Emprendimiento, Innovación, Formalización Y Dinamización Empresarial | C6: Emprendimiento E Innovación | D6: Fortalecer a 5.000 empresas, emprendimientos y/o unidades productivas, a través de la implementación de un programa de incubación y aceleración de emprendimientos innovadores articulados con el ecosistema de emprendimiento, que caracterice las capacidades tecnológicas instaladas (duras y blandas) con enfoque diferencial. | E6: Número de empresas, emprendimientos y/o unidades productivas fortalecidas a través de la implementación de un programa de incubación y aceleración de emprendimientos innovadores articulados con el ecosistema de emprendimiento, que caracterice las capacidades tecnológicas instaladas (duras y blandas) con enfoque diferencial. | F6: 20200680010157 | G6: FORTALECIMIENTO DEL COWORKING COMO ESTRATEGIA PARA EL EMPRENDIMIENTO, INNOVACIÓN, DINAMIZACIÓN Y ACELERACIÓN EMPRESARIAL EN EL MUNICIPIO DE BUCARAMANGA | H6: Actividad 1.1. Asesorar técnicamente a emprendedores y/o empresarios en etapa de aceleración en programas de formación empresarial. Actividad 2.1. Realizar adecuaciones en espacio para prestación de servicios de consultoria a emprendedores y/o empresarios en etapa de aceleración y Coworking. | I6: 30 de octubre de 2020 | J6: 31 de Diciembre de 2023 | K6: 1000 | L6: =123+6 -> 129 | M6: =IF(L6/K6>100%,100%,L6/K6) -> 0.129 | N6: 2.3.2.02.02.007 2.3.2.02.02.009 | O6: 410000000 | S6: =SUM(O6:R6) -> 410000000 | T6: 410000000 | X6: =SUM(T6:W6) -> 410000000 | Y6: =IFERROR(X6/S6,"-") -> 1 | AA6: IMEBU | AB6: JOSE LUIS HERNÁNDEZ JAIMES
A7: BUCARAMANGA PRODUCTIVA Y COMPETITIVA: EMPRESAS INNOVADORAS, RESPONSABLES Y CONSCIENTES | B7: Emprendimiento, Innovación, Formalización Y Dinamización Empresarial | C7: Centros De Desarrollo Empresarial | D7: Implementar 1 programa de desarrollo empresarial y de empleabilidad para las micro y pequeñas empresas (incluyendo unidades productivas). | E7: Número de programas de desarrollo empresariales y de empleabilidad implementados para las micro y pequeñas empresas (incluyendo unidades productivas). | F7: 20200680010074 | G7: FORTALECIMIENTO DEL CENTRO DE DESARROLLO EMPRESARIAL Y DE EMPLEABILIDAD EN EL MUNICIPIO DE BUCARAMANGA | H7: Actividad 1.1.1. Asesorar a emprendedores y empresarios en programas de formación empresarial (Modelo de Negocios y diseño Planes de Mejora) Actividad 1.1.2.Formar a emprendedores y empresarios a través de programas de visualización de productos y/o servicios a través de canales virtuales. Actividad 1.1.3. Implementar un programa de comercialización virtual de productos y/o servicios. Actividad 1.1.4. Implementar Estrategia comunitaria para el emprendimiento y el desarrollo empresarial. Actividad 1.1.5. Formulación de la estrategia de reactivación y sostenimiento de la economía Actividad 1.1.6. Brindar acompañamiento a los proyectos productivos de la población victima Actividad 2.1. 1. Identificar habilidades y destrezas de emprendedores, empresarios y ciudadanos para orientarlos hacia el emprendimiento o la empleabilidad. | I7: 14 de agosto de 2020 | J7: 31 de Diciembre de 2023 | K7: 1 | L7: 1 | M7: =IF(L7/K7>100%,100%,L7/K7) -> 1 | N7: 2.3.2.02.02.006 2.3.2.02.02.007 2.3.2.02.02.009 | O7: 584500000 | S7: =SUM(O7:R7) -> 584500000 | T7: 568459117 | X7: =SUM(T7:W7) -> 568459117 | Y7: =IFERROR(X7/S7,"-") -> 0.97255623 | Z7: =+'Recursos Gestionados'!C6 -> 283286606 | AA7: IMEBU | AB7: JOSE LUIS HERNÁNDEZ JAIMES
A8: BUCARAMANGA PRODUCTIVA Y COMPETITIVA: EMPRESAS INNOVADORAS, RESPONSABLES Y CONSCIENTES | B8: Emprendimiento, Innovación, Formalización Y Dinamización Empresarial | C8: Centros De Desarrollo Empresarial | D8: Desarrollar el modelo CDE virtual para que amplíen la cobertura en la ciudad. | E8: Porcentaje de avance en el desarrollo del modelo CDE virtual para que amplíen la cobertura en la ciudad. | K8: 0.25 | L8: 0 | M8: =IF(L8/K8>100%,100%,L8/K8) -> 0 | O8: 0 | S8: =SUM(O8:R8) -> 0 | T8: 0 | X8: =SUM(T8:W8) -> 0 | Y8: =IFERROR(X8/S8,"-") -> - | AA8: IMEBU | AB8: JOSE LUIS HERNÁNDEZ JAIMES
A9: BUCARAMANGA PRODUCTIVA Y COMPETITIVA: EMPRESAS INNOVADORAS, RESPONSABLES Y CONSCIENTES | B9: Emprendimiento, Innovación, Formalización Y Dinamización Empresarial | C9: Centros De Desarrollo Empresarial | D9: Formar a 7.000 emprendedores a través de un programa de formación teórica, empresarial y/o artesanal con enfoque diferencial para emprendimientos artísticos, culturales, creativos, negocios verdes, microempresarios y/o unidades productivas urbanas y rurales. | E9: Número de emprendedores formados a través de un programa de formación teórica, empresarial y/o artesanal con enfoque diferencial para emprendimientos artísticos, culturales, creativos, negocios verdes, microempresarios y/o unidades productivas urbanas y rurales. | K9: 1200 | L9: 356 | M9: =IF(L9/K9>100%,100%,L9/K9) -> 0.29666667 | O9: =+('Gastos marzo'!M68-O7)/2 -> 152750000 | S9: =SUM(O9:R9) -> 152750000 | T9: =+('Gastos abril'!P69-T7)/2 -> 74790738 | X9: =SUM(T9:W9) -> 74790738 | Y9: =IFERROR(X9/S9,"-") -> 0.4896284 | AA9: IMEBU | AB9: JOSE LUIS HERNÁNDEZ JAIMES
A10: BUCARAMANGA PRODUCTIVA Y COMPETITIVA: EMPRESAS INNOVADORAS, RESPONSABLES Y CONSCIENTES | B10: Emprendimiento, Innovación, Formalización Y Dinamización Empresarial | C10: Centros De Desarrollo Empresarial | D10: Implementar en 4.000 mipymes planes estratégicos orientados a innovar y/o incorporación tecnológica en áreas empresariales estratégicas con apoyo de Universidades y actores económicos clave. | E10: Número de mipymes con planes estratégicos implementados orientados a innovar y/o incorporación tecnológica en áreas empresariales estratégicas con apoyo de Universidades y actores económicos clave. | K10: 500 | L10: 58 | M10: =IF(L10/K10>100%,100%,L10/K10) -> 0.116 | O10: 152750000 | S10: =SUM(O10:R10) -> 152750000 | T10: 74790738 | X10: =SUM(T10:W10) -> 74790738 | Y10: =IFERROR(X10/S10,"-") -> 0.4896284 | AA10: IMEBU | AB10: JOSE LUIS HERNÁNDEZ JAIMES
A11: BUCARAMANGA PRODUCTIVA Y COMPETITIVA: EMPRESAS INNOVADORAS, RESPONSABLES Y CONSCIENTES | B11: Emprendimiento, Innovación, Formalización Y Dinamización Empresarial | C11: Banca Ciudadana | D11: Intervenir a 4.000 empresas y/o emprendimientos mediante apalancamiento financiero orientado a realizar inversión en innovación y/o tecnología en la zona rural y urbana con enfoque diferencial. | E11: Número de empresas y/o emprendimientos intervenidos mediante apalancamiento financiero orientado a realizar inversión en innovación y/o tecnología en la zona rural y urbana con enfoque diferencial. | F11: 20200680010084 | G11: FORTALECIMIENTO DEL FONDO DE FOMENTO Y CRÉDITO DE APOYO DEL IMEBU, PROGRAMA BANCA CIUDADANA EN EL MUNICIPIO DE BUCARAMANGA | H11: Actividad 1.1. Otorgar créditos para el emprendimiento y/o fortalecimiento financiero de empresas orientadas a la innovación y/o incorporación de tecnología. Actividad 1.2. Otorgar créditos para el emprendimiento y/o fortalecimiento financiero de empresas orientados a capital de trabajo, nómina y/o activos fijos. Actividad 2.1. Realizar acompañamiento técnico y visitas pos crédito a los emprendimientos y/o empresas apoyadas. | I11: 25 de agosto de 2020 | J11: 31 de Diciembre de 2023 | K11: 600 | L11: 29 | M11: =IF(L11/K11>100%,100%,L11/K11) -> 0.048333333 | N11: 2.3.2.02.02.009 | O11: 0 | S11: =SUM(O11:R11) -> 0 | T11: 0 | X11: =SUM(T11:W11) -> 0 | Y11: =IFERROR(X11/S11,"-") -> - | AA11: IMEBU | AB11: JOSE LUIS HERNÁNDEZ JAIMES
A12: BUCARAMANGA PRODUCTIVA Y COMPETITIVA: EMPRESAS INNOVADORAS, RESPONSABLES Y CONSCIENTES | B12: Emprendimiento, Innovación, Formalización Y Dinamización Empresarial | C12: Banca Ciudadana | D12: Otorgar 6.000 créditos a emprendimientos y mipymes de orientados a capital de trabajo o destinos de inversión diferente a innovación y/o tecnología en zonas urbanas y rurales. | E12: Número de créditos otorgados a emprendimientos y mipymes de orientados a capital de trabajo o destinos de inversión diferente a innovación y/o tecnología en zonas urbanas y rurales. | K12: 1600 | L12: =455-29 -> 426 | M12: =IF(L12/K12>100%,100%,L12/K12) -> 0.26625 | O12: 10250000 | S12: =SUM(O12:R12) -> 10250000 | T12: 0 | X12: =SUM(T12:W12) -> 0 | Y12: =IFERROR(X12/S12,"-") -> 0 | AA12: IMEBU | AB12: JOSE LUIS HERNÁNDEZ JAIMES
A13: BUCARAMANGA PRODUCTIVA Y COMPETITIVA: EMPRESAS INNOVADORAS, RESPONSABLES Y CONSCIENTES | B13: Empleabilidad, Empleo Y Trabajo Decente | C13: Empleo Y Empleabilidad | D13: Registrar 5.000 hojas de vida para facilitar el proceso de inserción en el mercado laboral identificando habilidades, destrezas y que competencias para el trabajo. | E13: Número de hojas de vida registradas para facilitar el proceso de inserción en el mercado laboral identificando habilidades, destrezas y que competencias para el trabajo. | F13: 20200680010061 | G13: FORTALECIMIENTO DE LA OFICINA DE FOMENTO A LA EMPLEABILIDAD, EL EMPLEO Y EL TRABAJO DECENTE EN EL MUNICIPIO DE BUCARAMANGA | H13: Actividad 1.1.1. Brindar formación en competencias personales y/o técnicas para el trabajo Actividad 1.1.2. Realizar intermediación laboral entre oferentes de trabajo y buscadores de empleo. Actividad 2.1. Ofrecer acompañamiento a las empresas en la estructuración y selección de perfiles adecuados a sus requerimientos. Actividad 3.1. Formular la política pública de empleo y trabajo decente de la ciudad. | I13: 4 de agosto de 2020 | J13: 31 de Diciembre de 2023 | K13: 1200 | L13: 1056 | M13: =IF(L13/K13>100%,100%,L13/K13) -> 0.88 | N13: 2.3.2.02.02.009 | O13: =155000000/3 -> 51666667 | S13: =SUM(O13:R13) -> 51666667 | T13: =150300000/3 -> 50100000 | X13: =SUM(T13:W13) -> 50100000 | Y13: =IFERROR(X13/S13,"-") -> 0.96967742 | AA13: IMEBU | AB13: JOSE LUIS HERNÁNDEZ JAIMES
A14: BUCARAMANGA PRODUCTIVA Y COMPETITIVA: EMPRESAS INNOVADORAS, RESPONSABLES Y CONSCIENTES | B14: Empleabilidad, Empleo Y Trabajo Decente | C14: Empleo Y Empleabilidad | D14: Formar 3.000 jóvenes y adultos en competencias personales y/o técnicas para el trabajo con el fin de facilitar su inserción en el mercado laboral. | E14: Número de jóvenes y adultos formados en competencias personales y/o técnicas para el trabajo con el fin de facilitar su inserción en el mercado laboral. | K14: 700 | L14: 611 | M14: =IF(L14/K14>100%,100%,L14/K14) -> 0.87285714 | O14: 51666667 | S14: =SUM(O14:R14) -> 51666667 | T14: 50100000 | X14: =SUM(T14:W14) -> 50100000 | Y14: =IFERROR(X14/S14,"-") -> 0.96967742 | AA14: IMEBU | AB14: JOSE LUIS HERNÁNDEZ JAIMES
A15: BUCARAMANGA PRODUCTIVA Y COMPETITIVA: EMPRESAS INNOVADORAS, RESPONSABLES Y CONSCIENTES | B15: Empleabilidad, Empleo Y Trabajo Decente | C15: Empleo Y Empleabilidad | D15: Acompañar a 1.500 empresas en el fomento de una cultura del empleo y trabajo decente para capturar vacantes que permitan realizar la intermediación laboral. | E15: Número de empresas acompañadas en el fomento de una cultura del empleo y trabajo decente para capturar vacantes que permitan realizar la intermediación laboral. | K15: 370 | L15: 160 | M15: =IF(L15/K15>100%,100%,L15/K15) -> 0.43243243 | O15: 51666667 | S15: =SUM(O15:R15) -> 51666667 | T15: 50100000 | X15: =SUM(T15:W15) -> 50100000 | Y15: =IFERROR(X15/S15,"-") -> 0.96967742 | AA15: IMEBU | AB15: JOSE LUIS HERNÁNDEZ JAIMES
A16: BUCARAMANGA TERRITORIO LIBRE DE CORRUPCIÓN: INSTITUCIONES SÓLIDAS Y CONFIABLES | B16: Administración Pública Moderna E Innovadora | C16: Gobierno Fortalecido Para Ser Y Hacer | D16: Mantener en funcionamiento el 100% de los programas del Instituto Municipal del Empleo. | E16: Porcentaje de los programas de Instituto Municipal del Empleo mantenidos en funcionamiento. | F16: N/A | G16: FORTALECIMIENTO DEL INSTITUTO MUNICIPAL DE EMPLEO Y FOMENTO EMPRESARIAL IMEBU DEL MUNICIPIO DE BUCARAMANGA | H16: N/A | I16: N/A | J16: N/A | K16: 1 | L16: 1 | M16: =IF(L16/K16>100%,100%,L16/K16) -> 1 | N16: 2.1. | O16: =+'Gastos abril'!M9 -> 2544050000 | S16: =SUM(O16:R16) -> 2544050000 | T16: =+'Gastos abril'!U9 -> 1175772057 | X16: =SUM(T16:W16) -> 1175772057 | Y16: =IFERROR(X16/S16,"-") -> 0.46216547 | AA16: IMEBU | AB16: JOSE LUIS HERNÁNDEZ JAIMES
L17: TOTALES | M17: =AVERAGE(M6:M16) -> 0.45832178 | O17: =SUM(O6:O16) -> 4009300000 | P17: =SUM(P6:P16) -> 0 | Q17: =SUM(Q6:Q16) -> 0 | R17: =SUM(R6:R16) -> 0 | S17: =SUM(S6:S16) -> 4009300000 | T17: =SUM(T6:T16) -> 2454112649 | U17: =SUM(U6:U16) -> 0 | V17: =SUM(V6:V16) -> 0 | ... X17: =SUM(X6:X16) -> 2454112649 | Y17: =IFERROR(X17/S17,"-") -> 0.61210502 | Z17: =SUM(Z6:Z16) -> 283286606

Sheet Recursos Gestionados
A1: Recursos gestionados
A3: Proyecto | B3: Aliado | C3: Monto
A4: CDE | B4: Comfenalco santander | C4: 143929466
A5: CDE | B5: Camara de Comercio | C5: 139357140
A6: total | C6: =+C4+C5 -> 283286606

Sheet Resu gastos
A1: Descripción | B1: Presupuesto Definitivo | C1: Total Recaudos | D1: % de Ejecución
A2: Ingresos Corrientes | B2: 4000000000 | C2: 999999999 | D2: =+C2/B2 -> 0.25
A3: Recursos de Capital | B3: 9300000 | C3: 8610173.7 | D3: =+C3/B3 -> 0.92582513
A4: Total Ingresos | B4: =+SUM(B2:B3) -> 4009300000 | C4: =+SUM(C2:C3) -> 1.0086102e+09 | D4: =+C4/B4 -> 0.25156765
A6: Descripción | B6: Presupuesto Definitivo | C6: Total Ejecutado Segun Cdps | D6: % de Ejecución
A7: Gastos de personal | B7: 1371476019 | C7: 265155083 | D7: =+C7/B7 -> 0.19333556
A8: Adquisición de bienes y servicios | B8: 1117252923 | C8: 744831132 | D8: =+C8/B8 -> 0.66666295
A9: Transferencias corrientes | B9: 40000000 | C9: 0 | D9: =+C9/B9 -> 0
A10: Gastos por tributos, multas, sanciones e intereses de mora | B10: 15321058 | C10: 15321058 | D10: =+C10/B10 -> 1
A11: Total Funcionamiento | B11: =+SUM(B7:B10) -> 2544050000 | C11: =+SUM(C7:C10) -> 1025307273 | D11: =+C11/B11 -> 0.40302167
A13: Descripción | B13: Presupuesto Definitivo | C13: Total Ejecutado Segun Cdps | D13: % de Ejecución
A14: Servicios de alojamiento; servicios de suministro de comidas y bebidas; servicios de transporte; y servicios de distribución de electricidad, gas y agua | B14: 81690883 | C14: 54144188 | D14: =+C14/B14 -> 0.66279352
A15: Servicios financieros y servicios conexos, servicios inmobiliarios y servicios de leasing | B15: 406500000 | C15: 403205000 | D15: =+C15/B15 -> 0.99189422
A16: Servicios para la comunidad, sociales y personales | B16: 977059117 | C16: 847009117 | D16: =+C16/B16 -> 0.86689649
A17: Total Inversión | B17: =+SUM(B14:B16) -> 1465250000 | C17: =+SUM(C14:C16) -> 1304358305 | D17: =+C17/B17 -> 0.89019506
A19: Total Gastos | B19: =+B11+B17 -> 4009300000 | C19: =+C11+C17 -> 2329665578 | D19: =+C19/B19 -> 0.58106542

Sheet Total Ingresos
A1: INSTITUTO MUNICIPAL DE EMPLEO Y FOMENTO EMPRESARIAL - IMEBU
A2: NIT: 00804014968 - 1
A3: EJECUCION PRESUPUESTAL DE INGRESOS
A4: Periodo comprendido entre 01-03-2021 y 31-03-2021
A5: Fecha de Impresión: 08.04.2021 Hora: 11:01:am
A6: Impreso por: JENNIFER - JENNIFER MONTES GARCIA
A7: Rubro Presupuestales | B7: Descripción | C7: Presupuesto Inicial | D7: Adiciones | E7: Reducciones | F7: Aplazamiento | G7: Desaplazamiento | H7: Presupuesto Definitivo | I7: Recaudos Enero | J7: Recaudos Febrero | K7: Recaudos Marzo | L7: Recaudos Abril | M7: Recaudos Mayo | N7: Recaudos Junio | O7: Recaudos Julio | P7: Recaudos Agosto | Q7: Recaudos Septiembre | R7: Recaudos Octubre | S7: Recaudos Noviembre | T7: Recaudos Diciembre | U7: Recaudos Mes Actual | V7: Devoluciones | W7: Total Recaudos | X7: Saldo Por Recaudar
A8: 1 | B8: Ingresos | C8: 4009300000 | D8: 0 | E8: 0 | F8: 0 | G8: 0 | H8: 4009300000 | I8: 3.3619621e+08 | J8: 3.3613302e+08 | K8: 3.3628094e+08 | L8: 0 | M8: 0 | N8: 0 | O8: 0 | P8: 0 | Q8: 0 | R8: 0 | S8: 0 | T8: 0 | U8: 3.3628094e+08 | V8: 0 | W8: 1.0086102e+09 | X8: 3.0006898e+09
A9: 1.1. | B9: Ingresos Corrientes | C9: 4000000000 | D9: 0 | E9: 0 | F9: 0 | G9: 0 | H9: 4000000000 | I9: 333333333 | J9: 333333333 | K9: 333333333 | L9: 0 | M9: 0 | N9: 0 | O9: 0 | P9: 0 | Q9: 0 | R9: 0 | S9: 0 | T9: 0 | U9: 333333333 | V9: 0 | W9: 999999999 | X9: 3000000001
A10: 1.1.02 | B10: Ingresos No Tributarios | C10: 4000000000 | D10: 0 | E10: 0 | F10: 0 | G10: 0 | H10: 4000000000 | I10: 333333333 | J10: 333333333 | K10: 333333333 | L10: 0 | M10: 0 | N10: 0 | O10: 0 | P10: 0 | Q10: 0 | R10: 0 | S10: 0 | T10: 0 | U10: 333333333 | V10: 0 | W10: 999999999 | X10: 3000000001
A11: 1.1.02.06. | B11: Transferencias Corrientes | C11: 4000000000 | D11: 0 | E11: 0 | F11: 0 | G11: 0 | H11: 4000000000 | I11: 333333333 | J11: 333333333 | K11: 333333333 | L11: 0 | M11: 0 | N11: 0 | O11: 0 | P11: 0 | Q11: 0 | R11: 0 | S11: 0 | T11: 0 | U11: 333333333 | V11: 0 | W11: 999999999 | X11: 3000000001
A12: 1.1.02.06.006. | B12: Transferencias de otras entidades del gobierno nacional | C12: 4000000000 | D12: 0 | E12: 0 | F12: 0 | G12: 0 | H12: 4000000000 | I12: 333333333 | J12: 333333333 | K12: 333333333 | L12: 0 | M12: 0 | N12: 0 | O12: 0 | P12: 0 | Q12: 0 | R12: 0 | S12: 0 | T12: 0 | U12: 333333333 | V12: 0 | W12: 999999999 | X12: 3000000001
A13: 1.1.02.06.006.06 | B13: Otras unidades de gobierno | C13: 4000000000 | D13: 0 | E13: 0 | F13: 0 | G13: 0 | H13: 4000000000 | I13: 333333333 | J13: 333333333 | K13: 333333333 | L13: 0 | M13: 0 | N13: 0 | O13: 0 | P13: 0 | Q13: 0 | R13: 0 | S13: 0 | T13: 0 | U13: 333333333 | V13: 0 | W13: 999999999 | X13: 3000000001
A14: 1.2 | B14: Recursos de Capital | C14: 9300000 | D14: 0 | E14: 0 | F14: 0 | G14: 0 | H14: 9300000 | I14: 2862879.3 | J14: 2799686.3 | K14: 2947608.1 | L14: 0 | M14: 0 | N14: 0 | O14: 0 | P14: 0 | Q14: 0 | R14: 0 | S14: 0 | T14: 0 | U14: 2947608.1 | V14: 0 | W14: 8610173.7 | X14: 689826.27
A15: 1.2.05 | B15: Rendimientos financieros | C15: 9300000 | D15: 0 | E15: 0 | F15: 0 | G15: 0 | H15: 9300000 | I15: 2862879.3 | J15: 2799686.3 | K15: 2947608.1 | L15: 0 | M15: 0 | N15: 0 | O15: 0 | P15: 0 | Q15: 0 | R15: 0 | S15: 0 | T15: 0 | U15: 2947608.1 | V15: 0 | W15: 8610173.7 | X15: 689826.27
A16: 1.2.05.02 | B16: Depositos | C16: 9300000 | D16: 0 | E16: 0 | F16: 0 | G16: 0 | H16: 9300000 | I16: 2862879.3 | J16: 2799686.3 | K16: 2947608.1 | L16: 0 | M16: 0 | N16: 0 | O16: 0 | P16: 0 | Q16: 0 | R16: 0 | S16: 0 | T16: 0 | U16: 2947608.1 | V16: 0 | W16: 8610173.7 | X16: 689826.27

Sheet Gastos marzo
A1: INSTITUTO MUNICIPAL DE EMPLEO Y FOMENTO EMPRESARIAL - IMEBU
A2: NIT: 00804014968 - 1
A3: EJECUCION PRESUPUESTAL DE GASTOS
A4: Periodo comprendido entre 01-03-2021 y 31-03-2021
A5: Fecha de Impresión: 08.04.2021 Hora: 11:02:am
A6: Impreso por: JENNIFER - JENNIFER MONTES GARCIA
A7: Codigo de Control | B7: Rubro Presupuestal | C7: Unidad Ejecutora | D7: Descripción | E7: Fuente | F7: Presupuesto Inicial | G7: Adiciones | H7: Aplazamientos | I7: Desaplazamiento | J7: Reducciones | K7: Créditos | L7: Contracréditos | M7: Presupuesto Definitivo | N7: Cdps Mes Anterior | O7: Cdps Mes Actual | P7: Total Ejecutado Segun Cdps | Q7: Cdps Vigencia Futura | R7: Saldo por Ejecutar | S7: Compromisos Mes Anterior | T7: Total Compromisos mes Actual | U7: Total Compromisos | V7: Saldo por Comprometer | W7: Total Obligaciones | X7: Pagos Mes Anterior | Y7: Total Pagos Periodo | Z7: Total Pagos | AA7: Saldo por Pagar
B8: 2 | C8: IMEB | D8: Gastos | F8: 4009300000 | G8: 0 | H8: 0 | I8: 0 | J8: 0 | K8: 169097612 | L8: 169097612 | M8: 4009300000 | N8: 2171341783 | O8: 158323795 | P8: 2329665578 | Q8: 0 | R8: 1679634422 | S8: 1716663900 | T8: 585032912 | U8: 2301696812 | V8: 1707603188 | W8: 344708014 | X8: 170372750 | Y8: 153230027 | Z8: 323602777 | AA8: 1978094035
B9: 2.1 | C9: IMEB | D9: Funcionamiento | F9: 2568050000 | G9: 0 | H9: 0 | I9: 0 | J9: 0 | K9: 74662729 | L9: 98662729 | M9: 2544050000 | N9: 911232666 | O9: 114074607 | P9: 1025307273 | Q9: 0 | R9: 1518742727 | S9: 909363900 | T9: 114074607 | U9: 1023438507 | V9: 1520611493 | W9: 332117163 | X9: 170372750 | Y9: 140639176 | Z9: 311011926 | AA9: 712426581
B10: 2.1.1 | C10: IMEB | D10: Gastos de personal | F10: 1365526019 | G10: 0 | H10: 0 | I10: 0 | J10: 0 | K10: 5950000 | L10: 0 | M10: 1371476019 | N10: 174849949 | O10: 90305134 | P10: 265155083 | Q10: 0 | R10: 1106320936 | S10: 174849949 | T10: 90305134 | U10: 265155083 | V10: 1106320936 | W10: 265092683 | X10: 156573651 | Y10: 88413174 | Z10: 244986825 | AA10: 20168258
B11: 2.1.1.01 | C11: IMEB | D11: Planta de personal permanente | F11: 1365526019 | G11: 0 | H11: 0 | I11: 0 | J11: 0 | K11: 5950000 | L11: 0 | M11: 1371476019 | N11: 174849949 | O11: 90305134 | P11: 265155083 | Q11: 0 | R11: 1106320936 | S11: 174849949 | T11: 90305134 | U11: 265155083 | V11: 1106320936 | W11: 265092683 | X11: 156573651 | Y11: 88413174 | Z11: 244986825 | AA11: 20168258
B12: 2.1.1.01.01 | C12: IMEB | D12: Factores constitutivos de salario | F12: 970216272 | G12: 0 | H12: 0 | I12: 0 | J12: 0 | K12: 0 | L12: 0 | M12: 970216272 | N12: 127515839 | O12: 68116495 | P12: 195632334 | Q12: 0 | R12: 774583938 | S12: 127515839 | T12: 68116495 | U12: 195632334 | V12: 774583938 | W12: 195632334 | X12: 127515839 | Y12: 68116495 | Z12: 195632334 | AA12: 0
B13: 2.1.1.01.01.001 | C13: IMEB | D13: Factores salariales comunes | F13: 960610171 | G13: 0 | H13: 0 | I13: 0 | J13: 0 | K13: 0 | L13: 0 | M13: 960610171 | N13: 127367911 | O13: 68052277 | P13: 195420188 | Q13: 0 | R13: 765189983 | S13: 127367911 | T13: 68052277 | U13: 195420188 | V13: 765189983 | W13: 195420188 | X13: 127367911 | Y13: 68052277 | Z13: 195420188 | AA13: 0
A14: 210003 | B14: 2.1.1.01.01.001.01 | C14: IMEB | D14: Sueldo básico | E14: TRM | F14: 763499028 | G14: 0 | H14: 0 | I14: 0 | J14: 0 | K14: 0 | L14: 0 | M14: 763499028 | N14: 112410880 | O14: 59985986 | P14: 172396866 | Q14: 0 | R14: 591102162 | S14: 112410880 | T14: 59985986 | U14: 172396866 | V14: 591102162 | W14: 172396866 | X14: 112410880 | Y14: 59985986 | Z14: 172396866 | AA14: 0
A15: 210004 | B15: 2.1.1.01.01.001.06 | C15: IMEB | D15: Prima de servicios | E15: TRM | F15: 65480645 | G15: 0 | H15: 0 | I15: 0 | J15: 0 | K15: 0 | L15: 0 | M15: 65480645 | N15: 1097442 | O15: 503009 | P15: 1600451 | Q15: 0 | R15: 63880194 | S15: 1097442 | T15: 503009 | U15: 1600451 | V15: 63880194 | W15: 1600451 | X15: 1097442 | Y15: 503009 | Z15: 1600451 | AA15: 0
A16: 210005 | B16: 2.1.1.01.01.001.07 | C16: IMEB | D16: Bonificación por servicios prestados | E16: TRM | F16: 22268721 | G16: 0 | H16: 0 | I16: 0 | J16: 0 | K16: 0 | L16: 0 | M16: 22268721 | N16: 6379039 | O16: 6024513 | P16: 12403552 | Q16: 0 | R16: 9865169 | S16: 6379039 | T16: 6024513 | U16: 12403552 | V16: 9865169 | W16: 12403552 | X16: 6379039 | Y16: 6024513 | Z16: 12403552 | AA16: 0
B17: 2.1.1.01.01.001.08 | C17: IMEB | D17: Prestaciones sociales | F17: 109361777 | G17: 0 | H17: 0 | I17: 0 | J17: 0 | K17: 0 | L17: 0 | M17: 109361777 | N17: 7480550 | O17: 1538769 | P17: 9019319 | Q17: 0 | R17: 100342458 | S17: 7480550 | T17: 1538769 | U17: 9019319 | V17: 100342458 | W17: 9019319 | X17: 7480550 | Y17: 1538769 | Z17: 9019319 | AA17: 0
A18: 210006 | B18: 2.1.1.01.01.001.08.01 | C18: IMEB | D18: Prima de navidad | E18: TRM | F18: 73893091 | G18: 0 | H18: 0 | I18: 0 | J18: 0 | K18: 0 | L18: 0 | M18: 73893091 | N18: 1223952 | O18: 546971 | P18: 1770923 | Q18: 0 | R18: 72122168 | S18: 1223952 | T18: 546971 | U18: 1770923 | V18: 72122168 | W18: 1770923 | X18: 1223952 | Y18: 546971 | Z18: 1770923 | AA18: 0
A19: 210007 | B19: 2.1.1.01.01.001.08.02 | C19: IMEB | D19: Prima de vacaciones | E19: TRM | F19: 35468686 | G19: 0 | H19: 0 | I19: 0 | J19: 0 | K19: 0 | L19: 0 | M19: 35468686 | N19: 6256598 | O19: 991798 | P19: 7248396 | Q19: 0 | R19: 28220290 | S19: 6256598 | T19: 991798 | U19: 7248396 | V19: 28220290 | W19: 7248396 | X19: 6256598 | Y19: 991798 | Z19: 7248396 | AA19: 0
A20: 210008 | B20: 2.1.1.01.01.002 | C20: IMEB | D20: Factores salariales especiales | E20: TRM | F20: 9606101 | G20: 0 | H20: 0 | I20: 0 | J20: 0 | K20: 0 | L20: 0 | M20: 9606101 | N20: 147928 | O20: 64218 | P20: 212146 | Q20: 0 | R20: 9393955 | S20: 147928 | T20: 64218 | U20: 212146 | V20: 9393955 | W20: 212146 | X20: 147928 | Y20: 64218 | Z20: 212146 | AA20: 0
B21: 2.1.1.01.02 | C21: IMEB | D21: Contribuciones inherentes a la nómina | F21: 329997349 | G21: 0 | H21: 0 | I21: 0 | J21: 0 | K21: 0 | L21: 0 | M21: 329997349 | N21: 38362449 | O21: 20626606 | P21: 58989055 | Q21: 0 | R21: 271008294 | S21: 38362449 | T21: 20626606 | U21: 58989055 | V21: 271008294 | W21: 58926655 | X21: 20086151 | Y21: 18734646 | Z21: 38820797 | AA21: 20168258
A22: 210009 | B22: 2.1.1.01.02.001 | C22: IMEB | D22: Aportes a la seguridad social en pensiones | E22: TRM | F22: 94292130 | G22: 0 | H22: 0 | I22: 0 | J22: 0 | K22: 0 | L22: 0 | M22: 94292130 | N22: 14266507 | O22: 7921879 | P22: 22188386 | Q22: 0 | R22: 72103744 | S22: 14266507 | T22: 7921879 | U22: 22188386 | V22: 72103744 | W22: 22188386 | X22: 7560858 | Y22: 6705649 | Z22: 14266507 | AA22: 7921879
A23: 210010 | B23: 2.1.1.01.02.002 | C23: IMEB | D23: Aportes a la seguridad social en salud | E23: TRM | F23: 66790259 | G23: 0 | H23: 0 | I23: 0 | J23: 0 | K23: 0 | L23: 0 | M23: 66790259 | N23: 10106107 | O23: 5611579 | P23: 15717686 | Q23: 0 | R23: 51072573 | S23: 10106107 | T23: 5611579 | U23: 15717686 | V23: 51072573 | W23: 15717686 | X23: 5355958 | Y23: 4750149 | Z23: 10106107 | AA23: 5611579
A24: 210011 | B24: 2.1.1.01.02.003 | C24: IMEB | D24: Aportes de cesantías | E24: TRM | F24: 80050848 | G24: 0 | H24: 0 | I24: 0 | J24: 0 | K24: 0 | L24: 0 | M24: 80050848 | N24: 1232735 | O24: 535148 | P24: 1767883 | Q24: 0 | R24: 78282965 | S24: 1232735 | T24: 535148 | U24: 1767883 | V24: 78282965 | W24: 1767883 | X24: 1232735 | Y24: 535148 | Z24: 1767883 | AA24: 0
A25: 210012 | B25: 2.1.1.01.02.004 | C25: IMEB | D25: Aportes a cajas de compensación familiar | E25: TRM | F25: 37549513 | G25: 0 | H25: 0 | I25: 0 | J25: 0 | K25: 0 | L25: 0 | M25: 37549513 | N25: 5379400 | O25: 2758600 | P25: 8138000 | Q25: 0 | R25: 29411513 | S25: 5379400 | T25: 2758600 | U25: 8138000 | V25: 29411513 | W25: 8138000 | X25: 2520800 | Y25: 2858600 | Z25: 5379400 | AA25: 2758600
A26: 210013 | B26: 2.1.1.01.02.005 | C26: IMEB | D26: Aportes generales al sistema de riesgos laborales | E26: TRM | F26: 4377708 | G26: 0 | H26: 0 | I26: 0 | J26: 0 | K26: 0 | L26: 0 | M26: 4377708 | N26: 653100 | O26: 350600 | P26: 1003700 | Q26: 0 | R26: 3374008 | S26: 653100 | T26: 350600 | U26: 1003700 | V26: 3374008 | W26: 941300 | X26: 264700 | Y26: 311600 | Z26: 576300 | AA26: 427400
A27: 210014 | B27: 2.1.1.01.02.006 | C27: IMEB | D27: Aportes al ICBF | E27: TRM | F27: 28162135 | G27: 0 | H27: 0 | I27: 0 | J27: 0 | K27: 0 | L27: 0 | M27: 28162135 | N27: 4034400 | O27: 2069000 | P27: 6103400 | Q27: 0 | R27: 22058735 | S27: 4034400 | T27: 2069000 | U27: 6103400 | V27: 22058735 | W27: 6103400 | X27: 1890500 | Y27: 2143900 | Z27: 4034400 | AA27: 2069000
A28: 210015 | B28: 2.1.1.01.02.007 | C28: IMEB | D28: Aportes al SENA | E28: TRM | F28: 18774756 | G28: 0 | H28: 0 | I28: 0 | J28: 0 | K28: 0 | L28: 0 | M28: 18774756 | N28: 2690200 | O28: 1379800 | P28: 4070000 | Q28: 0 | R28: 14704756 | S28: 2690200 | T28: 1379800 | U28: 4070000 | V28: 14704756 | W28: 4070000 | X28: 1260600 | Y28: 1429600 | Z28: 2690200 | AA28: 1379800
B29: 2.1.1.01.03 | C29: IMEB | D29: Remuneraciones no constitutivas de factor salarial | F29: 65312398 | G29: 0 | H29: 0 | I29: 0 | J29: 0 | K29: 5950000 | L29: 0 | M29: 71262398 | N29: 8971661 | O29: 1562033 | P29: 10533694 | Q29: 0 | R29: 60728704 | S29: 8971661 | T29: 1562033 | U29: 10533694 | V29: 60728704 | W29: 10533694 | X29: 8971661 | Y29: 1562033 | Z29: 10533694 | AA29: 0
B30: 2.1.1.01.03.001 | C30: IMEB | D30: Prestaciones sociales | F30: 65312398 | G30: 0 | H30: 0 | I30: 0 | J30: 0 | K30: 5950000 | L30: 0 | M30: 71262398 | N30: 8971661 | O30: 1562033 | P30: 10533694 | Q30: 0 | R30: 60728704 | S30: 8971661 | T30: 1562033 | U30: 10533694 | V30: 60728704 | W30: 10533694 | X30: 8971661 | Y30: 1562033 | Z30: 10533694 | AA30: 0
A31: 210016 | B31: 2.1.1.01.03.001.01 | C31: IMEB | D31: Vacaciones | E31: TRM | F31: 52020738 | G31: 0 | H31: 0 | I31: 0 | J31: 0 | K31: 0 | L31: 0 | M31: 52020738 | N31: 8215351 | O31: 1442616 | P31: 9657967 | Q31: 0 | R31: 42362771 | S31: 8215351 | T31: 1442616 | U31: 9657967 | V31: 42362771 | W31: 9657967 | X31: 8215351 | Y31: 1442616 | Z31: 9657967 | AA31: 0
A32: 210017 | B32: 2.1.1.01.03.001.02 | C32: IMEB | D32: Indemnización por vacaciones | E32: TRM | F32: 9050000 | G32: 0 | H32: 0 | I32: 0 | J32: 0 | K32: 5950000 | L32: 0 | M32: 15000000 | N32: 0 | O32: 0 | P32: 0 | Q32: 0 | R32: 15000000 | S32: 0 | T32: 0 | U32: 0 | V32: 15000000 | W32: 0 | X32: 0 | Y32: 0 | Z32: 0 | AA32: 0
A33: 210018 | B33: 2.1.1.01.03.001.03 | C33: IMEB | D33: Bonificacion especial de recreación | E33: TRM | F33: 4241660 | G33: 0 | H33: 0 | I33: 0 | J33: 0 | K33: 0 | L33: 0 | M33: 4241660 | N33: 756310 | O33: 119417 | P33: 875727 | Q33: 0 | R33: 3365933 | S33: 756310 | T33: 119417 | U33: 875727 | V33: 3365933 | W33: 875727 | X33: 756310 | Y33: 119417 | Z33: 875727 | AA33: 0
B34: 2.1.2 | C34: IMEB | D34: Adquisición de bienes y servicios | F34: 1147202923 | G34: 0 | H34: 0 | I34: 0 | J34: 0 | K34: 68712729 | L34: 98662729 | M34: 1117252923 | N34: 721061659 | O34: 23769473 | P34: 744831132 | Q34: 0 | R34: 372421791 | S34: 719192893 | T34: 23769473 | U34: 742962366 | V34: 374290557 | W34: 63194215 | X34: 11245589 | Y34: 50949247 | Z34: 62194836 | AA34: 680767530
B35: 2.1.2.02 | C35: IMEB | D35: Adquisiciones diferentes de activos | F35: 1147202923 | G35: 0 | H35: 0 | I35: 0 | J35: 0 | K35: 68712729 | L35: 98662729 | M35: 1117252923 | N35: 721061659 | O35: 23769473 | P35: 744831132 | Q35: 0 | R35: 372421791 | S35: 719192893 | T35: 23769473 | U35: 742962366 | V35: 374290557 | W35: 63194215 | X35: 11245589 | Y35: 50949247 | Z35: 62194836 | AA35: 680767530
B36: 2.1.2.02.01 | C36: IMEB | D36: Materiales y suministros | F36: 145511858 | G36: 0 | H36: 0 | I36: 0 | J36: 0 | K36: 35489168 | L36: 83192314 | M36: 97808712 | N36: 2998136 | O36: 0 | P36: 2998136 | Q36: 0 | R36: 94810576 | S36: 2998136 | T36: 0 | U36: 2998136 | V36: 94810576 | W36: 299814 | X36: 299814 | Y36: -299814 | Z36: 0 | AA36: 2998136
A37: 210019 | B37: 2.1.2.02.01.002 | C37: IMEB | D37: Productos alimenticios, bebidas y tabaco; textiles, prendas de vestir y productos de cuero | E37: TRM | F37: 8421848 | G37: 0 | H37: 0 | I37: 0 | J37: 0 | K37: 6576288 | L37: 0 | M37: 14998136 | N37: 2998136 | O37: 0 | P37: 2998136 | Q37: 0 | R37: 12000000 | S37: 2998136 | T37: 0 | U37: 2998136 | V37: 12000000 | W37: 299814 | X37: 299814 | Y37: -299814 | Z37: 0 | AA37: 2998136
A38: 210020 | B38: 2.1.2.02.01.003 | C38: IMEB | D38: Otros bienes transportables (excepto productos metálicos, maquinaria y equipo) | E38: TRM | F38: 23087120 | G38: 0 | H38: 0 | I38: 0 | J38: 0 | K38: 28912880 | L38: 0 | M38: 52000000 | N38: 0 | O38: 0 | P38: 0 | Q38: 0 | R38: 52000000 | S38: 0 | T38: 0 | U38: 0 | V38: 52000000 | W38: 0 | X38: 0 | Y38: 0 | Z38: 0 | AA38: 0
A39: 210021 | B39: 2.1.2.02.01.004 | C39: IMEB | D39: Productos metalicos y paquetes de software | E39: TRM | F39: 114002890 | G39: 0 | H39: 0 | I39: 0 | J39: 0 | K39: 0 | L39: 83192314 | M39: 30810576 | N39: 0 | O39: 0 | P39: 0 | Q39: 0 | R39: 30810576 | S39: 0 | T39: 0 | U39: 0 | V39: 30810576 | W39: 0 | X39: 0 | Y39: 0 | Z39: 0 | AA39: 0
B40: 2.1.2.02.02 | C40: IMEB | D40: Adquisición de servicios | F40: 1001691065 | G40: 0 | H40: 0 | I40: 0 | J40: 0 | K40: 33223561 | L40: 15470415 | M40: 1019444211 | N40: 718063523 | O40: 23769473 | P40: 741832996 | Q40: 0 | R40: 277611215 | S40: 716194757 | T40: 23769473 | U40: 739964230 | V40: 279479981 | W40: 62894401 | X40: 10945775 | Y40: 51249061 | Z40: 62194836 | AA40: 677769394
...

Sheet Gastos abril
A1: INSTITUTO MUNICIPAL DE EMPLEO Y FOMENTO EMPRESARIAL - IMEBU
A2: NIT: 00804014968 - 1
A3: EJECUCION PRESUPUESTAL DE GASTOS
A4: Periodo comprendido entre 01-04-2021 y 30-04-2021
A5: Fecha de Impresión: 06.05.2021 Hora: 11:16:am
A7: Codigo de Control | B7: Rubro Presupuestal | C7: Unidad Ejecutora | D7: Descripción | E7: Fuente | F7: Presupuesto Inicial | G7: Adiciones | H7: Aplazamientos | I7: Desaplazamiento | J7: Reducciones | K7: Créditos | L7: Contracréditos | M7: Presupuesto Definitivo | N7: Cdps Mes Anterior | O7: Cdps Mes Actual | P7: Total Ejecutado Segun Cdps | Q7: Cdps Vigencia Futura | R7: Saldo por Ejecutar | S7: Compromisos Mes Anterior | T7: Total Compromisos mes Actual | U7: Total Compromisos | V7: Saldo por Comprometer | W7: Total Obligaciones | X7: Pagos Mes Anterior | Y7: Total Pagos Periodo | Z7: Total Pagos | AA7: Saldo por Pagar
B8: 2 | C8: IMEB | D8: Gastos | F8: 4009300000 | G8: 0 | H8: 0 | I8: 0 | J8: 0 | K8: 169097612 | L8: 169097612 | M8: 4009300000 | N8: 2303565578 | O8: 153090837 | P8: 2456656415 | Q8: 0 | R8: 1552643585 | S8: 2301696812 | T8: 152415837 | U8: 2454112649 | V8: 1555187351 | W8: 578322267 | X8: 323602777 | Y8: 233243940 | Z8: 556846717 | AA8: 1897265932
B9: 2.1 | C9: IMEB | D9: Funcionamiento | F9: 2568050000 | G9: 0 | H9: 0 | I9: 0 | J9: 0 | K9: 74662729 | L9: 98662729 | M9: 2544050000 | N9: 1025307273 | O9: 153008550 | P9: 1178315823 | Q9: 0 | R9: 1365734177 | S9: 1023438507 | T9: 152333550 | U9: 1175772057 | V9: 1368277943 | W9: 490244134 | X9: 311011926 | Y9: 157756658 | Z9: 468768584 | AA9: 707003473 | AB9: =+U9/M9 -> 0.46216547
B10: 2.1.1 | C10: IMEB | D10: Gastos de personal | F10: 1365526019 | G10: 0 | H10: 0 | I10: 0 | J10: 0 | K10: 5950000 | L10: 0 | M10: 1371476019 | N10: 265155083 | O10: 81921785 | P10: 347076868 | Q10: 0 | R10: 1024399151 | S10: 265155083 | T10: 81921785 | U10: 347076868 | V10: 1024399151 | W10: 347038468 | X10: 244986825 | Y10: 83109427 | Z10: 328096252 | AA10: 18980616 | AB10: =+U10/M10 -> 0.25306813
B11: 2.1.1.01 | C11: IMEB | D11: Planta de personal permanente | F11: 1365526019 | G11: 0 | H11: 0 | I11: 0 | J11: 0 | K11: 5950000 | L11: 0 | M11: 1371476019 | N11: 265155083 | O11: 81921785 | P11: 347076868 | Q11: 0 | R11: 1024399151 | S11: 265155083 | T11: 81921785 | U11: 347076868 | V11: 1024399151 | W11: 347038468 | X11: 244986825 | Y11: 83109427 | Z11: 328096252 | AA11: 18980616
B12: 2.1.1.01.01 | C12: IMEB | D12: Factores constitutivos de salario | F12: 970216272 | G12: 0 | H12: 0 | I12: 0 | J12: 0 | K12: 0 | L12: 0 | M12: 970216272 | N12: 195632334 | O12: 63003569 | P12: 258635903 | Q12: 0 | R12: 711580369 | S12: 195632334 | T12: 63003569 | U12: 258635903 | V12: 711580369 | W12: 258635903 | X12: 195632334 | Y12: 63003569 | Z12: 258635903 | AA12: 0
B13: 2.1.1.01.01.001 | C13: IMEB | D13: Factores salariales comunes | F13: 960610171 | G13: 0 | H13: 0 | I13: 0 | J13: 0 | K13: 0 | L13: 0 | M13: 960610171 | N13: 195420188 | O13: 63003569 | P13: 258423757 | Q13: 0 | R13: 702186414 | S13: 195420188 | T13: 63003569 | U13: 258423757 | V13: 702186414 | W13: 258423757 | X13: 195420188 | Y13: 63003569 | Z13: 258423757 | AA13: 0
A14: 210003 | B14: 2.1.1.01.01.001.01 | C14: IMEB | D14: Sueldo básico | E14: TRM | F14: 763499028 | G14: 0 | H14: 0 | I14: 0 | J14: 0 | K14: 0 | L14: 0 | M14: 763499028 | N14: 172396866 | O14: 60595159 | P14: 232992025 | Q14: 0 | R14: 530507003 | S14: 172396866 | T14: 60595159 | U14: 232992025 | V14: 530507003 | W14: 232992025 | X14: 172396866 | Y14: 60595159 | Z14: 232992025 | AA14: 0
A15: 210004 | B15: 2.1.1.01.01.001.06 | C15: IMEB | D15: Prima de servicios | E15: TRM | F15: 65480645 | G15: 0 | H15: 0 | I15: 0 | J15: 0 | K15: 0 | L15: 0 | M15: 65480645 | N15: 1600451 | O15: 0 | P15: 1600451 | Q15: 0 | R15: 63880194 | S15: 1600451 | T15: 0 | U15: 1600451 | V15: 63880194 | W15: 1600451 | X15: 1600451 | Y15: 0 | Z15: 1600451 | AA15: 0
A16: 210005 | B16: 2.1.1.01.01.001.07 | C16: IMEB | D16: Bonificación por servicios prestados | E16: TRM | F16: 22268721 | G16: 0 | H16: 0 | I16: 0 | J16: 0 | K16: 0 | L16: 0 | M16: 22268721 | N16: 12403552 | O16: 2408410 | P16: 14811962 | Q16: 0 | R16: 7456759 | S16: 12403552 | T16: 2408410 | U16: 14811962 | V16: 7456759 | W16: 14811962 | X16: 12403552 | Y16: 2408410 | Z16: 14811962 | AA16: 0
B17: 2.1.1.01.01.001.08 | C17: IMEB | D17: Prestaciones sociales | F17: 109361777 | G17: 0 | H17: 0 | I17: 0 | J17: 0 | K17: 0 | L17: 0 | M17: 109361777 | N17: 9019319 | O17: 0 | P17: 9019319 | Q17: 0 | R17: 100342458 | S17: 9019319 | T17: 0 | U17: 9019319 | V17: 100342458 | W17: 9019319 | X17: 9019319 | Y17: 0 | Z17: 9019319 | AA17: 0
A18: 210006 | B18: 2.1.1.01.01.001.08.01 | C18: IMEB | D18: Prima de navidad | E18: TRM | F18: 73893091 | G18: 0 | H18: 0 | I18: 0 | J18: 0 | K18: 0 | L18: 0 | M18: 73893091 | N18: 1770923 | O18: 0 | P18: 1770923 | Q18: 0 | R18: 72122168 | S18: 1770923 | T18: 0 | U18: 1770923 | V18: 72122168 | W18: 1770923 | X18: 1770923 | Y18: 0 | Z18: 1770923 | AA18: 0
A19: 210007 | B19: 2.1.1.01.01.001.08.02 | C19: IMEB | D19: Prima de vacaciones | E19: TRM | F19: 35468686 | G19: 0 | H19: 0 | I19: 0 | J19: 0 | K19: 0 | L19: 0 | M19: 35468686 | N19: 7248396 | O19: 0 | P19: 7248396 | Q19: 0 | R19: 28220290 | S19: 7248396 | T19: 0 | U19: 7248396 | V19: 28220290 | W19: 7248396 | X19: 7248396 | Y19: 0 | Z19: 7248396 | AA19: 0
A20: 210008 | B20: 2.1.1.01.01.002 | C20: IMEB | D20: Factores salariales especiales | E20: TRM | F20: 9606101 | G20: 0 | H20: 0 | I20: 0 | J20: 0 | K20: 0 | L20: 0 | M20: 9606101 | N20: 212146 | O20: 0 | P20: 212146 | Q20: 0 | R20: 9393955 | S20: 212146 | T20: 0 | U20: 212146 | V20: 9393955 | W20: 212146 | X20: 212146 | Y20: 0 | Z20: 212146 | AA20: 0
B21: 2.1.1.01.02 | C21: IMEB | D21: Contribuciones inherentes a la nómina | F21: 329997349 | G21: 0 | H21: 0 | I21: 0 | J21: 0 | K21: 0 | L21: 0 | M21: 329997349 | N21: 58989055 | O21: 18918216 | P21: 77907271 | Q21: 0 | R21: 252090078 | S21: 58989055 | T21: 18918216 | U21: 77907271 | V21: 252090078 | W21: 77868871 | X21: 38820797 | Y21: 20105858 | Z21: 58926655 | AA21: 18980616
A22: 210009 | B22: 2.1.1.01.02.001 | C22: IMEB | D22: Aportes a la seguridad social en pensiones | E22: TRM | F22: 94292130 | G22: 0 | H22: 0 | I22: 0 | J22: 0 | K22: 0 | L22: 0 | M22: 94292130 | N22: 22188386 | O22: 7560858 | P22: 29749244 | Q22: 0 | R22: 64542886 | S22: 22188386 | T22: 7560858 | U22: 29749244 | V22: 64542886 | W22: 29749244 | X22: 14266507 | Y22: 7921879 | Z22: 22188386 | AA22: 7560858
A23: 210010 | B23: 2.1.1.01.02.002 | C23: IMEB | D23: Aportes a la seguridad social en salud | E23: TRM | F23: 66790259 | G23: 0 | H23: 0 | I23: 0 | J23: 0 | K23: 0 | L23: 0 | M23: 66790259 | N23: 15717686 | O23: 5355958 | P23: 21073644 | Q23: 0 | R23: 45716615 | S23: 15717686 | T23: 5355958 | U23: 21073644 | V23: 45716615 | W23: 21073644 | X23: 10106107 | Y23: 5611579 | Z23: 15717686 | AA23: 5355958
A24: 210011 | B24: 2.1.1.01.02.003 | C24: IMEB | D24: Aportes de cesantías | E24: TRM | F24: 80050848 | G24: 0 | H24: 0 | I24: 0 | J24: 0 | K24: 0 | L24: 0 | M24: 80050848 | N24: 1767883 | O24: 0 | P24: 1767883 | Q24: 0 | R24: 78282965 | S24: 1767883 | T24: 0 | U24: 1767883 | V24: 78282965 | W24: 1767883 | X24: 1767883 | Y24: 0 | Z24: 1767883 | AA24: 0
A25: 210012 | B25: 2.1.1.01.02.004 | C25: IMEB | D25: Aportes a cajas de compensación familiar | E25: TRM | F25: 37549513 | G25: 0 | H25: 0 | I25: 0 | J25: 0 | K25: 0 | L25: 0 | M25: 37549513 | N25: 8138000 | O25: 2520800 | P25: 10658800 | Q25: 0 | R25: 26890713 | S25: 8138000 | T25: 2520800 | U25: 10658800 | V25: 26890713 | W25: 10658800 | X25: 5379400 | Y25: 2758600 | Z25: 8138000 | AA25: 2520800
A26: 210013 | B26: 2.1.1.01.02.005 | C26: IMEB | D26: Aportes generales al sistema de riesgos laborales | E26: TRM | F26: 4377708 | G26: 0 | H26: 0 | I26: 0 | J26: 0 | K26: 0 | L26: 0 | M26: 4377708 | N26: 1003700 | O26: 329500 | P26: 1333200 | Q26: 0 | R26: 3044508 | S26: 1003700 | T26: 329500 | U26: 1333200 | V26: 3044508 | W26: 1294800 | X26: 576300 | Y26: 365000 | Z26: 941300 | AA26: 391900
A27: 210014 | B27: 2.1.1.01.02.006 | C27: IMEB | D27: Aportes al ICBF | E27: TRM | F27: 28162135 | G27: 0 | H27: 0 | I27: 0 | J27: 0 | K27: 0 | L27: 0 | M27: 28162135 | N27: 6103400 | O27: 1890500 | P27: 7993900 | Q27: 0 | R27: 20168235 | S27: 6103400 | T27: 1890500 | U27: 7993900 | V27: 20168235 | W27: 7993900 | X27: 4034400 | Y27: 2069000 | Z27: 6103400 | AA27: 1890500
A28: 210015 | B28: 2.1.1.01.02.007 | C28: IMEB | D28: Aportes al SENA | E28: TRM | F28: 18774756 | G28: 0 | H28: 0 | I28: 0 | J28: 0 | K28: 0 | L28: 0 | M28: 18774756 | N28: 4070000 | O28: 1260600 | P28: 5330600 | Q28: 0 | R28: 13444156 | S28: 4070000 | T28: 1260600 | U28: 5330600 | V28: 13444156 | W28: 5330600 | X28: 2690200 | Y28: 1379800 | Z28: 4070000 | AA28: 1260600
B29: 2.1.1.01.03 | C29: IMEB | D29: Remuneraciones no constitutivas de factor salarial | F29: 65312398 | G29: 0 | H29: 0 | I29: 0 | J29: 0 | K29: 5950000 | L29: 0 | M29: 71262398 | N29: 10533694 | O29: 0 | P29: 10533694 | Q29: 0 | R29: 60728704 | S29: 10533694 | T29: 0 | U29: 10533694 | V29: 60728704 | W29: 10533694 | X29: 10533694 | Y29: 0 | Z29: 10533694 | AA29: 0
B30: 2.1.1.01.03.001 | C30: IMEB | D30: Prestaciones sociales | F30: 65312398 | G30: 0 | H30: 0 | I30: 0 | J30: 0 | K30: 5950000 | L30: 0 | M30: 71262398 | N30: 10533694 | O30: 0 | P30: 10533694 | Q30: 0 | R30: 60728704 | S30: 10533694 | T30: 0 | U30: 10533694 | V30: 60728704 | W30: 10533694 | X30: 10533694 | Y30: 0 | Z30: 10533694 | AA30: 0
A31: 210016 | B31: 2.1.1.01.03.001.01 | C31: IMEB | D31: Vacaciones | E31: TRM | F31: 52020738 | G31: 0 | H31: 0 | I31: 0 | J31: 0 | K31: 0 | L31: 0 | M31: 52020738 | N31: 9657967 | O31: 0 | P31: 9657967 | Q31: 0 | R31: 42362771 | S31: 9657967 | T31: 0 | U31: 9657967 | V31: 42362771 | W31: 9657967 | X31: 9657967 | Y31: 0 | Z31: 9657967 | AA31: 0
A32: 210017 | B32: 2.1.1.01.03.001.02 | C32: IMEB | D32: Indemnización por vacaciones | E32: TRM | F32: 9050000 | G32: 0 | H32: 0 | I32: 0 | J32: 0 | K32: 5950000 | L32: 0 | M32: 15000000 | N32: 0 | O32: 0 | P32: 0 | Q32: 0 | R32: 15000000 | S32: 0 | T32: 0 | U32: 0 | V32: 15000000 | W32: 0 | X32: 0 | Y32: 0 | Z32: 0 | AA32: 0
A33: 210018 | B33: 2.1.1.01.03.001.03 | C33: IMEB | D33: Bonificacion especial de recreación | E33: TRM | F33: 4241660 | G33: 0 | H33: 0 | I33: 0 | J33: 0 | K33: 0 | L33: 0 | M33: 4241660 | N33: 875727 | O33: 0 | P33: 875727 | Q33: 0 | R33: 3365933 | S33: 875727 | T33: 0 | U33: 875727 | V33: 3365933 | W33: 875727 | X33: 875727 | Y33: 0 | Z33: 875727 | AA33: 0
B34: 2.1.2 | C34: IMEB | D34: Adquisición de bienes y servicios | F34: 1147202923 | G34: 0 | H34: 0 | I34: 0 | J34: 0 | K34: 68712729 | L34: 98662729 | M34: 1117252923 | N34: 744831132 | O34: 71086765 | P34: 815917897 | Q34: 0 | R34: 301335026 | S34: 742962366 | T34: 70411765 | U34: 813374131 | V34: 303878792 | W34: 138098646 | X34: 62194836 | Y34: 73370476 | Z34: 135565312 | AA34: 677808819 | AB34: =+U34/M34 -> 0.72801253
B35: 2.1.2.02 | C35: IMEB | D35: Adquisiciones diferentes de activos | F35: 1147202923 | G35: 0 | H35: 0 | I35: 0 | J35: 0 | K35: 68712729 | L35: 98662729 | M35: 1117252923 | N35: 744831132 | O35: 71086765 | P35: 815917897 | Q35: 0 | R35: 301335026 | S35: 742962366 | T35: 70411765 | U35: 813374131 | V35: 303878792 | W35: 138098646 | X35: 62194836 | Y35: 73370476 | Z35: 135565312 | AA35: 677808819
B36: 2.1.2.02.01 | C36: IMEB | D36: Materiales y suministros | F36: 145511858 | G36: 0 | H36: 0 | I36: 0 | J36: 0 | K36: 35489168 | L36: 83192314 | M36: 97808712 | N36: 2998136 | O36: 6000000 | P36: 8998136 | Q36: 0 | R36: 88810576 | S36: 2998136 | T36: 6000000 | U36: 8998136 | V36: 88810576 | W36: 299814 | X36: 0 | Y36: 299814 | Z36: 299814 | AA36: 8698322
A37: 210019 | B37: 2.1.2.02.01.002 | C37: IMEB | D37: Productos alimenticios, bebidas y tabaco; textiles, prendas de vestir y productos de cuero | E37: TRM | F37: 8421848 | G37: 0 | H37: 0 | I37: 0 | J37: 0 | K37: 6576288 | L37: 0 | M37: 14998136 | N37: 2998136 | O37: 0 | P37: 2998136 | Q37: 0 | R37: 12000000 | S37: 2998136 | T37: 0 | U37: 2998136 | V37: 12000000 | W37: 299814 | X37: 0 | Y37: 299814 | Z37: 299814 | AA37: 2698322
A38: 210020 | B38: 2.1.2.02.01.003 | C38: IMEB | D38: Otros bienes transportables (excepto productos metálicos, maquinaria y equipo) | E38: TRM | F38: 23087120 | G38: 0 | H38: 0 | I38: 0 | J38: 0 | K38: 28912880 | L38: 0 | M38: 52000000 | N38: 0 | O38: 6000000 | P38: 6000000 | Q38: 0 | R38: 46000000 | S38: 0 | T38: 6000000 | U38: 6000000 | V38: 46000000 | W38: 0 | X38: 0 | Y38: 0 | Z38: 0 | AA38: 6000000
A39: 210021 | B39: 2.1.2.02.01.004 | C39: IMEB | D39: Productos metalicos y paquetes de software | E39: TRM | F39: 114002890 | G39: 0 | H39: 0 | I39: 0 | J39: 0 | K39: 0 | L39: 83192314 | M39: 30810576 | N39: 0 | O39: 0 | P39: 0 | Q39: 0 | R39: 30810576 | S39: 0 | T39: 0 | U39: 0 | V39: 30810576 | W39: 0 | X39: 0 | Y39: 0 | Z39: 0 | AA39: 0
B40: 2.1.2.02.02 | C40: IMEB | D40: Adquisición de servicios | F40: 1001691065 | G40: 0 | H40: 0 | I40: 0 | J40: 0 | K40: 33223561 | L40: 15470415 | M40: 1019444211 | N40: 741832996 | O40: 65086765 | P40: 806919761 | Q40: 0 | R40: 212524450 | S40: 739964230 | T40: 64411765 | U40: 804375995 | V40: 215068216 | W40: 137798832 | X40: 62194836 | Y40: 73070662 | Z40: 135265498 | AA40: 669110497
A41: 210022 | B41: 2.1.2.02.02.006 | C41: IMEB | D41: Servicios de alojamiento; servicios de suministro de comidas y bebidas; servicios de transporte; y servicios de distribución de electricidad, gas y agua | E41: TRM | F41: 8557935 | G41: 0 | H41: 0 | I41: 0 | J41: 0 | K41: 0 | L41: 6176298 | M41: 2381637 | N41: 2381637 | O41: 0 | P41: 2381637 | Q41: 0 | R41: 0 | S41: 2381637 | T41: 0 | U41: 2381637 | V41: 0 | W41: 582756 | X41: 382880 | Y41: 199876 | Z41: 582756 | AA41: 1798881
...
