Workbook
Name equipos: [1]ParaPriorizar!$C$65521:$C$65529

Sheet MIPG INSTITUCIONAL
AJ2: x
B3: PLAN DE ACCIÓN MODELO INTEGRADO DE PLANEACIÓN Y GESTIÓN MIPG 2021- 2022 Instituto Municipal de Empleo y Fomento Empresarial de Bucaramanga - IMEBU | P3: Código: F-MC-1000-238,37-064
P4: Versión: 2.0
P5: Fecha aprobación: Agosto-12-2021
P6: Página: 1 de 1
B7: Fecha Aprobación / Actualización Plan:
B8: DIMENSIÓN | C8: POLÍTICAS | D8: RESULTADO FURAG VIGENCIA ANTERIOR | E8: RECOMENDACIÓN DAFP | F8: ACTIVIDAD DE TRABAJO | G8: PRODUCTO / ENTREGABLE | H8: META | I8: LOGRO | M8: CUMPLIMIENTO ACUMULADO | N8: OBSERVACIONES | O8: RECURSOS | P8: RESPONSABLE | Q8: CRONOGRAMA DE TRABAJO | S8: AÑO 2022
I9: AÑO 2021 | K9: AÑO 2022 | Q9: AÑO 2021 | S9: AÑO 2022
I10: III Trim | J10: IV Trim | K10: I Trim | L10: II Trim | Q10: III Trim | R10: IV Trim | S10: I Trim | T10: II Trim
B11: Talento Humano | C11: Gestión Estratégica de Talento Humano | D11: 86.9 | E11: NA | F11: Actualizar los planes y programas que integran la dimensión estratégica del Talento Humano | G11: Plan Anual de Vacantes actualizado | H11: 1 | M11: ='PROGRAMACIÓN DE META '!AE5 -> 0 | O11: Talento Humano, Recursos Físicos y Tecnológicos | P11: Subdirección Administrativa y Financiera | S11: x
G12: Plan de previsión de recursos humanos actualizado | H12: 1 | M12: ='PROGRAMACIÓN DE META '!AE6 -> 0 | O12: Talento Humano, Recursos Físicos y Tecnológicos | P12: Subdirección Administrativa y Financiera | S12: x
G13: Plan estratégico de Talento humano actualizado | H13: 1 | M13: ='PROGRAMACIÓN DE META '!AE7 -> 0 | O13: Talento Humano, Recursos Físicos y Tecnológicos | P13: Subdirección Administrativa y Financiera | S13: x
G14: Plan Institucional de Capacitación actualizado | H14: 1 | M14: ='PROGRAMACIÓN DE META '!AE8 -> 0 | O14: Talento Humano, Recursos Físicos y Tecnológicos | P14: Subdirección Administrativa y Financiera | S14: x
G15: Plan de Bienestar Institucional e Incentivos actualizado | H15: 1 | M15: ='PROGRAMACIÓN DE META '!AE9 -> 0 | O15: Talento Humano, Recursos Físicos y Tecnológicos | P15: Subdirección Administrativa y Financiera | S15: x
G16: Plan Anual de seguridad y salud en el trabajo actualizado | H16: 1 | M16: ='PROGRAMACIÓN DE META '!AE10 -> 0 | O16: Talento Humano, Recursos Físicos y Tecnológicos | P16: Subdirección Administrativa y Financiera | S16: x
E17: NA | F17: Implementar el Plan Anual de Seguridad y salud en el trabajo de acuerdo al cronograma de actividades año 2021- 2022. | G17: Informes del plan de seguridad y salud en el trabajo implementado 2021 | H17: 2 | M17: ='PROGRAMACIÓN DE META '!AE11 -> 0 | N17: Durante el tercer y cuarto trimestre de 2021, se realizó la definición y actualización del plan de trabajo SST, renovación y capacitación de los comités (copaso y cocolab), actualización de los requisitos legales del sistema de SST, revisión y actualización de los indicadores, aplicación y análisis de estadística de morbilidad , inspecciones de orden y aseo , jornadas de capacitación a brigadas de emergencia y seguimiento al plan de capacitaciones de SST | O17: Talento Humano, Recursos Físicos y Tecnológicos | P17: Subdirección Administrativa y Financiera | Q17: x | R17: x
G18: Informes del plan de seguridad y salud en el trabajo implementado 2022 | H18: 2 | M18: ='PROGRAMACIÓN DE META '!AE12 -> 0 | O18: Talento Humano, Recursos Físicos y Tecnológicos | P18: Subdirección Administrativa y Financiera | S18: x | T18: x
E19: PIR4,IR11, IR12,IR13, | F19: Implementar Plan Institucional de Capacitación de acuerdo al cronograma de actividades año 2021- año 2022 | G19: Informes del Plan Institucional de capacitación implementado 2021 | H19: 2 | M19: ='PROGRAMACIÓN DE META '!AE13 -> 0 | N19: Se realizó el informe de ejecución de actividades de acuerdo al cronograma del PIC | O19: Talento Humano, Recursos Físicos y Tecnológicos | P19: Subdirección Administrativa y Financiera | Q19: x | R19: x
G20: Informes del plan Institucional de capacitación implementado 2022 | H20: 2 | M20: ='PROGRAMACIÓN DE META '!AE14 -> 0 | O20: Talento Humano, Recursos Físicos y Tecnológicos | P20: Subdirección Administrativa y Financiera | S20: x | T20: x
E21: RN GETH04 | F21: Implementar Plan de Bienestar Institucional e incentivos de acuerdo al cronograma de actividades año 2021- 2022 | G21: Informes del Plan de Bienestar e incentivos implementado 2021 | H21: 2 | M21: ='PROGRAMACIÓN DE META '!AE15 -> 0 | N21: Se realizó el informe de ejecución de actividades de acuerdo al cronograma de Bienestar | O21: Talento Humano, Recursos Físicos y Tecnológicos | P21: Subdirección Administrativa y Financiera | Q21: x | R21: x
G22: Informes de los Planes de Bienestar e incentivos implementados 2022 | H22: 2 | M22: ='PROGRAMACIÓN DE META '!AE16 -> 0 | O22: Talento Humano, Recursos Físicos y Tecnológicos | P22: Subdirección Administrativa y Financiera | S22: x | T22: x
E23: GETHR13 | F23: Implementar actividades de salario emocional para promover el bienestar de los servidores públicos | G23: Acciones realizadas que permitan resaltar y estimular a los servidores públicos como reconocimiento a sus labores | H23: 1 | M23: ='PROGRAMACIÓN DE META '!AE17 -> 0 | N23: Se realizó la conmemoración del servidor público en la sede COMFENALCO el día 23 de septiembre de 2021 y en el último trimestre de 2021 se realizó reunión de cierre de vigencia y novenas navideñas 2021. | O23: Talento Humano, Recursos Físicos y Tecnológicos | P23: Subdirección Administrativa y Financiera | Q23: x | R23: x
E24: GETHR11 | F24: Desarrollar un diagnóstico de la accesibilidad y análisis de los puestos de trabajo, con recomendaciones para la implementación de ajustes razonables de acuerdo con los servidores públicos vinculados, en especial aquellos con discapacidad. | G24: Diagnóstico de accesibilidad y análisis de puestos de trabajo servidores públicos vinculados y funcionarios con discapacidad | H24: 1 | M24: ='PROGRAMACIÓN DE META '!AE18 -> 0 | N24: Se realizó el diagnóstico y análisis de puestos de trabajo. | O24: Talento Humano, Recursos Físicos y Tecnológicos | P24: Subdirección Administrativa y Financiera | Q24: x | R24: x
E25: NA | F25: Analizar y tomar las medidas de mejora que contribuyan al fortalecimiento del clima laboral en la entidad. | G25: Informe Intervención del clima organizacional | H25: 1 | M25: ='PROGRAMACIÓN DE META '!AE19 -> 0 | N25: Se están ejecutando actividades de intervención de conformidad con los resultados del diagnóstico. | O25: Talento Humano, Recursos Físicos y Tecnológicos | P25: Subdirección Administrativa y Financiera | R25: x
C26: Integridad | D26: 70.3 | E26: IR14 | F26: Fortalecer los canales de denuncia y seguimiento frente a situaciones disciplinarias y de conflictos de interés que faciliten la formulación e implementación oportuna de acciones de control y sanción de los conflictos de interés. | G26: Formulario de denuncias implementado en línea | H26: 1 | M26: ='PROGRAMACIÓN DE META '!AE20 -> 0 | O26: Talento Humano, Recursos Físicos y Tecnológicos | P26: Subdirección Administrativa y Financiera | R26: x
E27: IR11, IR12,IR13 | F27: Socializar y sensibilizar los valores del código de integridad | G27: Código de integridad socializado | H27: 1 | M27: ='PROGRAMACIÓN DE META '!AE21 -> 0 | N27: Se han socializado los valores del código de integridad y se han realizado actividades alusivas a estos. | O27: Talento Humano, Recursos Físicos y Tecnológicos | P27: Subdirección Administrativa y Financiera | R27: x
E28: IR 2 | F28: Monitorear en la página del SIGEP el registro Declaración de bienes y rentas y/o conflictos de interés de los obligados conforme la Ley 2013 de 2019 | G28: Informe de monitoreo del registro de las declaraciones de bienes, rentas y conflicto de interés de contratistas y servidores públicos . | H28: 1 | M28: ='PROGRAMACIÓN DE META '!AE22 -> 0 | N28: Los contratistas en el momento que realizan la contratación actualizan declaración de bienes y rentas en la plataforma del SIGEP, y la declaración de conflictos de interés, los formatos ya se compartieron para su diligenciamiento. | O28: Talento Humano, Recursos Físicos y Tecnológicos | P28: Subdirección Administrativa y Financiera | R28: x
B29: Direccionamiento Estratégico y Planeación | C29: Planeación Institucional | D29: 84.9 | E29: NA | F29: Formular el Plan Anticorrupción y Atención al ciudadano 2021 - 2022 | G29: Plan Anticorrupción y Atención al ciudadano formulado PAAC 2021 | H29: 1 | M29: ='PROGRAMACIÓN DE META '!AE23 -> 0 | N29: El Plan Anticorrupción y Atención al Ciudadano 2021 Se formuló y fue publicado en página WEB (LA ACCION SE DEBE AJUSTAR: REALIZAR MONITOREO AL PAAC 2021) | O29: Talento Humano, Recursos Físicos y Tecnológicos | P29: Subdirección Técnica | R29: x
G30: Plan anticorrupción y Atención al ciudadano formulado PAAC 2022 | H30: 1 | M30: ='PROGRAMACIÓN DE META '!AE24 -> 0 | O30: Talento Humano, Recursos Físicos y Tecnológicos | P30: Subdirección Técnica | S30: x
E31: NA | F31: Socializar Plan Estratégico Institucional año 2022 | G31: Plan estratégico Institucional 2022 socializado | H31: 1 | M31: ='PROGRAMACIÓN DE META '!AE25 -> 0 | O31: Talento Humano, Recursos Físicos y Tecnológicos | P31: Subdirección Técnica | S31: x
E32: NA | F32: Formular e implementar planes de mejora que promuevan una gestión transparente y efectiva, además contribuyan a la mitigación de los riesgos de la entidad | G32: Planes de mejoramiento formulados e implementados | H32: 1 | M32: ='PROGRAMACIÓN DE META '!AE26 -> 0 | N32: El instituto a la fecha presenta dos planes de mejoramiento, uno suscrito con la Contraloría Municipal y otro con la Oficina de Control Interno, a los cuales se está dando cumplimiento a las acciones de mejora. | O32: Talento Humano, Recursos Físicos y Tecnológicos | P32: Subdirección Técnica | R32: x
E33: NA | F33: Realizar monitoreo a la Matriz de Indicadores de Gestión año 2021- 2022 | G33: Informe de monitoreo de la matriz de indicadores de gestión año 2021. | H33: 2 | M33: ='PROGRAMACIÓN DE META '!AE27 -> 0 | N33: Se realizó el informe de monitoreo de la matriz de indicadores de gestión por cada proceso con corte 30 de septiembre de 2021 y a corte de 30 de diciembre de 2021 | O33: Talento Humano, Recursos Físicos y Tecnológicos | P33: Subdirección Técnica | Q33: x | R33: x
G34: Informe de monitoreo matriz de indicadores de gestión año 2022 . | H34: 2 | M34: ='PROGRAMACIÓN DE META '!AE28 -> 0 | O34: Talento Humano, Recursos Físicos y Tecnológicos | P34: Subdirección Técnica | S34: x | T34: x
C35: Compras y contratación Pública | D35: NA | E35: NA | F35: Diseñar e implementar los procedimientos de contratación directa y mínimas cuantías que se ajusten a los lineamientos y estándares propuestos a través de los decretos, manuales, guías y documentos tipo, establecidos en Colombia compra eficiente a través de la plataforma - SECOP ll | G35: Procedimientos contratación directa y mínima cuantía implementados de acuerdo a las guías y manuales de Colombia compra eficiente y SECOP Il | H35: 2 | M35: ='PROGRAMACIÓN DE META '!AE29 -> 0 | N35: Se han avanzado en los procedimientos de prestación de servicios, y publicación SECOP I y SECOP II | O35: Talento Humano, Recursos Físicos y Tecnológicos | P35: Jurídica | R35: x | T35: x
C36: Gestión presupuestal y eficiencia en el gasto público | D36: NA | E36: NA | F36: Elaborar y mantener actualizado Plan anual de adquisiciones | G36: Plan anual de adquisiones - PAA actualizado | H36: 4 | M36: ='PROGRAMACIÓN DE META '!AE30 -> 0 | N36: Se adjunta resolución de actualización PAA- Plan Anual de adquisiciones | O36: Talento Humano, Recursos Físicos y Tecnológicos | P36: Subdirección Administrativa y Financiera | Q36: x | R36: x | S36: x | T36: x
F37: Realizar seguimiento a la ejecución presupuestal acorde al Plan anual de adquisiones | G37: Actas de comité de desempeño con seguimiento a la ejecución presupuestal | H37: 2 | M37: ='PROGRAMACIÓN DE META '!AE31 -> 0 | O37: Talento Humano, Recursos Físicos y Tecnológicos | P37: Subdirección Administrativa y Financiera | R37: x | T37: x
F38: Realizar seguimiento al cumplimiento de la elaboración del programa mensualizado de caja año 2021 y 2022 | G38: Seguimiento Programa Mensualizado de caja 2021 | H38: 6 | M38: ='PROGRAMACIÓN DE META '!AE32 -> 0 | N38: Se tienen como evidencias los programas mensualizados de caja | O38: Talento Humano, Recursos Físicos y Tecnológicos | P38: Subdirección Administrativa y Financiera | Q38: x | R38: x
G39: Seguimiento Programa Mensualizado de caja 2022 | H39: 6 | M39: ='PROGRAMACIÓN DE META '!AE33 -> 0 | O39: Talento Humano, Recursos Físicos y Tecnológicos | P39: Subdirección Administrativa y Financiera | S39: x | T39: x
B40: Gestión para Resultados con Valores | C40: Fortalecimiento organizacional y simplificación de procesos | D40: 71.1 | E40: NA | F40: Implementar mejoras continuas al Sistema Integrado de Gestión de calidad | G40: Procedimientos y formatos actualizados | H40: 1 | M40: ='PROGRAMACIÓN DE META '!AE34 -> 0 | N40: Se tiene como evidencia acta de comité MIPG de los procedimientos actualizados | O40: Talento Humano, Recursos Físicos y Tecnológicos | P40: Subdirección Técnica | R40: x | T40: x
E41: P1R2, FO2,GETHR2 | F41: Actualizar y ajustar el Manual de funciones conforme al Decreto 1083 de 2015, Decreto 815 de 2018, la Ley 1955 de 2019 y al Decreto 2365 de 2019, decreto 989 de 2020 | G41: Manual de funciones actualizado | H41: 1 | M41: ='PROGRAMACIÓN DE META '!AE35 -> 0 | N41: Se realizó la actualización y se encuentra en revisión de funciones y responsabilidades por cada uno de los funcionarios , el cargo de Control Interno ya se aprobó para llevar Consejo Directivo. | O41: Talento Humano, Recursos Físicos y Tecnológicos | P41: Subdirección Administrativa y Financiera | R41: x
...

Sheet TABLA DINÁMICA
B3: OATIC | C3: OCIG | D3: Oficina de Prensa y Comunicaciones | E3: Sec. Administrativa | F3: Sec. de Educación | G3: Sec. de Hacienda | H3: Sec. de Infraestructura | I3: Sec. de Interior | J3: Sec. de Planeación | K3: Sec. de Salud y Ambiente | L3: Sec. Jurídica | M3: Total general
A4: Promedio de III TRIM 20217 | B4: 0.70656566 | C4: 1 | D4: 1 | E4: 0.71153846 | F4: 0.5 | G4: 0.75 | H4: 0.75 | I4: 1 | J4: 0.92647059 | K4: 1 | L4: 0.8 | M4: 0.78479501

Sheet PROGRAMACIÓN DE META 
I3: LOGRO | M3: PROGRAMACIÓN DESAGREGADA | R3: PROGRAMACIÓN TRIMESTRAL | AA3: CUMPLIMIENTO
B4: DIMENSIÓN | C4: POLÍTICA | D4: ACTIVIDAD | E4: PRODUCTO | F4: TIPO DE META | G4: N.X | H4: META | I4: LOGRO III TRIM 2021 | J4: LOGRO IV TRIM 2021 | K4: LOGRO I TRIM 2022 | L4: LOGRO II TRIM 2022 | M4: III TRIM 2021 | N4: IV TRIM 2021 | O4: I TRIM 2022 | P4: II TRIM 2022 | Q4: VAL | R4: III TRIM 20212 | S4: IV TRIM 20213 | T4: I TRIM 20224 | U4: II TRIM 20225 | V4: Calculo1 | W4: Calculo2 | X4: Calculo3 | Y4: Calculo4 | Z4: Calculo5 | AA4: III TRIM 20217 | AB4: IV TRIM 20218 | AC4: I TRIM 20229 | AD4: II TRIM 202210 | AE4: ACUMULADO 2021 -2022 | AF4: OBSERVACIONES | AG4: RECURSOS | AH4: DEPENDENCIA | AI4: RESPONSABLE
B5: Talento Humano | C5: Gestión estratégica del talento humano | D5: ='MIPG INSTITUCIONAL'!F11 -> Actualizar los planes y programas que integran la dimensión estratégica del Talento Humano | E5: ='MIPG INSTITUCIONAL'!G11 -> Plan Anual de Vacantes actualizado | F5: INCREMENTO | G5: =COUNTIF(R5:U5,"x") -> 1 | H5: ='MIPG INSTITUCIONAL'!H11 -> 1 | I5: ='MIPG INSTITUCIONAL'!I11 -> 0 | J5: ='MIPG INSTITUCIONAL'!J11 -> 0 | K5: ='MIPG INSTITUCIONAL'!K11 -> 0 | L5: ='MIPG INSTITUCIONAL'!L11 -> 0 | O5: 1 | Q5: =_xlfn.IFNA(IF(_xlfn.IFS(F5="MANTENIMIENTO",SUM(M5:P5)/G5,F5="INCREMENTO",SUM(M5:P5))=H5,"SI",""),"") -> SI | R5: ='MIPG INSTITUCIONAL'!Q11 -> 0 | S5: ='MIPG INSTITUCIONAL'!R11 -> 0 | T5: ='MIPG INSTITUCIONAL'!S11 -> x | U5: ='MIPG INSTITUCIONAL'!T11 -> 0 | V5: =_xlfn.IFNA(_xlfn.IFS(AND(M5="",I5>0.001),"1",AND(M5>0.001,I5>0.001),"2",AND(M5>0.001,I5=0),"3"),"4") -> 4 | W5: =_xlfn.IFNA(_xlfn.IFS(AND(N5="",J5>0.001),"1",AND(N5>0.001,J5>0.001),"2",AND(N5>0.001,J5=0),"3"),"4") -> 4 | X5: =_xlfn.IFNA(_xlfn.IFS(AND(O5="",K5>0.001),"1",AND(O5>0.001,K5>0.001),"2",AND(O5>0.001,K5=0),"3"),"4") -> 3 | Y5: =_xlfn.IFNA(_xlfn.IFS(AND(P5="",L5>0.001),"1",AND(P5>0.001,L5>0.001),"2",AND(P5>0.001,L5=0),"3"),"4") -> 4 | Z5: =IF((IF(Tabla2[[#This Row],[Calculo1 ]]="1",_xlfn.IFS(W5="1",IF((J5/H5)>100%,100%,J5/H5),W5="2",IF((J5/N5)>100%,100%,J5/N5),W5="3","0%",W5="4","0")+Tabla2[[#This Row],[ III TRIM 20217]],_xlfn.IFS(W5="1",IF((J5/H5)>100%,100%,J5/H5),W5="2",IF((J5/N5)>100%,100%,J5/N5),W5="3","0%",W5="4","")))=100%,100%,(IF(Tabla2[[#This Row],[Calculo1 ]]="1",_xlfn.IFS(W5="1",IF((J5/H5)>100%,100%,J5/H5),W5="2",IF((J5/N5)>100%,100%,J5/N5),W5="3","0%",W5="4","0")+Tabla2[[#This Row],[ III TRIM 20217]],_xlfn.IFS(W5="1",IF((J5/H5)>100%,100%,J5/H5),W5="2",IF((J5/N5)>100%,100%,J5/N5),W5="3","0%",W5="4","")))) | AA5: =_xlfn.IFS(V5="1",IF((I5/H5)>100%,"100%",I5/H5),V5="2",IF((I5/M5)>100%,"100%",I5/M5),V5="3","0%",V5="4","") | AB5: =_xlfn.IFNA(INDEX(Hoja1!$C$3:$C$230,MATCH(Tabla2[[#This Row],[Calculo5]],Hoja1!$B$3:$B$230,0)),"") | AC5: =_xlfn.IFS(X5="1",IF((K5/J5)>100%,"100%",K5/J5),X5="2",IF((K5/O5)>100%,"100%",K5/O5),X5="3","0%",X5="4","") -> 0% | AD5: =_xlfn.IFS(Y5="1",IF((L5/K5)>100%,"100%",L5/K5),Y5="2",IF((L5/P5)>100%,"100%",L5/P5),Y5="3","0%",Y5="4","") | AE5: =IF(IF(F5="","ESPECÍFICAR TIPO DE META",_xlfn.IFNA(_xlfn.IFS(SUM(I5:L5)=0,0%,SUM(I5:L5)>0.001,(_xlfn.IFS(F5="INCREMENTO",SUM(I5:L5)/H5,F5="MANTENIMIENTO",SUM(I5:L5)/(H5*Tabla2[[#This Row],[N.X]])))),"ESPECÍFICAR TIPO DE META"))>1,"100%",IF(F5="","ESPECÍFICAR TIPO DE META",_xlfn.IFNA(_xlfn.IFS(SUM(I5:L5)=0,0%,SUM(I5:L5)>0.001,(_xlfn.IFS(F5="INCREMENTO",SUM(I5:L5)/H5,F5="MANTENIMIENTO",SUM(I5:L5)/(H5*Tabla2[[#This Row],[N.X]])))),"ESPECÍFICAR TIPO DE META"))) -> 0 | AF5: ='MIPG INSTITUCIONAL'!N11 -> 0 | AG5: ='MIPG INSTITUCIONAL'!O11 -> Talento Humano, Recursos Físicos y Tecnológicos | AH5: ='MIPG INSTITUCIONAL'!P11 -> Subdirección Administrativa y Financiera | AI5: ='MIPG INSTITUCIONAL'!P11 -> Subdirección Administrativa y Financiera | BB5: INCREMENTO
B6: Talento Humano | C6: Gestión estratégica del talento humano | D6: =D5 -> Actualizar los planes y programas que integran la dimensión estratégica del Talento Humano | E6: ='MIPG INSTITUCIONAL'!G12 -> Plan de previsión de recursos humanos actualizado | F6: INCREMENTO | G6: =COUNTIF(R6:U6,"x") -> 1 | H6: ='MIPG INSTITUCIONAL'!H12 -> 1 | I6: ='MIPG INSTITUCIONAL'!I12 -> 0 | J6: ='MIPG INSTITUCIONAL'!J12 -> 0 | K6: ='MIPG INSTITUCIONAL'!K12 -> 0 | L6: ='MIPG INSTITUCIONAL'!L12 -> 0 | O6: 1 | Q6: =_xlfn.IFNA(IF(_xlfn.IFS(F6="MANTENIMIENTO",SUM(M6:P6)/G6,F6="INCREMENTO",SUM(M6:P6))=H6,"SI",""),"") -> SI | R6: ='MIPG INSTITUCIONAL'!Q12 -> 0 | S6: ='MIPG INSTITUCIONAL'!R12 -> 0 | T6: ='MIPG INSTITUCIONAL'!S12 -> x | U6: ='MIPG INSTITUCIONAL'!T12 -> 0 | V6: =_xlfn.IFNA(_xlfn.IFS(AND(M6="",I6>0.001),"1",AND(M6>0.001,I6>0.001),"2",AND(M6>0.001,I6=0),"3"),"4") -> 4 | W6: =_xlfn.IFNA(_xlfn.IFS(AND(N6="",J6>0.001),"1",AND(N6>0.001,J6>0.001),"2",AND(N6>0.001,J6=0),"3"),"4") -> 4 | X6: =_xlfn.IFNA(_xlfn.IFS(AND(O6="",K6>0.001),"1",AND(O6>0.001,K6>0.001),"2",AND(O6>0.001,K6=0),"3"),"4") -> 3 | Y6: =_xlfn.IFNA(_xlfn.IFS(AND(P6="",L6>0.001),"1",AND(P6>0.001,L6>0.001),"2",AND(P6>0.001,L6=0),"3"),"4") -> 4 | Z6: =IF((IF(Tabla2[[#This Row],[Calculo1 ]]="1",_xlfn.IFS(W6="1",IF((J6/H6)>100%,100%,J6/H6),W6="2",IF((J6/N6)>100%,100%,J6/N6),W6="3","0%",W6="4","0")+Tabla2[[#This Row],[ III TRIM 20217]],_xlfn.IFS(W6="1",IF((J6/H6)>100%,100%,J6/H6),W6="2",IF((J6/N6)>100%,100%,J6/N6),W6="3","0%",W6="4","")))=100%,100%,(IF(Tabla2[[#This Row],[Calculo1 ]]="1",_xlfn.IFS(W6="1",IF((J6/H6)>100%,100%,J6/H6),W6="2",IF((J6/N6)>100%,100%,J6/N6),W6="3","0%",W6="4","0")+Tabla2[[#This Row],[ III TRIM 20217]],_xlfn.IFS(W6="1",IF((J6/H6)>100%,100%,J6/H6),W6="2",IF((J6/N6)>100%,100%,J6/N6),W6="3","0%",W6="4","")))) | AA6: =_xlfn.IFS(V6="1",IF((I6/H6)>100%,"100%",I6/H6),V6="2",IF((I6/M6)>100%,"100%",I6/M6),V6="3","0%",V6="4","") | AB6: =_xlfn.IFNA(INDEX(Hoja1!$C$3:$C$230,MATCH(Tabla2[[#This Row],[Calculo5]],Hoja1!$B$3:$B$230,0)),"") | AC6: =_xlfn.IFS(X6="1",IF((K6/J6)>100%,"100%",K6/J6),X6="2",IF((K6/O6)>100%,"100%",K6/O6),X6="3","0%",X6="4","") -> 0% | AD6: =_xlfn.IFS(Y6="1",IF((L6/K6)>100%,"100%",L6/K6),Y6="2",IF((L6/P6)>100%,"100%",L6/P6),Y6="3","0%",Y6="4","") | AE6: =IF(IF(F6="","ESPECÍFICAR TIPO DE META",_xlfn.IFNA(_xlfn.IFS(SUM(I6:L6)=0,0%,SUM(I6:L6)>0.001,(_xlfn.IFS(F6="INCREMENTO",SUM(I6:L6)/H6,F6="MANTENIMIENTO",SUM(I6:L6)/(H6*Tabla2[[#This Row],[N.X]])))),"ESPECÍFICAR TIPO DE META"))>1,"100%",IF(F6="","ESPECÍFICAR TIPO DE META",_xlfn.IFNA(_xlfn.IFS(SUM(I6:L6)=0,0%,SUM(I6:L6)>0.001,(_xlfn.IFS(F6="INCREMENTO",SUM(I6:L6)/H6,F6="MANTENIMIENTO",SUM(I6:L6)/(H6*Tabla2[[#This Row],[N.X]])))),"ESPECÍFICAR TIPO DE META"))) -> 0 | AF6: ='MIPG INSTITUCIONAL'!N12 -> 0 | AG6: ='MIPG INSTITUCIONAL'!O12 -> Talento Humano, Recursos Físicos y Tecnológicos | AH6: ='MIPG INSTITUCIONAL'!P12 -> Subdirección Administrativa y Financiera | AI6: ='MIPG INSTITUCIONAL'!P12 -> Subdirección Administrativa y Financiera | BB6: MANTENIMIENTO
B7: Talento Humano | C7: Gestión estratégica del talento humano | D7: =D5 -> Actualizar los planes y programas que integran la dimensión estratégica del Talento Humano | E7: ='MIPG INSTITUCIONAL'!G13 -> Plan estratégico de Talento humano actualizado | F7: INCREMENTO | G7: =COUNTIF(R7:U7,"x") -> 1 | H7: ='MIPG INSTITUCIONAL'!H13 -> 1 | I7: ='MIPG INSTITUCIONAL'!I13 -> 0 | J7: ='MIPG INSTITUCIONAL'!J13 -> 0 | K7: ='MIPG INSTITUCIONAL'!K13 -> 0 | L7: ='MIPG INSTITUCIONAL'!L13 -> 0 | O7: 1 | Q7: =_xlfn.IFNA(IF(_xlfn.IFS(F7="MANTENIMIENTO",SUM(M7:P7)/G7,F7="INCREMENTO",SUM(M7:P7))=H7,"SI",""),"") -> SI | R7: ='MIPG INSTITUCIONAL'!Q13 -> 0 | S7: ='MIPG INSTITUCIONAL'!R13 -> 0 | T7: ='MIPG INSTITUCIONAL'!S13 -> x | U7: ='MIPG INSTITUCIONAL'!T13 -> 0 | V7: =_xlfn.IFNA(_xlfn.IFS(AND(M7="",I7>0.001),"1",AND(M7>0.001,I7>0.001),"2",AND(M7>0.001,I7=0),"3"),"4") -> 4 | W7: =_xlfn.IFNA(_xlfn.IFS(AND(N7="",J7>0.001),"1",AND(N7>0.001,J7>0.001),"2",AND(N7>0.001,J7=0),"3"),"4") -> 4 | X7: =_xlfn.IFNA(_xlfn.IFS(AND(O7="",K7>0.001),"1",AND(O7>0.001,K7>0.001),"2",AND(O7>0.001,K7=0),"3"),"4") -> 3 | Y7: =_xlfn.IFNA(_xlfn.IFS(AND(P7="",L7>0.001),"1",AND(P7>0.001,L7>0.001),"2",AND(P7>0.001,L7=0),"3"),"4") -> 4 | Z7: =IF((IF(Tabla2[[#This Row],[Calculo1 ]]="1",_xlfn.IFS(W7="1",IF((J7/H7)>100%,100%,J7/H7),W7="2",IF((J7/N7)>100%,100%,J7/N7),W7="3","0%",W7="4","0")+Tabla2[[#This Row],[ III TRIM 20217]],_xlfn.IFS(W7="1",IF((J7/H7)>100%,100%,J7/H7),W7="2",IF((J7/N7)>100%,100%,J7/N7),W7="3","0%",W7="4","")))=100%,100%,(IF(Tabla2[[#This Row],[Calculo1 ]]="1",_xlfn.IFS(W7="1",IF((J7/H7)>100%,100%,J7/H7),W7="2",IF((J7/N7)>100%,100%,J7/N7),W7="3","0%",W7="4","0")+Tabla2[[#This Row],[ III TRIM 20217]],_xlfn.IFS(W7="1",IF((J7/H7)>100%,100%,J7/H7),W7="2",IF((J7/N7)>100%,100%,J7/N7),W7="3","0%",W7="4","")))) | AA7: =_xlfn.IFS(V7="1",IF((I7/H7)>100%,"100%",I7/H7),V7="2",IF((I7/M7)>100%,"100%",I7/M7),V7="3","0%",V7="4","") | AB7: =_xlfn.IFNA(INDEX(Hoja1!$C$3:$C$230,MATCH(Tabla2[[#This Row],[Calculo5]],Hoja1!$B$3:$B$230,0)),"") | AC7: =_xlfn.IFS(X7="1",IF((K7/J7)>100%,"100%",K7/J7),X7="2",IF((K7/O7)>100%,"100%",K7/O7),X7="3","0%",X7="4","") -> 0% | AD7: =_xlfn.IFS(Y7="1",IF((L7/K7)>100%,"100%",L7/K7),Y7="2",IF((L7/P7)>100%,"100%",L7/P7),Y7="3","0%",Y7="4","") | AE7: =IF(IF(F7="","ESPECÍFICAR TIPO DE META",_xlfn.IFNA(_xlfn.IFS(SUM(I7:L7)=0,0%,SUM(I7:L7)>0.001,(_xlfn.IFS(F7="INCREMENTO",SUM(I7:L7)/H7,F7="MANTENIMIENTO",SUM(I7:L7)/(H7*Tabla2[[#This Row],[N.X]])))),"ESPECÍFICAR TIPO DE META"))>1,"100%",IF(F7="","ESPECÍFICAR TIPO DE META",_xlfn.IFNA(_xlfn.IFS(SUM(I7:L7)=0,0%,SUM(I7:L7)>0.001,(_xlfn.IFS(F7="INCREMENTO",SUM(I7:L7)/H7,F7="MANTENIMIENTO",SUM(I7:L7)/(H7*Tabla2[[#This Row],[N.X]])))),"ESPECÍFICAR TIPO DE META"))) -> 0 | AF7: ='MIPG INSTITUCIONAL'!N13 -> 0 | AG7: ='MIPG INSTITUCIONAL'!O13 -> Talento Humano, Recursos Físicos y Tecnológicos | AH7: ='MIPG INSTITUCIONAL'!P13 -> Subdirección Administrativa y Financiera | AI7: ='MIPG INSTITUCIONAL'!P13 -> Subdirección Administrativa y Financiera
B8: Talento Humano | C8: Gestión estratégica del talento humano | D8: =+D5 -> Actualizar los planes y programas que integran la dimensión estratégica del Talento Humano | E8: ='MIPG INSTITUCIONAL'!G14 -> Plan Institucional de Capacitación actualizado | F8: INCREMENTO | G8: =COUNTIF(R8:U8,"x") -> 1 | H8: ='MIPG INSTITUCIONAL'!H14 -> 1 | I8: ='MIPG INSTITUCIONAL'!I14 -> 0 | J8: ='MIPG INSTITUCIONAL'!J14 -> 0 | K8: ='MIPG INSTITUCIONAL'!K14 -> 0 | L8: ='MIPG INSTITUCIONAL'!L14 -> 0 | O8: 1 | Q8: =_xlfn.IFNA(IF(_xlfn.IFS(F8="MANTENIMIENTO",SUM(M8:P8)/G8,F8="INCREMENTO",SUM(M8:P8))=H8,"SI",""),"") -> SI | R8: ='MIPG INSTITUCIONAL'!Q14 -> 0 | S8: ='MIPG INSTITUCIONAL'!R14 -> 0 | T8: ='MIPG INSTITUCIONAL'!S14 -> x | U8: ='MIPG INSTITUCIONAL'!T14 -> 0 | V8: =_xlfn.IFNA(_xlfn.IFS(AND(M8="",I8>0.001),"1",AND(M8>0.001,I8>0.001),"2",AND(M8>0.001,I8=0),"3"),"4") -> 4 | W8: =_xlfn.IFNA(_xlfn.IFS(AND(N8="",J8>0.001),"1",AND(N8>0.001,J8>0.001),"2",AND(N8>0.001,J8=0),"3"),"4") -> 4 | X8: =_xlfn.IFNA(_xlfn.IFS(AND(O8="",K8>0.001),"1",AND(O8>0.001,K8>0.001),"2",AND(O8>0.001,K8=0),"3"),"4") -> 3 | Y8: =_xlfn.IFNA(_xlfn.IFS(AND(P8="",L8>0.001),"1",AND(P8>0.001,L8>0.001),"2",AND(P8>0.001,L8=0),"3"),"4") -> 4 | Z8: =IF((IF(Tabla2[[#This Row],[Calculo1 ]]="1",_xlfn.IFS(W8="1",IF((J8/H8)>100%,100%,J8/H8),W8="2",IF((J8/N8)>100%,100%,J8/N8),W8="3","0%",W8="4","0")+Tabla2[[#This Row],[ III TRIM 20217]],_xlfn.IFS(W8="1",IF((J8/H8)>100%,100%,J8/H8),W8="2",IF((J8/N8)>100%,100%,J8/N8),W8="3","0%",W8="4","")))=100%,100%,(IF(Tabla2[[#This Row],[Calculo1 ]]="1",_xlfn.IFS(W8="1",IF((J8/H8)>100%,100%,J8/H8),W8="2",IF((J8/N8)>100%,100%,J8/N8),W8="3","0%",W8="4","0")+Tabla2[[#This Row],[ III TRIM 20217]],_xlfn.IFS(W8="1",IF((J8/H8)>100%,100%,J8/H8),W8="2",IF((J8/N8)>100%,100%,J8/N8),W8="3","0%",W8="4","")))) | AA8: =_xlfn.IFS(V8="1",IF((I8/H8)>100%,"100%",I8/H8),V8="2",IF((I8/M8)>100%,"100%",I8/M8),V8="3","0%",V8="4","") | AB8: =_xlfn.IFNA(INDEX(Hoja1!$C$3:$C$230,MATCH(Tabla2[[#This Row],[Calculo5]],Hoja1!$B$3:$B$230,0)),"") | AC8: =_xlfn.IFS(X8="1",IF((K8/J8)>100%,"100%",K8/J8),X8="2",IF((K8/O8)>100%,"100%",K8/O8),X8="3","0%",X8="4","") -> 0% | AD8: =_xlfn.IFS(Y8="1",IF((L8/K8)>100%,"100%",L8/K8),Y8="2",IF((L8/P8)>100%,"100%",L8/P8),Y8="3","0%",Y8="4","") | AE8: =IF(IF(F8="","ESPECÍFICAR TIPO DE META",_xlfn.IFNA(_xlfn.IFS(SUM(I8:L8)=0,0%,SUM(I8:L8)>0.001,(_xlfn.IFS(F8="INCREMENTO",SUM(I8:L8)/H8,F8="MANTENIMIENTO",SUM(I8:L8)/(H8*Tabla2[[#This Row],[N.X]])))),"ESPECÍFICAR TIPO DE META"))>1,"100%",IF(F8="","ESPECÍFICAR TIPO DE META",_xlfn.IFNA(_xlfn.IFS(SUM(I8:L8)=0,0%,SUM(I8:L8)>0.001,(_xlfn.IFS(F8="INCREMENTO",SUM(I8:L8)/H8,F8="MANTENIMIENTO",SUM(I8:L8)/(H8*Tabla2[[#This Row],[N.X]])))),"ESPECÍFICAR TIPO DE META"))) -> 0 | AF8: ='MIPG INSTITUCIONAL'!N14 -> 0 | AG8: ='MIPG INSTITUCIONAL'!O14 -> Talento Humano, Recursos Físicos y Tecnológicos | AH8: ='MIPG INSTITUCIONAL'!P14 -> Subdirección Administrativa y Financiera | AI8: ='MIPG INSTITUCIONAL'!P14 -> Subdirección Administrativa y Financiera
B9: Talento Humano | C9: Gestión estratégica del talento humano | D9: =+D5 -> Actualizar los planes y programas que integran la dimensión estratégica del Talento Humano | E9: ='MIPG INSTITUCIONAL'!G15 -> Plan de Bienestar Institucional e Incentivos actualizado | F9: INCREMENTO | G9: =COUNTIF(R9:U9,"x") -> 1 | H9: ='MIPG INSTITUCIONAL'!H15 -> 1 | I9: ='MIPG INSTITUCIONAL'!I15 -> 0 | J9: ='MIPG INSTITUCIONAL'!J15 -> 0 | K9: ='MIPG INSTITUCIONAL'!K15 -> 0 | L9: ='MIPG INSTITUCIONAL'!L15 -> 0 | O9: 1 | Q9: =_xlfn.IFNA(IF(_xlfn.IFS(F9="MANTENIMIENTO",SUM(M9:P9)/G9,F9="INCREMENTO",SUM(M9:P9))=H9,"SI",""),"") -> SI | R9: ='MIPG INSTITUCIONAL'!Q15 -> 0 | S9: ='MIPG INSTITUCIONAL'!R15 -> 0 | T9: ='MIPG INSTITUCIONAL'!S15 -> x | U9: ='MIPG INSTITUCIONAL'!T15 -> 0 | V9: =_xlfn.IFNA(_xlfn.IFS(AND(M9="",I9>0.001),"1",AND(M9>0.001,I9>0.001),"2",AND(M9>0.001,I9=0),"3"),"4") -> 4 | W9: =_xlfn.IFNA(_xlfn.IFS(AND(N9="",J9>0.001),"1",AND(N9>0.001,J9>0.001),"2",AND(N9>0.001,J9=0),"3"),"4") -> 4 | X9: =_xlfn.IFNA(_xlfn.IFS(AND(O9="",K9>0.001),"1",AND(O9>0.001,K9>0.001),"2",AND(O9>0.001,K9=0),"3"),"4") -> 3 | Y9: =_xlfn.IFNA(_xlfn.IFS(AND(P9="",L9>0.001),"1",AND(P9>0.001,L9>0.001),"2",AND(P9>0.001,L9=0),"3"),"4") -> 4 | Z9: =IF((IF(Tabla2[[#This Row],[Calculo1 ]]="1",_xlfn.IFS(W9="1",IF((J9/H9)>100%,100%,J9/H9),W9="2",IF((J9/N9)>100%,100%,J9/N9),W9="3","0%",W9="4","0")+Tabla2[[#This Row],[ III TRIM 20217]],_xlfn.IFS(W9="1",IF((J9/H9)>100%,100%,J9/H9),W9="2",IF((J9/N9)>100%,100%,J9/N9),W9="3","0%",W9="4","")))=100%,100%,(IF(Tabla2[[#This Row],[Calculo1 ]]="1",_xlfn.IFS(W9="1",IF((J9/H9)>100%,100%,J9/H9),W9="2",IF((J9/N9)>100%,100%,J9/N9),W9="3","0%",W9="4","0")+Tabla2[[#This Row],[ III TRIM 20217]],_xlfn.IFS(W9="1",IF((J9/H9)>100%,100%,J9/H9),W9="2",IF((J9/N9)>100%,100%,J9/N9),W9="3","0%",W9="4","")))) | AA9: =_xlfn.IFS(V9="1",IF((I9/H9)>100%,"100%",I9/H9),V9="2",IF((I9/M9)>100%,"100%",I9/M9),V9="3","0%",V9="4","") | AB9: =_xlfn.IFNA(INDEX(Hoja1!$C$3:$C$230,MATCH(Tabla2[[#This Row],[Calculo5]],Hoja1!$B$3:$B$230,0)),"") | AC9: =_xlfn.IFS(X9="1",IF((K9/J9)>100%,"100%",K9/J9),X9="2",IF((K9/O9)>100%,"100%",K9/O9),X9="3","0%",X9="4","") -> 0% | AD9: =_xlfn.IFS(Y9="1",IF((L9/K9)>100%,"100%",L9/K9),Y9="2",IF((L9/P9)>100%,"100%",L9/P9),Y9="3","0%",Y9="4","") | AE9: =IF(IF(F9="","ESPECÍFICAR TIPO DE META",_xlfn.IFNA(_xlfn.IFS(SUM(I9:L9)=0,0%,SUM(I9:L9)>0.001,(_xlfn.IFS(F9="INCREMENTO",SUM(I9:L9)/H9,F9="MANTENIMIENTO",SUM(I9:L9)/(H9*Tabla2[[#This Row],[N.X]])))),"ESPECÍFICAR TIPO DE META"))>1,"100%",IF(F9="","ESPECÍFICAR TIPO DE META",_xlfn.IFNA(_xlfn.IFS(SUM(I9:L9)=0,0%,SUM(I9:L9)>0.001,(_xlfn.IFS(F9="INCREMENTO",SUM(I9:L9)/H9,F9="MANTENIMIENTO",SUM(I9:L9)/(H9*Tabla2[[#This Row],[N.X]])))),"ESPECÍFICAR TIPO DE META"))) -> 0 | AF9: ='MIPG INSTITUCIONAL'!N15 -> 0 | AG9: ='MIPG INSTITUCIONAL'!O15 -> Talento Humano, Recursos Físicos y Tecnológicos | AH9: ='MIPG INSTITUCIONAL'!P15 -> Subdirección Administrativa y Financiera | AI9: ='MIPG INSTITUCIONAL'!P15 -> Subdirección Administrativa y Financiera
B10: Talento Humano | C10: Gestión estratégica del talento humano | D10: =+D5 -> Actualizar los planes y programas que integran la dimensión estratégica del Talento Humano | E10: ='MIPG INSTITUCIONAL'!G16 -> Plan Anual de seguridad y salud en el trabajo actualizado | F10: INCREMENTO | G10: =COUNTIF(R10:U10,"x") -> 1 | H10: ='MIPG INSTITUCIONAL'!H16 -> 1 | I10: ='MIPG INSTITUCIONAL'!I16 -> 0 | J10: ='MIPG INSTITUCIONAL'!J16 -> 0 | K10: ='MIPG INSTITUCIONAL'!K16 -> 0 | L10: ='MIPG INSTITUCIONAL'!L16 -> 0 | O10: 1 | Q10: =_xlfn.IFNA(IF(_xlfn.IFS(F10="MANTENIMIENTO",SUM(M10:P10)/G10,F10="INCREMENTO",SUM(M10:P10))=H10,"SI",""),"") -> SI | R10: ='MIPG INSTITUCIONAL'!Q16 -> 0 | S10: ='MIPG INSTITUCIONAL'!R16 -> 0 | T10: ='MIPG INSTITUCIONAL'!S16 -> x | U10: ='MIPG INSTITUCIONAL'!T16 -> 0 | V10: =_xlfn.IFNA(_xlfn.IFS(AND(M10="",I10>0.001),"1",AND(M10>0.001,I10>0.001),"2",AND(M10>0.001,I10=0),"3"),"4") -> 4 | W10: =_xlfn.IFNA(_xlfn.IFS(AND(N10="",J10>0.001),"1",AND(N10>0.001,J10>0.001),"2",AND(N10>0.001,J10=0),"3"),"4") -> 4 | X10: =_xlfn.IFNA(_xlfn.IFS(AND(O10="",K10>0.001),"1",AND(O10>0.001,K10>0.001),"2",AND(O10>0.001,K10=0),"3"),"4") -> 3 | Y10: =_xlfn.IFNA(_xlfn.IFS(AND(P10="",L10>0.001),"1",AND(P10>0.001,L10>0.001),"2",AND(P10>0.001,L10=0),"3"),"4") -> 4 | Z10: =IF((IF(Tabla2[[#This Row],[Calculo1 ]]="1",_xlfn.IFS(W10="1",IF((J10/H10)>100%,100%,J10/H10),W10="2",IF((J10/N10)>100%,100%,J10/N10),W10="3","0%",W10="4","0")+Tabla2[[#This Row],[ III TRIM 20217]],_xlfn.IFS(W10="1",IF((J10/H10)>100%,100%,J10/H10),W10="2",IF((J10/N10)>100%,100%,J10/N10),W10="3","0%",W10="4","")))=100%,100%,(IF(Tabla2[[#This Row],[Calculo1 ]]="1",_xlfn.IFS(W10="1",IF((J10/H10)>100%,100%,J10/H10),W10="2",IF((J10/N10)>100%,100%,J10/N10),W10="3","0%",W10="4","0")+Tabla2[[#This Row],[ III TRIM 20217]],_xlfn.IFS(W10="1",IF((J10/H10)>100%,100%,J10/H10),W10="2",IF((J10/N10)>100%,100%,J10/N10),W10="3","0%",W10="4","")))) | AA10: =_xlfn.IFS(V10="1",IF((I10/H10)>100%,"100%",I10/H10),V10="2",IF((I10/M10)>100%,"100%",I10/M10),V10="3","0%",V10="4","") | AB10: =_xlfn.IFNA(INDEX(Hoja1!$C$3:$C$230,MATCH(Tabla2[[#This Row],[Calculo5]],Hoja1!$B$3:$B$230,0)),"") | AC10: =_xlfn.IFS(X10="1",IF((K10/J10)>100%,"100%",K10/J10),X10="2",IF((K10/O10)>100%,"100%",K10/O10),X10="3","0%",X10="4","") -> 0% | AD10: =_xlfn.IFS(Y10="1",IF((L10/K10)>100%,"100%",L10/K10),Y10="2",IF((L10/P10)>100%,"100%",L10/P10),Y10="3","0%",Y10="4","") | AE10: =IF(IF(F10="","ESPECÍFICAR TIPO DE META",_xlfn.IFNA(_xlfn.IFS(SUM(I10:L10)=0,0%,SUM(I10:L10)>0.001,(_xlfn.IFS(F10="INCREMENTO",SUM(I10:L10)/H10,F10="MANTENIMIENTO",SUM(I10:L10)/(H10*Tabla2[[#This Row],[N.X]])))),"ESPECÍFICAR TIPO DE META"))>1,"100%",IF(F10="","ESPECÍFICAR TIPO DE META",_xlfn.IFNA(_xlfn.IFS(SUM(I10:L10)=0,0%,SUM(I10:L10)>0.001,(_xlfn.IFS(F10="INCREMENTO",SUM(I10:L10)/H10,F10="MANTENIMIENTO",SUM(I10:L10)/(H10*Tabla2[[#This Row],[N.X]])))),"ESPECÍFICAR TIPO DE META"))) -> 0 | AF10: ='MIPG INSTITUCIONAL'!N16 -> 0 | AG10: ='MIPG INSTITUCIONAL'!O16 -> Talento Humano, Recursos Físicos y Tecnológicos | AH10: ='MIPG INSTITUCIONAL'!P16 -> Subdirección Administrativa y Financiera | AI10: ='MIPG INSTITUCIONAL'!P16 -> Subdirección Administrativa y Financiera
B11: Talento Humano | C11: Gestión estratégica del talento humano | D11: ='MIPG INSTITUCIONAL'!F17 -> Implementar el Plan Anual de Seguridad y salud en el trabajo de acuerdo al cronograma de actividades año 2021- 2022. | E11: ='MIPG INSTITUCIONAL'!G17 -> Informes del plan de seguridad y salud en el trabajo implementado 2021 | F11: INCREMENTO | G11: =COUNTIF(R11:U11,"x") -> 2 | H11: ='MIPG INSTITUCIONAL'!H17 -> 2 | I11: ='MIPG INSTITUCIONAL'!I17 -> 0 | J11: ='MIPG INSTITUCIONAL'!J17 -> 0 | K11: ='MIPG INSTITUCIONAL'!K17 -> 0 | L11: ='MIPG INSTITUCIONAL'!L17 -> 0 | M11: 1 | N11: 1 | Q11: =_xlfn.IFNA(IF(_xlfn.IFS(F11="MANTENIMIENTO",SUM(M11:P11)/G11,F11="INCREMENTO",SUM(M11:P11))=H11,"SI",""),"") -> SI | R11: ='MIPG INSTITUCIONAL'!Q17 -> x | S11: ='MIPG INSTITUCIONAL'!R17 -> x | T11: ='MIPG INSTITUCIONAL'!S17 -> 0 | U11: ='MIPG INSTITUCIONAL'!T17 -> 0 | V11: =_xlfn.IFNA(_xlfn.IFS(AND(M11="",I11>0.001),"1",AND(M11>0.001,I11>0.001),"2",AND(M11>0.001,I11=0),"3"),"4") -> 3 | W11: =_xlfn.IFNA(_xlfn.IFS(AND(N11="",J11>0.001),"1",AND(N11>0.001,J11>0.001),"2",AND(N11>0.001,J11=0),"3"),"4") -> 3 | X11: =_xlfn.IFNA(_xlfn.IFS(AND(O11="",K11>0.001),"1",AND(O11>0.001,K11>0.001),"2",AND(O11>0.001,K11=0),"3"),"4") -> 4 | Y11: =_xlfn.IFNA(_xlfn.IFS(AND(P11="",L11>0.001),"1",AND(P11>0.001,L11>0.001),"2",AND(P11>0.001,L11=0),"3"),"4") -> 4 | Z11: =IF((IF(Tabla2[[#This Row],[Calculo1 ]]="1",_xlfn.IFS(W11="1",IF((J11/H11)>100%,100%,J11/H11),W11="2",IF((J11/N11)>100%,100%,J11/N11),W11="3","0%",W11="4","0")+Tabla2[[#This Row],[ III TRIM 20217]],_xlfn.IFS(W11="1",IF((J11/H11)>100%,100%,J11/H11),W11="2",IF((J11/N11)>100%,100%,J11/N11),W11="3","0%",W11="4","")))=100%,100%,(IF(Tabla2[[#This Row],[Calculo1 ]]="1",_xlfn.IFS(W11="1",IF((J11/H11)>100%,100%,J11/H11),W11="2",IF((J11/N11)>100%,100%,J11/N11),W11="3","0%",W11="4","0")+Tabla2[[#This Row],[ III TRIM 20217]],_xlfn.IFS(W11="1",IF((J11/H11)>100%,100%,J11/H11),W11="2",IF((J11/N11)>100%,100%,J11/N11),W11="3","0%",W11="4","")))) -> 0% | AA11: =_xlfn.IFS(V11="1",IF((I11/H11)>100%,"100%",I11/H11),V11="2",IF((I11/M11)>100%,"100%",I11/M11),V11="3","0%",V11="4","") -> 0% | AB11: =_xlfn.IFNA(INDEX(Hoja1!$C$3:$C$230,MATCH(Tabla2[[#This Row],[Calculo5]],Hoja1!$B$3:$B$230,0)),"") -> 1e-16 | AC11: =_xlfn.IFS(X11="1",IF((K11/J11)>100%,"100%",K11/J11),X11="2",IF((K11/O11)>100%,"100%",K11/O11),X11="3","0%",X11="4","") | AD11: =_xlfn.IFS(Y11="1",IF((L11/K11)>100%,"100%",L11/K11),Y11="2",IF((L11/P11)>100%,"100%",L11/P11),Y11="3","0%",Y11="4","") | AE11: =IF(IF(F11="","ESPECÍFICAR TIPO DE META",_xlfn.IFNA(_xlfn.IFS(SUM(I11:L11)=0,0%,SUM(I11:L11)>0.001,(_xlfn.IFS(F11="INCREMENTO",SUM(I11:L11)/H11,F11="MANTENIMIENTO",SUM(I11:L11)/(H11*Tabla2[[#This Row],[N.X]])))),"ESPECÍFICAR TIPO DE META"))>1,"100%",IF(F11="","ESPECÍFICAR TIPO DE META",_xlfn.IFNA(_xlfn.IFS(SUM(I11:L11)=0,0%,SUM(I11:L11)>0.001,(_xlfn.IFS(F11="INCREMENTO",SUM(I11:L11)/H11,F11="MANTENIMIENTO",SUM(I11:L11)/(H11*Tabla2[[#This Row],[N.X]])))),"ESPECÍFICAR TIPO DE META"))) -> 0 | AF11: ='MIPG INSTITUCIONAL'!N17 -> Durante el tercer y cuarto trimestre de 2021, se realizó la definición y actualización del plan de trabajo SST, renovación y capacitación de los comités (copaso y cocolab), actualización de los requisitos legales del sistema de SST, revisión y actualización de los indicadores, aplicación y análisis de estadística de morbilidad , inspecciones de orden y aseo , jornadas de capacitación a brigadas de emergencia y seguimiento al plan de capacitaciones de SST | AG11: ='MIPG INSTITUCIONAL'!O17 -> Talento Humano, Recursos Físicos y Tecnológicos | AH11: ='MIPG INSTITUCIONAL'!P17 -> Subdirección Administrativa y Financiera | AI11: ='MIPG INSTITUCIONAL'!P17 -> Subdirección Administrativa y Financiera
B12: Talento Humano | C12: Gestión estratégica del talento humano | D12: =+D11 -> Implementar el Plan Anual de Seguridad y salud en el trabajo de acuerdo al cronograma de actividades año 2021- 2022. | E12: ='MIPG INSTITUCIONAL'!G18 -> Informes del plan de seguridad y salud en el trabajo implementado 2022 | F12: INCREMENTO | G12: =COUNTIF(R12:U12,"x") -> 2 | H12: ='MIPG INSTITUCIONAL'!H18 -> 2 | I12: ='MIPG INSTITUCIONAL'!I18 -> 0 | J12: ='MIPG INSTITUCIONAL'!J18 -> 0 | K12: ='MIPG INSTITUCIONAL'!K18 -> 0 | L12: ='MIPG INSTITUCIONAL'!L18 -> 0 | O12: 1 | P12: 1 | Q12: =_xlfn.IFNA(IF(_xlfn.IFS(F12="MANTENIMIENTO",SUM(M12:P12)/G12,F12="INCREMENTO",SUM(M12:P12))=H12,"SI",""),"") -> SI | R12: ='MIPG INSTITUCIONAL'!Q18 -> 0 | S12: ='MIPG INSTITUCIONAL'!R18 -> 0 | T12: ='MIPG INSTITUCIONAL'!S18 -> x | U12: ='MIPG INSTITUCIONAL'!T18 -> x | V12: =_xlfn.IFNA(_xlfn.IFS(AND(M12="",I12>0.001),"1",AND(M12>0.001,I12>0.001),"2",AND(M12>0.001,I12=0),"3"),"4") -> 4 | W12: =_xlfn.IFNA(_xlfn.IFS(AND(N12="",J12>0.001),"1",AND(N12>0.001,J12>0.001),"2",AND(N12>0.001,J12=0),"3"),"4") -> 4 | X12: =_xlfn.IFNA(_xlfn.IFS(AND(O12="",K12>0.001),"1",AND(O12>0.001,K12>0.001),"2",AND(O12>0.001,K12=0),"3"),"4") -> 3 | Y12: =_xlfn.IFNA(_xlfn.IFS(AND(P12="",L12>0.001),"1",AND(P12>0.001,L12>0.001),"2",AND(P12>0.001,L12=0),"3"),"4") -> 3 | Z12: =IF((IF(Tabla2[[#This Row],[Calculo1 ]]="1",_xlfn.IFS(W12="1",IF((J12/H12)>100%,100%,J12/H12),W12="2",IF((J12/N12)>100%,100%,J12/N12),W12="3","0%",W12="4","0")+Tabla2[[#This Row],[ III TRIM 20217]],_xlfn.IFS(W12="1",IF((J12/H12)>100%,100%,J12/H12),W12="2",IF((J12/N12)>100%,100%,J12/N12),W12="3","0%",W12="4","")))=100%,100%,(IF(Tabla2[[#This Row],[Calculo1 ]]="1",_xlfn.IFS(W12="1",IF((J12/H12)>100%,100%,J12/H12),W12="2",IF((J12/N12)>100%,100%,J12/N12),W12="3","0%",W12="4","0")+Tabla2[[#This Row],[ III TRIM 20217]],_xlfn.IFS(W12="1",IF((J12/H12)>100%,100%,J12/H12),W12="2",IF((J12/N12)>100%,100%,J12/N12),W12="3","0%",W12="4","")))) | AA12: =_xlfn.IFS(V12="1",IF((I12/H12)>100%,"100%",I12/H12),V12="2",IF((I12/M12)>100%,"100%",I12/M12),V12="3","0%",V12="4","") | AB12: =_xlfn.IFNA(INDEX(Hoja1!$C$3:$C$230,MATCH(Tabla2[[#This Row],[Calculo5]],Hoja1!$B$3:$B$230,0)),"") | AC12: =_xlfn.IFS(X12="1",IF((K12/J12)>100%,"100%",K12/J12),X12="2",IF((K12/O12)>100%,"100%",K12/O12),X12="3","0%",X12="4","") -> 0% | AD12: =_xlfn.IFS(Y12="1",IF((L12/K12)>100%,"100%",L12/K12),Y12="2",IF((L12/P12)>100%,"100%",L12/P12),Y12="3","0%",Y12="4","") -> 0% | AE12: =IF(IF(F12="","ESPECÍFICAR TIPO DE META",_xlfn.IFNA(_xlfn.IFS(SUM(I12:L12)=0,0%,SUM(I12:L12)>0.001,(_xlfn.IFS(F12="INCREMENTO",SUM(I12:L12)/H12,F12="MANTENIMIENTO",SUM(I12:L12)/(H12*Tabla2[[#This Row],[N.X]])))),"ESPECÍFICAR TIPO DE META"))>1,"100%",IF(F12="","ESPECÍFICAR TIPO DE META",_xlfn.IFNA(_xlfn.IFS(SUM(I12:L12)=0,0%,SUM(I12:L12)>0.001,(_xlfn.IFS(F12="INCREMENTO",SUM(I12:L12)/H12,F12="MANTENIMIENTO",SUM(I12:L12)/(H12*Tabla2[[#This Row],[N.X]])))),"ESPECÍFICAR TIPO DE META"))) -> 0 | AF12: ='MIPG INSTITUCIONAL'!N18 -> 0 | AG12: ='MIPG INSTITUCIONAL'!O18 -> Talento Humano, Recursos Físicos y Tecnológicos | AH12: ='MIPG INSTITUCIONAL'!P18 -> Subdirección Administrativa y Financiera | AI12: ='MIPG INSTITUCIONAL'!P18 -> Subdirección Administrativa y Financiera
B13: Talento Humano | C13: Gestión estratégica del talento humano | D13: ='MIPG INSTITUCIONAL'!F19 -> Implementar Plan Institucional de Capacitación de acuerdo al cronograma de actividades año 2021- año 2022 | E13: ='MIPG INSTITUCIONAL'!G19 -> Informes del Plan Institucional de capacitación implementado 2021 | F13: INCREMENTO | G13: =COUNTIF(R13:U13,"x") -> 2 | H13: ='MIPG INSTITUCIONAL'!H19 -> 2 | I13: ='MIPG INSTITUCIONAL'!I19 -> 0 | J13: ='MIPG INSTITUCIONAL'!J19 -> 0 | K13: ='MIPG INSTITUCIONAL'!K19 -> 0 | L13: ='MIPG INSTITUCIONAL'!L19 -> 0 | M13: 1 | N13: 1 | Q13: =_xlfn.IFNA(IF(_xlfn.IFS(F13="MANTENIMIENTO",SUM(M13:P13)/G13,F13="INCREMENTO",SUM(M13:P13))=H13,"SI",""),"") -> SI | R13: ='MIPG INSTITUCIONAL'!Q19 -> x | S13: ='MIPG INSTITUCIONAL'!R19 -> x | T13: ='MIPG INSTITUCIONAL'!S19 -> 0 | U13: ='MIPG INSTITUCIONAL'!T19 -> 0 | V13: =_xlfn.IFNA(_xlfn.IFS(AND(M13="",I13>0.001),"1",AND(M13>0.001,I13>0.001),"2",AND(M13>0.001,I13=0),"3"),"4") -> 3 | W13: =_xlfn.IFNA(_xlfn.IFS(AND(N13="",J13>0.001),"1",AND(N13>0.001,J13>0.001),"2",AND(N13>0.001,J13=0),"3"),"4") -> 3 | X13: =_xlfn.IFNA(_xlfn.IFS(AND(O13="",K13>0.001),"1",AND(O13>0.001,K13>0.001),"2",AND(O13>0.001,K13=0),"3"),"4") -> 4 | Y13: =_xlfn.IFNA(_xlfn.IFS(AND(P13="",L13>0.001),"1",AND(P13>0.001,L13>0.001),"2",AND(P13>0.001,L13=0),"3"),"4") -> 4 | Z13: =IF((IF(Tabla2[[#This Row],[Calculo1 ]]="1",_xlfn.IFS(W13="1",IF((J13/H13)>100%,100%,J13/H13),W13="2",IF((J13/N13)>100%,100%,J13/N13),W13="3","0%",W13="4","0")+Tabla2[[#This Row],[ III TRIM 20217]],_xlfn.IFS(W13="1",IF((J13/H13)>100%,100%,J13/H13),W13="2",IF((J13/N13)>100%,100%,J13/N13),W13="3","0%",W13="4","")))=100%,100%,(IF(Tabla2[[#This Row],[Calculo1 ]]="1",_xlfn.IFS(W13="1",IF((J13/H13)>100%,100%,J13/H13),W13="2",IF((J13/N13)>100%,100%,J13/N13),W13="3","0%",W13="4","0")+Tabla2[[#This Row],[ III TRIM 20217]],_xlfn.IFS(W13="1",IF((J13/H13)>100%,100%,J13/H13),W13="2",IF((J13/N13)>100%,100%,J13/N13),W13="3","0%",W13="4","")))) -> 0% | AA13: =_xlfn.IFS(V13="1",IF((I13/H13)>100%,"100%",I13/H13),V13="2",IF((I13/M13)>100%,"100%",I13/M13),V13="3","0%",V13="4","") -> 0% | AB13: =_xlfn.IFNA(INDEX(Hoja1!$C$3:$C$230,MATCH(Tabla2[[#This Row],[Calculo5]],Hoja1!$B$3:$B$230,0)),"") -> 1e-16 | AC13: =_xlfn.IFS(X13="1",IF((K13/J13)>100%,"100%",K13/J13),X13="2",IF((K13/O13)>100%,"100%",K13/O13),X13="3","0%",X13="4","") | AD13: =_xlfn.IFS(Y13="1",IF((L13/K13)>100%,"100%",L13/K13),Y13="2",IF((L13/P13)>100%,"100%",L13/P13),Y13="3","0%",Y13="4","") | AE13: =IF(IF(F13="","ESPECÍFICAR TIPO DE META",_xlfn.IFNA(_xlfn.IFS(SUM(I13:L13)=0,0%,SUM(I13:L13)>0.001,(_xlfn.IFS(F13="INCREMENTO",SUM(I13:L13)/H13,F13="MANTENIMIENTO",SUM(I13:L13)/(H13*Tabla2[[#This Row],[N.X]])))),"ESPECÍFICAR TIPO DE META"))>1,"100%",IF(F13="","ESPECÍFICAR TIPO DE META",_xlfn.IFNA(_xlfn.IFS(SUM(I13:L13)=0,0%,SUM(I13:L13)>0.001,(_xlfn.IFS(F13="INCREMENTO",SUM(I13:L13)/H13,F13="MANTENIMIENTO",SUM(I13:L13)/(H13*Tabla2[[#This Row],[N.X]])))),"ESPECÍFICAR TIPO DE META"))) -> 0 | AF13: ='MIPG INSTITUCIONAL'!N19 -> Se realizó el informe de ejecución de actividades de acuerdo al cronograma del PIC | AG13: ='MIPG INSTITUCIONAL'!O19 -> Talento Humano, Recursos Físicos y Tecnológicos | AH13: ='MIPG INSTITUCIONAL'!P19 -> Subdirección Administrativa y Financiera | AI13: ='MIPG INSTITUCIONAL'!P19 -> Subdirección Administrativa y Financiera
B14: Talento Humano | C14: Integridad | D14: =+D13 -> Implementar Plan Institucional de Capacitación de acuerdo al cronograma de actividades año 2021- año 2022 | E14: ='MIPG INSTITUCIONAL'!G20 -> Informes del plan Institucional de capacitación implementado 2022 | F14: INCREMENTO | G14: =COUNTIF(R14:U14,"x") -> 2 | H14: ='MIPG INSTITUCIONAL'!H20 -> 2 | I14: ='MIPG INSTITUCIONAL'!I20 -> 0 | J14: ='MIPG INSTITUCIONAL'!J20 -> 0 | K14: ='MIPG INSTITUCIONAL'!K20 -> 0 | L14: ='MIPG INSTITUCIONAL'!L20 -> 0 | O14: 1 | P14: 1 | Q14: =_xlfn.IFNA(IF(_xlfn.IFS(F14="MANTENIMIENTO",SUM(M14:P14)/G14,F14="INCREMENTO",SUM(M14:P14))=H14,"SI",""),"") -> SI | R14: ='MIPG INSTITUCIONAL'!Q20 -> 0 | S14: ='MIPG INSTITUCIONAL'!R20 -> 0 | T14: ='MIPG INSTITUCIONAL'!S20 -> x | U14: ='MIPG INSTITUCIONAL'!T20 -> x | V14: =_xlfn.IFNA(_xlfn.IFS(AND(M14="",I14>0.001),"1",AND(M14>0.001,I14>0.001),"2",AND(M14>0.001,I14=0),"3"),"4") -> 4 | W14: =_xlfn.IFNA(_xlfn.IFS(AND(N14="",J14>0.001),"1",AND(N14>0.001,J14>0.001),"2",AND(N14>0.001,J14=0),"3"),"4") -> 4 | X14: =_xlfn.IFNA(_xlfn.IFS(AND(O14="",K14>0.001),"1",AND(O14>0.001,K14>0.001),"2",AND(O14>0.001,K14=0),"3"),"4") -> 3 | Y14: =_xlfn.IFNA(_xlfn.IFS(AND(P14="",L14>0.001),"1",AND(P14>0.001,L14>0.001),"2",AND(P14>0.001,L14=0),"3"),"4") -> 3 | Z14: =IF((IF(Tabla2[[#This Row],[Calculo1 ]]="1",_xlfn.IFS(W14="1",IF((J14/H14)>100%,100%,J14/H14),W14="2",IF((J14/N14)>100%,100%,J14/N14),W14="3","0%",W14="4","0")+Tabla2[[#This Row],[ III TRIM 20217]],_xlfn.IFS(W14="1",IF((J14/H14)>100%,100%,J14/H14),W14="2",IF((J14/N14)>100%,100%,J14/N14),W14="3","0%",W14="4","")))=100%,100%,(IF(Tabla2[[#This Row],[Calculo1 ]]="1",_xlfn.IFS(W14="1",IF((J14/H14)>100%,100%,J14/H14),W14="2",IF((J14/N14)>100%,100%,J14/N14),W14="3","0%",W14="4","0")+Tabla2[[#This Row],[ III TRIM 20217]],_xlfn.IFS(W14="1",IF((J14/H14)>100%,100%,J14/H14),W14="2",IF((J14/N14)>100%,100%,J14/N14),W14="3","0%",W14="4","")))) | AA14: =_xlfn.IFS(V14="1",IF((I14/H14)>100%,"100%",I14/H14),V14="2",IF((I14/M14)>100%,"100%",I14/M14),V14="3","0%",V14="4","") | AB14: =_xlfn.IFNA(INDEX(Hoja1!$C$3:$C$230,MATCH(Tabla2[[#This Row],[Calculo5]],Hoja1!$B$3:$B$230,0)),"") | AC14: =_xlfn.IFS(X14="1",IF((K14/J14)>100%,"100%",K14/J14),X14="2",IF((K14/O14)>100%,"100%",K14/O14),X14="3","0%",X14="4","") -> 0% | AD14: =_xlfn.IFS(Y14="1",IF((L14/K14)>100%,"100%",L14/K14),Y14="2",IF((L14/P14)>100%,"100%",L14/P14),Y14="3","0%",Y14="4","") -> 0% | AE14: =IF(IF(F14="","ESPECÍFICAR TIPO DE META",_xlfn.IFNA(_xlfn.IFS(SUM(I14:L14)=0,0%,SUM(I14:L14)>0.001,(_xlfn.IFS(F14="INCREMENTO",SUM(I14:L14)/H14,F14="MANTENIMIENTO",SUM(I14:L14)/(H14*Tabla2[[#This Row],[N.X]])))),"ESPECÍFICAR TIPO DE META"))>1,"100%",IF(F14="","ESPECÍFICAR TIPO DE META",_xlfn.IFNA(_xlfn.IFS(SUM(I14:L14)=0,0%,SUM(I14:L14)>0.001,(_xlfn.IFS(F14="INCREMENTO",SUM(I14:L14)/H14,F14="MANTENIMIENTO",SUM(I14:L14)/(H14*Tabla2[[#This Row],[N.X]])))),"ESPECÍFICAR TIPO DE META"))) -> 0 | AF14: ='MIPG INSTITUCIONAL'!N20 -> 0 | AG14: ='MIPG INSTITUCIONAL'!O20 -> Talento Humano, Recursos Físicos y Tecnológicos | AH14: ='MIPG INSTITUCIONAL'!P20 -> Subdirección Administrativa y Financiera | AI14: ='MIPG INSTITUCIONAL'!P20 -> Subdirección Administrativa y Financiera
B15: Talento Humano | C15: Integridad | D15: ='MIPG INSTITUCIONAL'!F21 -> Implementar Plan de Bienestar Institucional e incentivos de acuerdo al cronograma de actividades año 2021- 2022 | E15: ='MIPG INSTITUCIONAL'!G21 -> Informes del Plan de Bienestar e incentivos implementado 2021 | F15: INCREMENTO | G15: =COUNTIF(R15:U15,"x") -> 2 | H15: ='MIPG INSTITUCIONAL'!H21 -> 2 | I15: ='MIPG INSTITUCIONAL'!I21 -> 0 | J15: ='MIPG INSTITUCIONAL'!J21 -> 0 | K15: ='MIPG INSTITUCIONAL'!K21 -> 0 | L15: ='MIPG INSTITUCIONAL'!L21 -> 0 | M15: 1 | N15: 1 | Q15: =_xlfn.IFNA(IF(_xlfn.IFS(F15="MANTENIMIENTO",SUM(M15:P15)/G15,F15="INCREMENTO",SUM(M15:P15))=H15,"SI",""),"") -> SI | R15: ='MIPG INSTITUCIONAL'!Q21 -> x | S15: ='MIPG INSTITUCIONAL'!R21 -> x | T15: ='MIPG INSTITUCIONAL'!S21 -> 0 | U15: ='MIPG INSTITUCIONAL'!T21 -> 0 | V15: =_xlfn.IFNA(_xlfn.IFS(AND(M15="",I15>0.001),"1",AND(M15>0.001,I15>0.001),"2",AND(M15>0.001,I15=0),"3"),"4") -> 3 | W15: =_xlfn.IFNA(_xlfn.IFS(AND(N15="",J15>0.001),"1",AND(N15>0.001,J15>0.001),"2",AND(N15>0.001,J15=0),"3"),"4") -> 3 | X15: =_xlfn.IFNA(_xlfn.IFS(AND(O15="",K15>0.001),"1",AND(O15>0.001,K15>0.001),"2",AND(O15>0.001,K15=0),"3"),"4") -> 4 | Y15: =_xlfn.IFNA(_xlfn.IFS(AND(P15="",L15>0.001),"1",AND(P15>0.001,L15>0.001),"2",AND(P15>0.001,L15=0),"3"),"4") -> 4 | Z15: =IF((IF(Tabla2[[#This Row],[Calculo1 ]]="1",_xlfn.IFS(W15="1",IF((J15/H15)>100%,100%,J15/H15),W15="2",IF((J15/N15)>100%,100%,J15/N15),W15="3","0%",W15="4","0")+Tabla2[[#This Row],[ III TRIM 20217]],_xlfn.IFS(W15="1",IF((J15/H15)>100%,100%,J15/H15),W15="2",IF((J15/N15)>100%,100%,J15/N15),W15="3","0%",W15="4","")))=100%,100%,(IF(Tabla2[[#This Row],[Calculo1 ]]="1",_xlfn.IFS(W15="1",IF((J15/H15)>100%,100%,J15/H15),W15="2",IF((J15/N15)>100%,100%,J15/N15),W15="3","0%",W15="4","0")+Tabla2[[#This Row],[ III TRIM 20217]],_xlfn.IFS(W15="1",IF((J15/H15)>100%,100%,J15/H15),W15="2",IF((J15/N15)>100%,100%,J15/N15),W15="3","0%",W15="4","")))) -> 0% | AA15: =_xlfn.IFS(V15="1",IF((I15/H15)>100%,"100%",I15/H15),V15="2",IF((I15/M15)>100%,"100%",I15/M15),V15="3","0%",V15="4","") -> 0% | AB15: =_xlfn.IFNA(INDEX(Hoja1!$C$3:$C$230,MATCH(Tabla2[[#This Row],[Calculo5]],Hoja1!$B$3:$B$230,0)),"") -> 1e-16 | AC15: =_xlfn.IFS(X15="1",IF((K15/J15)>100%,"100%",K15/J15),X15="2",IF((K15/O15)>100%,"100%",K15/O15),X15="3","0%",X15="4","") | AD15: =_xlfn.IFS(Y15="1",IF((L15/K15)>100%,"100%",L15/K15),Y15="2",IF((L15/P15)>100%,"100%",L15/P15),Y15="3","0%",Y15="4","") | AE15: =IF(IF(F15="","ESPECÍFICAR TIPO DE META",_xlfn.IFNA(_xlfn.IFS(SUM(I15:L15)=0,0%,SUM(I15:L15)>0.001,(_xlfn.IFS(F15="INCREMENTO",SUM(I15:L15)/H15,F15="MANTENIMIENTO",SUM(I15:L15)/(H15*Tabla2[[#This Row],[N.X]])))),"ESPECÍFICAR TIPO DE META"))>1,"100%",IF(F15="","ESPECÍFICAR TIPO DE META",_xlfn.IFNA(_xlfn.IFS(SUM(I15:L15)=0,0%,SUM(I15:L15)>0.001,(_xlfn.IFS(F15="INCREMENTO",SUM(I15:L15)/H15,F15="MANTENIMIENTO",SUM(I15:L15)/(H15*Tabla2[[#This Row],[N.X]])))),"ESPECÍFICAR TIPO DE META"))) -> 0 | AF15: ='MIPG INSTITUCIONAL'!N21 -> Se realizó el informe de ejecución de actividades de acuerdo al cronograma de Bienestar | AG15: ='MIPG INSTITUCIONAL'!O21 -> Talento Humano, Recursos Físicos y Tecnológicos | AH15: ='MIPG INSTITUCIONAL'!P21 -> Subdirección Administrativa y Financiera | AI15: ='MIPG INSTITUCIONAL'!P21 -> Subdirección Administrativa y Financiera
B16: Talento Humano | C16: Integridad | D16: =+D15 -> Implementar Plan de Bienestar Institucional e incentivos de acuerdo al cronograma de actividades año 2021- 2022 | E16: ='MIPG INSTITUCIONAL'!G22 -> Informes de los Planes de Bienestar e incentivos implementados 2022 | F16: INCREMENTO | G16: =COUNTIF(R16:U16,"x") -> 2 | H16: ='MIPG INSTITUCIONAL'!H22 -> 2 | I16: ='MIPG INSTITUCIONAL'!I22 -> 0 | J16: ='MIPG INSTITUCIONAL'!J22 -> 0 | K16: ='MIPG INSTITUCIONAL'!K22 -> 0 | L16: ='MIPG INSTITUCIONAL'!L22 -> 0 | O16: 1 | P16: 1 | Q16: =_xlfn.IFNA(IF(_xlfn.IFS(F16="MANTENIMIENTO",SUM(M16:P16)/G16,F16="INCREMENTO",SUM(M16:P16))=H16,"SI",""),"") -> SI | R16: ='MIPG INSTITUCIONAL'!Q22 -> 0 | S16: ='MIPG INSTITUCIONAL'!R22 -> 0 | T16: ='MIPG INSTITUCIONAL'!S22 -> x | U16: ='MIPG INSTITUCIONAL'!T22 -> x | V16: =_xlfn.IFNA(_xlfn.IFS(AND(M16="",I16>0.001),"1",AND(M16>0.001,I16>0.001),"2",AND(M16>0.001,I16=0),"3"),"4") -> 4 | W16: =_xlfn.IFNA(_xlfn.IFS(AND(N16="",J16>0.001),"1",AND(N16>0.001,J16>0.001),"2",AND(N16>0.001,J16=0),"3"),"4") -> 4 | X16: =_xlfn.IFNA(_xlfn.IFS(AND(O16="",K16>0.001),"1",AND(O16>0.001,K16>0.001),"2",AND(O16>0.001,K16=0),"3"),"4") -> 3 | Y16: =_xlfn.IFNA(_xlfn.IFS(AND(P16="",L16>0.001),"1",AND(P16>0.001,L16>0.001),"2",AND(P16>0.001,L16=0),"3"),"4") -> 3 | Z16: =IF((IF(Tabla2[[#This Row],[Calculo1 ]]="1",_xlfn.IFS(W16="1",IF((J16/H16)>100%,100%,J16/H16),W16="2",IF((J16/N16)>100%,100%,J16/N16),W16="3","0%",W16="4","0")+Tabla2[[#This Row],[ III TRIM 20217]],_xlfn.IFS(W16="1",IF((J16/H16)>100%,100%,J16/H16),W16="2",IF((J16/N16)>100%,100%,J16/N16),W16="3","0%",W16="4","")))=100%,100%,(IF(Tabla2[[#This Row],[Calculo1 ]]="1",_xlfn.IFS(W16="1",IF((J16/H16)>100%,100%,J16/H16),W16="2",IF((J16/N16)>100%,100%,J16/N16),W16="3","0%",W16="4","0")+Tabla2[[#This Row],[ III TRIM 20217]],_xlfn.IFS(W16="1",IF((J16/H16)>100%,100%,J16/H16),W16="2",IF((J16/N16)>100%,100%,J16/N16),W16="3","0%",W16="4","")))) | AA16: =_xlfn.IFS(V16="1",IF((I16/H16)>100%,"100%",I16/H16),V16="2",IF((I16/M16)>100%,"100%",I16/M16),V16="3","0%",V16="4","") | AB16: =_xlfn.IFNA(INDEX(Hoja1!$C$3:$C$230,MATCH(Tabla2[[#This Row],[Calculo5]],Hoja1!$B$3:$B$230,0)),"") | AC16: =_xlfn.IFS(X16="1",IF((K16/J16)>100%,"100%",K16/J16),X16="2",IF((K16/O16)>100%,"100%",K16/O16),X16="3","0%",X16="4","") -> 0% | AD16: =_xlfn.IFS(Y16="1",IF((L16/K16)>100%,"100%",L16/K16),Y16="2",IF((L16/P16)>100%,"100%",L16/P16),Y16="3","0%",Y16="4","") -> 0% | AE16: =IF(IF(F16="","ESPECÍFICAR TIPO DE META",_xlfn.IFNA(_xlfn.IFS(SUM(I16:L16)=0,0%,SUM(I16:L16)>0.001,(_xlfn.IFS(F16="INCREMENTO",SUM(I16:L16)/H16,F16="MANTENIMIENTO",SUM(I16:L16)/(H16*Tabla2[[#This Row],[N.X]])))),"ESPECÍFICAR TIPO DE META"))>1,"100%",IF(F16="","ESPECÍFICAR TIPO DE META",_xlfn.IFNA(_xlfn.IFS(SUM(I16:L16)=0,0%,SUM(I16:L16)>0.001,(_xlfn.IFS(F16="INCREMENTO",SUM(I16:L16)/H16,F16="MANTENIMIENTO",SUM(I16:L16)/(H16*Tabla2[[#This Row],[N.X]])))),"ESPECÍFICAR TIPO DE META"))) -> 0 | AF16: ='MIPG INSTITUCIONAL'!N22 -> 0 | AG16: ='MIPG INSTITUCIONAL'!O22 -> Talento Humano, Recursos Físicos y Tecnológicos | AH16: ='MIPG INSTITUCIONAL'!P22 -> Subdirección Administrativa y Financiera | AI16: ='MIPG INSTITUCIONAL'!P22 -> Subdirección Administrativa y Financiera
B17: Direccionamiento Estratégico y Planeación | C17: Planeación institucional | D17: ='MIPG INSTITUCIONAL'!F23 -> Implementar actividades de salario emocional para promover el bienestar de los servidores públicos | E17: ='MIPG INSTITUCIONAL'!G23 -> Acciones realizadas que permitan resaltar y estimular a los servidores públicos como reconocimiento a sus labores | F17: INCREMENTO | G17: =COUNTIF(R17:U17,"x") -> 2 | H17: ='MIPG INSTITUCIONAL'!H23 -> 1 | I17: ='MIPG INSTITUCIONAL'!I23 -> 0 | J17: ='MIPG INSTITUCIONAL'!J23 -> 0 | K17: ='MIPG INSTITUCIONAL'!K23 -> 0 | L17: ='MIPG INSTITUCIONAL'!L23 -> 0 | N17: 1 | Q17: =_xlfn.IFNA(IF(_xlfn.IFS(F17="MANTENIMIENTO",SUM(M17:P17)/G17,F17="INCREMENTO",SUM(M17:P17))=H17,"SI",""),"") -> SI | R17: ='MIPG INSTITUCIONAL'!Q23 -> x | S17: ='MIPG INSTITUCIONAL'!R23 -> x | T17: ='MIPG INSTITUCIONAL'!S23 -> 0 | U17: ='MIPG INSTITUCIONAL'!T23 -> 0 | V17: =_xlfn.IFNA(_xlfn.IFS(AND(M17="",I17>0.001),"1",AND(M17>0.001,I17>0.001),"2",AND(M17>0.001,I17=0),"3"),"4") -> 4 | W17: =_xlfn.IFNA(_xlfn.IFS(AND(N17="",J17>0.001),"1",AND(N17>0.001,J17>0.001),"2",AND(N17>0.001,J17=0),"3"),"4") -> 3 | X17: =_xlfn.IFNA(_xlfn.IFS(AND(O17="",K17>0.001),"1",AND(O17>0.001,K17>0.001),"2",AND(O17>0.001,K17=0),"3"),"4") -> 4 | Y17: =_xlfn.IFNA(_xlfn.IFS(AND(P17="",L17>0.001),"1",AND(P17>0.001,L17>0.001),"2",AND(P17>0.001,L17=0),"3"),"4") -> 4 | Z17: =IF((IF(Tabla2[[#This Row],[Calculo1 ]]="1",_xlfn.IFS(W17="1",IF((J17/H17)>100%,100%,J17/H17),W17="2",IF((J17/N17)>100%,100%,J17/N17),W17="3","0%",W17="4","0")+Tabla2[[#This Row],[ III TRIM 20217]],_xlfn.IFS(W17="1",IF((J17/H17)>100%,100%,J17/H17),W17="2",IF((J17/N17)>100%,100%,J17/N17),W17="3","0%",W17="4","")))=100%,100%,(IF(Tabla2[[#This Row],[Calculo1 ]]="1",_xlfn.IFS(W17="1",IF((J17/H17)>100%,100%,J17/H17),W17="2",IF((J17/N17)>100%,100%,J17/N17),W17="3","0%",W17="4","0")+Tabla2[[#This Row],[ III TRIM 20217]],_xlfn.IFS(W17="1",IF((J17/H17)>100%,100%,J17/H17),W17="2",IF((J17/N17)>100%,100%,J17/N17),W17="3","0%",W17="4","")))) -> 0% | AA17: =_xlfn.IFS(V17="1",IF((I17/H17)>100%,"100%",I17/H17),V17="2",IF((I17/M17)>100%,"100%",I17/M17),V17="3","0%",V17="4","") | AB17: =_xlfn.IFNA(INDEX(Hoja1!$C$3:$C$230,MATCH(Tabla2[[#This Row],[Calculo5]],Hoja1!$B$3:$B$230,0)),"") -> 1e-16 | AC17: =_xlfn.IFS(X17="1",IF((K17/J17)>100%,"100%",K17/J17),X17="2",IF((K17/O17)>100%,"100%",K17/O17),X17="3","0%",X17="4","") | AD17: =_xlfn.IFS(Y17="1",IF((L17/K17)>100%,"100%",L17/K17),Y17="2",IF((L17/P17)>100%,"100%",L17/P17),Y17="3","0%",Y17="4","") | AE17: =IF(IF(F17="","ESPECÍFICAR TIPO DE META",_xlfn.IFNA(_xlfn.IFS(SUM(I17:L17)=0,0%,SUM(I17:L17)>0.001,(_xlfn.IFS(F17="INCREMENTO",SUM(I17:L17)/H17,F17="MANTENIMIENTO",SUM(I17:L17)/(H17*Tabla2[[#This Row],[N.X]])))),"ESPECÍFICAR TIPO DE META"))>1,"100%",IF(F17="","ESPECÍFICAR TIPO DE META",_xlfn.IFNA(_xlfn.IFS(SUM(I17:L17)=0,0%,SUM(I17:L17)>0.001,(_xlfn.IFS(F17="INCREMENTO",SUM(I17:L17)/H17,F17="MANTENIMIENTO",SUM(I17:L17)/(H17*Tabla2[[#This Row],[N.X]])))),"ESPECÍFICAR TIPO DE META"))) -> 0 | AF17: ='MIPG INSTITUCIONAL'!N23 -> Se realizó la conmemoración del servidor público en la sede COMFENALCO el día 23 de septiembre de 2021 y en el último trimestre de 2021 se realizó reunión de cierre de vigencia y novenas navideñas 2021. | AG17: ='MIPG INSTITUCIONAL'!O23 -> Talento Humano, Recursos Físicos y Tecnológicos | AH17: ='MIPG INSTITUCIONAL'!P23 -> Subdirección Administrativa y Financiera | AI17: ='MIPG INSTITUCIONAL'!P23 -> Subdirección Administrativa y Financiera
