Workbook

Sheet PA 2022
B1: PLAN DE ACCIÓN - PLAN DE DESARROLLO MUNICIPAL INSTITUTO MUNICIPAL DE EMPLEO Y FOMENTO EMPRESARIAL DE BUCARAMANGA - IMEBU | AC1: Código: F-DPM-1210-238,37-030
AC2: Versión: 1.0
AC3: Fecha aprobación: Marzo-24-2021
AC4: Página: 1 de 1
A5: FECHA DE SUSCRIPCIÓN: | D5: 44595
A6: FECHA DE CORTE: | D6: 44651
B7: PDM 2020-2023 | G7: PROYECTOS DE INVERSIÓN | L7: CUMPLIMIENTO DE META | O7: RECURSOS PROGRAMADOS | V7: RECURSOS EJECUTADOS | AB7: EJECUCIÓN PPTAL | AC7: RECURSOS GESTIONADOS | AD7: RESPONSABLES
A8: No. | B8: Línea estratégica | C8: Componente | D8: Programa | E8: Meta PDM | F8: Indicador de producto | G8: Código BPIN | H8: Nombre del Proyecto | I8: Actividades | J8: Fecha inicio | K8: Fecha de terminación | L8: Meta programada | M8: Meta ejecutada | N8: AVANCE | O8: Rubro | P8: RECURSOS PROPIOS MUNICIPIO | Q8: SGP | R8: SGR | S8: RECURSOS PROPIOS INSTITUTOS | T8: OTROS | U8: TOTAL PROGRAMADO | V8: RECURSOS PROPIOS MUNICIPIO | W8: SGP | X8: SGR | Y8: RECURSOS PROPIOS INSTITUTOS | Z8: OTROS | AA8: TOTAL EJECUTADO | AD8: Dependencia | AE8: Responsable
A9: 180 | B9: BUCARAMANGA PRODUCTIVA Y COMPETITIVA: EMPRESAS INNOVADORAS, RESPONSABLES Y CONSCIENTES | C9: Emprendimiento, Innovación, Formalización Y Dinamización Empresarial | D9: Emprendimiento E Innovación | E9: Fortalecer a 5.000 empresas, emprendimientos y/o unidades productivas, a través de la implementación de un programa de incubación y aceleración de emprendimientos innovadores articulados con el ecosistema de emprendimiento, que caracterice las capacidades tecnológicas instaladas (duras y blandas) con enfoque diferencial. | F9: Número de empresas, emprendimientos y/o unidades productivas fortalecidas a través de la implementación de un programa de incubación y aceleración de emprendimientos innovadores articulados con el ecosistema de emprendimiento, que caracterice las capacidades tecnológicas instaladas (duras y blandas) con enfoque diferencial. | G9: 2020680010157 | H9: FORTALECIMIENTO DEL COWORKING COMO ESTRATEGIA PARA EL EMPRENDIMIENTO, INNOVACIÓN, DINAMIZACIÓN Y ACELERACIÓN EMPRESARIAL EN EL MUNICIPIO DE BUCARAMANGA | I9: Asesorar técnicamente a emprendedores y/o empresarios en etapa de aceleración en programas de formación empresarial. Realizar adecuaciones en espacio para prestación de servicios de consultoria a emprendedores y/o empresarios en etapa de aceleración y Coworking. | J9: 44566 | K9: 44926 | L9: 800 | M9: =+SUM('Estrategias '!C2:C5) -> 146 | N9: =IF(M9/L9>100%,100%,M9/L9) -> 0.1825 | O9: 2.3.2.02.02.007 2.3.2.02.02.009 | P9: =+Gastos_Mar!M70 -> 430000000 | U9: =+SUM(P9:T9) -> 430000000 | V9: =+Gastos_Feb!V69 -> 352170341 | AA9: =SUM(V9:Z9) -> 352170341 | AB9: =IFERROR(AA9/U9,"-") -> 0.81900079 | AC9: =+'Recursos Gestionados'!G2+'Recursos Gestionados'!G3 -> 209808333 | AD9: IMEBU | AE9: Luis Gonzalo Gómez Guerrero
A10: 182 | B10: BUCARAMANGA PRODUCTIVA Y COMPETITIVA: EMPRESAS INNOVADORAS, RESPONSABLES Y CONSCIENTES | C10: Emprendimiento, Innovación, Formalización Y Dinamización Empresarial | D10: Centros De Desarrollo Empresarial | E10: Implementar 1 programa de desarrollo empresarial y de empleabilidad para las micro y pequeñas empresas (incluyendo unidades productivas). | F10: Número de programas de desarrollo empresariales y de empleabilidad implementados para las micro y pequeñas empresas (incluyendo unidades productivas). | G10: 2020680010074 | H10: FORTALECIMIENTO DEL CENTRO DE DESARROLLO EMPRESARIAL Y DE EMPLEABILIDAD EN EL MUNICIPIO DE BUCARAMANGA | I10: Asesorar a emprendedores y empresarios en programas de formación empresarial (Modelo de Negocios y diseño Planes de Mejora). Implementar Estrategia comunitaria para el emprendimiento y el desarrollo empresarial. Formulación de la estrategia de reactivación y sostenimiento de la economía. Brindar acompañamiento a los proyectos productivos de la población victima. | J10: 44566 | K10: 44926 | L10: 1 | M10: 1 | N10: =IF(M10/L10>100%,100%,M10/L10) -> 1 | O10: 2.3.2.02.02.006 2.3.2.02.02.007 2.3.2.02.02.009 | P10: =+'Calculos CDE'!E4 -> 771203004 | U10: =+SUM(P10:T10) -> 771203004 | V10: =+'Calculos CDE'!E4 -> 771203004 | AA10: =SUM(V10:Z10) -> 771203004 | AB10: =IFERROR(AA10/U10,"-") -> 1 | AC10: =+'Recursos Gestionados'!G4+'Recursos Gestionados'!G5 -> 306281194 | AD10: IMEBU | AE10: Luis Gonzalo Gómez Guerrero
A11: 183 | B11: BUCARAMANGA PRODUCTIVA Y COMPETITIVA: EMPRESAS INNOVADORAS, RESPONSABLES Y CONSCIENTES | C11: Emprendimiento, Innovación, Formalización Y Dinamización Empresarial | D11: Centros De Desarrollo Empresarial | E11: Desarrollar el modelo CDE virtual para que amplíen la cobertura en la ciudad. | F11: Porcentaje de avance en el desarrollo del modelo CDE virtual para que amplíen la cobertura en la ciudad. | G11: 2020680010074 | H11: FORTALECIMIENTO DEL CENTRO DE DESARROLLO EMPRESARIAL Y DE EMPLEABILIDAD EN EL MUNICIPIO DE BUCARAMANGA | I11: Asesorar a emprendedores y empresarios en programas de formación empresarial (Modelo de Negocios y diseño Planes de Mejora). Implementar Estrategia comunitaria para el emprendimiento y el desarrollo empresarial. Formulación de la estrategia de reactivació | J11: 44566 | K11: 44926 | L11: 0.35 | M11: =35%*25% -> 0.0875 | N11: =IF(M11/L11>100%,100%,M11/L11) -> 0.25 | O11: 2.3.2.02.02.006 2.3.2.02.02.007 2.3.2.02.02.009 | P11: =+'Calculos CDE'!E9 -> 276000000 | U11: =+SUM(P11:T11) -> 276000000 | V11: =+'Calculos CDE'!E9 -> 276000000 | AA11: =SUM(V11:Z11) -> 276000000 | AB11: =IFERROR(AA11/U11,"-") -> 1 | AD11: IMEBU | AE11: Luis Gonzalo Gómez Guerrero
A12: 184 | B12: BUCARAMANGA PRODUCTIVA Y COMPETITIVA: EMPRESAS INNOVADORAS, RESPONSABLES Y CONSCIENTES | C12: Emprendimiento, Innovación, Formalización Y Dinamización Empresarial | D12: Centros De Desarrollo Empresarial | E12: Formar a 7.000 emprendedores a través de un programa de formación teórica, empresarial y/o artesanal con enfoque diferencial para emprendimientos artísticos, culturales, creativos, negocios verdes, microempresarios y/o unidades productivas urbanas y rurales. | F12: Número de emprendedores formados a través de un programa de formación teórica, empresarial y/o artesanal con enfoque diferencial para emprendimientos artísticos, culturales, creativos, negocios verdes, microempresarios y/o unidades productivas urbanas y rurales. | G12: 2020680010074 | H12: FORTALECIMIENTO DEL CENTRO DE DESARROLLO EMPRESARIAL Y DE EMPLEABILIDAD EN EL MUNICIPIO DE BUCARAMANGA | I12: Asesorar a emprendedores y empresarios en programas de formación empresarial (Modelo de Negocios y diseño Planes de Mejora). Implementar Estrategia comunitaria para el emprendimiento y el desarrollo empresarial. Formulación de la estrategia de reactivació | J12: 44566 | K12: 44926 | L12: 2000 | M12: =+SUM('Estrategias '!C6:C8) -> 259 | N12: =IF(M12/L12>100%,100%,M12/L12) -> 0.1295 | O12: 2.3.2.02.02.006 2.3.2.02.02.007 2.3.2.02.02.009 | P12: =(1550000000-P10-P11)/2 -> 251398498 | U12: =+SUM(P12:T12) -> 251398498 | V12: =+'Calculos CDE'!E21 -> 87397656 | AA12: =SUM(V12:Z12) -> 87397656 | AB12: =IFERROR(AA12/U12,"-") -> 0.3476459 | AD12: IMEBU | AE12: Luis Gonzalo Gómez Guerrero
A13: 185 | B13: BUCARAMANGA PRODUCTIVA Y COMPETITIVA: EMPRESAS INNOVADORAS, RESPONSABLES Y CONSCIENTES | C13: Emprendimiento, Innovación, Formalización Y Dinamización Empresarial | D13: Centros De Desarrollo Empresarial | E13: Implementar en 4.000 mipymes planes estratégicos orientados a innovar y/o incorporación tecnológica en áreas empresariales estratégicas con apoyo de Universidades y actores económicos clave. | F13: Número de mipymes con planes estratégicos implementados orientados a innovar y/o incorporación tecnológica en áreas empresariales estratégicas con apoyo de Universidades y actores económicos clave. | G13: 2020680010074 | H13: FORTALECIMIENTO DEL CENTRO DE DESARROLLO EMPRESARIAL Y DE EMPLEABILIDAD EN EL MUNICIPIO DE BUCARAMANGA | I13: Identificar habilidades y destrezas de emprendedores, empresarios y ciudadanos para orientarlos hacia el emprendimiento o la empleabilidad. | J13: 44566 | K13: 44926 | L13: 800 | M13: =+'Estrategias '!C10 -> 76 | N13: =IF(M13/L13>100%,100%,M13/L13) -> 0.095 | O13: 2.3.2.02.02.006 2.3.2.02.02.007 2.3.2.02.02.009 | P13: 251398498 | U13: =+SUM(P13:T13) -> 251398498 | V13: =+'Calculos CDE'!E24 -> 87397656 | AA13: =SUM(V13:Z13) -> 87397656 | AB13: =IFERROR(AA13/U13,"-") -> 0.3476459 | AD13: IMEBU | AE13: Luis Gonzalo Gómez Guerrero
A14: 186 | B14: BUCARAMANGA PRODUCTIVA Y COMPETITIVA: EMPRESAS INNOVADORAS, RESPONSABLES Y CONSCIENTES | C14: Emprendimiento, Innovación, Formalización Y Dinamización Empresarial | D14: Banca Ciudadana | E14: Intervenir a 4.000 empresas y/o emprendimientos mediante apalancamiento financiero orientado a realizar inversión en innovación y/o tecnología en la zona rural y urbana con enfoque diferencial. | F14: Número de empresas y/o emprendimientos intervenidos mediante apalancamiento financiero orientado a realizar inversión en innovación y/o tecnología en la zona rural y urbana con enfoque diferencial. | G14: 2020680010084 | H14: APOYO DEL FONDO DE FOMENTO Y CRÉDITO DE APOYO DEL IMEBU, PROGRAMA BANCA CIUDADANA EN EL MUNICIPIO DE BUCARAMANGA | I14: Otorgar créditos para el emprendimiento y/o fortalecimiento financiero de empresas orientados a capital de trabajo, nómina y/o activos fijos. Realizar acompañamiento técnico y visitas pos crédito a los emprendimientos y/o empresas apoyadas. | J14: 44566 | K14: 44926 | L14: 300 | M14: =+'Estrategias '!C11 -> 325 | N14: =IF(M14/L14>100%,100%,M14/L14) -> 1 | O14: 2.3.2.02.02.009 | P14: 5000000 | S14: 5000004 | U14: =+SUM(P14:T14) -> 10000004 | V14: =+Gastos_Feb!V70/2 -> 10000000 | AA14: =SUM(V14:Z14) -> 10000000 | AB14: =IFERROR(AA14/U14,"-") -> 0.9999996 | AD14: IMEBU | AE14: Luis Gonzalo Gómez Guerrero
A15: 187 | B15: BUCARAMANGA PRODUCTIVA Y COMPETITIVA: EMPRESAS INNOVADORAS, RESPONSABLES Y CONSCIENTES | C15: Emprendimiento, Innovación, Formalización Y Dinamización Empresarial | D15: Banca Ciudadana | E15: Otorgar 6.000 créditos a emprendimientos y mipymes de orientados a capital de trabajo o destinos de inversión diferente a innovación y/o tecnología en zonas urbanas y rurales. | F15: Número de créditos otorgados a emprendimientos y mipymes de orientados a capital de trabajo o destinos de inversión diferente a innovación y/o tecnología en zonas urbanas y rurales. | G15: 2020680010084 | H15: APOYO DEL FONDO DE FOMENTO Y CRÉDITO DE APOYO DEL IMEBU, PROGRAMA BANCA CIUDADANA EN EL MUNICIPIO DE BUCARAMANGA | I15: Otorgar créditos para el emprendimiento y/o fortalecimiento financiero de empresas orientadas a la innovación y/o incorporación de tecnología. | J15: 44566 | K15: 44926 | L15: 1200 | M15: =+'Estrategias '!C12 -> 375 | N15: =IF(M15/L15>100%,100%,M15/L15) -> 0.3125 | O15: 2.3.2.02.02.009 | P15: 5000000 | S15: 5000004 | U15: =+SUM(P15:T15) -> 10000004 | V15: =+Gastos_Feb!V70/2 -> 10000000 | AA15: =SUM(V15:Z15) -> 10000000 | AB15: =IFERROR(AA15/U15,"-") -> 0.9999996 | AD15: IMEBU | AE15: Luis Gonzalo Gómez Guerrero
A16: 188 | B16: BUCARAMANGA PRODUCTIVA Y COMPETITIVA: EMPRESAS INNOVADORAS, RESPONSABLES Y CONSCIENTES | C16: Empleabilidad, Empleo Y Trabajo Decente | D16: Empleo Y Empleabilidad | E16: Registrar 5.000 hojas de vida para facilitar el proceso de inserción en el mercado laboral identificando habilidades, destrezas y que competencias para el trabajo. | F16: Número de hojas de vida registradas para facilitar el proceso de inserción en el mercado laboral identificando habilidades, destrezas y que competencias para el trabajo. | G16: 2020680010061 | H16: FORTALECIMIENTO DE LA OFICINA DE FOMENTO A LA EMPLEABILIDAD, EL EMPLEO Y EL TRABAJO DECENTE EN EL MUNICIPIO DE BUCARAMANGA | I16: Brindar formación en competencias personales y/o técnicas para el trabajo Realizar intermediación laboral entre oferentes de trabajo y buscadores de empleo. Ofrecer acompañamiento a las empresas en la estructuración y selección de perfiles adecuados a sus requerimientos. Formular la política pública de empleo y trabajo decente de la ciudad. | J16: 44566 | K16: 44926 | L16: 1300 | M16: =+'Estrategias '!C13 -> 1048 | N16: =IF(M16/L16>100%,100%,M16/L16) -> 0.80615385 | O16: 2.3.2.02.02.009 | P16: 107683334 | U16: =SUM(P16:T16) -> 107683334 | V16: =+Gastos_Feb!V71/3 -> 76951514 | AA16: =SUM(V16:Z16) -> 76951514 | AB16: =IFERROR(AA16/U16,"-") -> 0.71460932 | AD16: IMEBU | AE16: Luis Gonzalo Gómez Guerrero
A17: 189 | B17: BUCARAMANGA PRODUCTIVA Y COMPETITIVA: EMPRESAS INNOVADORAS, RESPONSABLES Y CONSCIENTES | C17: Empleabilidad, Empleo Y Trabajo Decente | D17: Empleo Y Empleabilidad | E17: Formar 3.000 jóvenes y adultos en competencias personales y/o técnicas para el trabajo con el fin de facilitar su inserción en el mercado laboral. | F17: Número de jóvenes y adultos formados en competencias personales y/o técnicas para el trabajo con el fin de facilitar su inserción en el mercado laboral. | G17: 2020680010061 | H17: FORTALECIMIENTO DE LA OFICINA DE FOMENTO A LA EMPLEABILIDAD, EL EMPLEO Y EL TRABAJO DECENTE EN EL MUNICIPIO DE BUCARAMANGA | I17: Brindar formación en competencias personales y/o técnicas para el trabajo Realizar intermediación laboral entre oferentes de trabajo y buscadores de empleo. Ofrecer acompañamiento a las empresas en la estructuración y selección de perfiles adecuados a sus requerimientos. Formular la política pública de empleo y trabajo decente de la ciudad. | J17: 44566 | K17: 44926 | L17: 800 | M17: =+'Estrategias '!C14 -> 461 | N17: =IF(M17/L17>100%,100%,M17/L17) -> 0.57625 | O17: 2.3.2.02.02.009 | P17: 107683333 | U17: =SUM(P17:T17) -> 107683333 | V17: =+Gastos_Feb!V71/3 -> 76951514 | AA17: =SUM(V17:Z17) -> 76951514 | AB17: =IFERROR(AA17/U17,"-") -> 0.71460933 | AD17: IMEBU | AE17: Luis Gonzalo Gómez Guerrero
A18: 190 | B18: BUCARAMANGA PRODUCTIVA Y COMPETITIVA: EMPRESAS INNOVADORAS, RESPONSABLES Y CONSCIENTES | C18: Empleabilidad, Empleo Y Trabajo Decente | D18: Empleo Y Empleabilidad | E18: Acompañar a 1.500 empresas en el fomento de una cultura del empleo y trabajo decente para capturar vacantes que permitan realizar la intermediación laboral. | F18: Número de empresas acompañadas en el fomento de una cultura del empleo y trabajo decente para capturar vacantes que permitan realizar la intermediación laboral. | G18: 2020680010061 | H18: FORTALECIMIENTO DE LA OFICINA DE FOMENTO A LA EMPLEABILIDAD, EL EMPLEO Y EL TRABAJO DECENTE EN EL MUNICIPIO DE BUCARAMANGA | I18: Brindar formación en competencias personales y/o técnicas para el trabajo Realizar intermediación laboral entre oferentes de trabajo y buscadores de empleo. Ofrecer acompañamiento a las empresas en la estructuración y selección de perfiles adecuados a sus requerimientos. Formular la política pública de empleo y trabajo decente de la ciudad. | J18: 44566 | K18: 44926 | L18: 390 | M18: =+'Estrategias '!C15 -> 80 | N18: =IF(M18/L18>100%,100%,M18/L18) -> 0.20512821 | O18: 2.3.2.02.02.009 | P18: 107683333 | U18: =SUM(P18:T18) -> 107683333 | V18: =+Gastos_Feb!V71/3 -> 76951514 | AA18: =SUM(V18:Z18) -> 76951514 | AB18: =IFERROR(AA18/U18,"-") -> 0.71460933 | AD18: IMEBU | AE18: Luis Gonzalo Gómez Guerrero
A19: 302 | B19: BUCARAMANGA TERRITORIO LIBRE DE CORRUPCIÓN: INSTITUCIONES SÓLIDAS Y CONFIABLES | C19: Administración Pública Moderna E Innovadora | D19: Gobierno Fortalecido Para Ser Y Hacer | E19: Mantener en funcionamiento el 100% de los programas del Instituto Municipal del Empleo. | F19: Porcentaje de los programas de Instituto Municipal del Empleo mantenidos en funcionamiento. | G19: 2021680010176 | H19: FORTALECIMIENTO DE LOS PROCESOS DEL INSTITUTO MUNICIPAL DE EMPLEO Y FOMENTO EMPRESARIAL DEL MUNICIPIO DE BUCARAMANGA | I19: Apoyar los procesos administrativos, juridicos y de control interno del IMEBU. Realizar acompañamiento, seguimiento y control de los programas y proyectos misionales del IMEBU. | J19: 44566 | K19: 44926 | L19: 1 | M19: 1 | N19: =IF(M19/L19>100%,100%,M19/L19) -> 1 | O19: 2.3.2.02.02.009 | P19: =+Gastos_Mar!M73 -> 384087563 | U19: =SUM(P19:T19) -> 384087563 | V19: =+Gastos_Feb!V72 -> 383420000 | AA19: =SUM(V19:Z19) -> 383420000 | AB19: =IFERROR(AA19/U19,"-") -> 0.99826195 | AD19: IMEBU | AE19: Luis Gonzalo Gómez Guerrero
A20: =SUM(--(FREQUENCY(A9:A19,A9:A19)>0)) -> 11 | M20: TOTALES | N20: =IFERROR(AVERAGE(N9:N19),"-") -> 0.50518473 | Q20: =SUM(Q9:Q19) -> 0 | R20: =SUM(R9:R19) -> 0 | S20: =SUM(S9:S19) -> 10000008 | T20: =SUM(T9:T19) -> 0 | U20: =SUM(U9:U19) -> 2707137571 | V20: =SUM(V9:V19) -> 2208443200 | W20: =SUM(W9:W19) -> 0 | X20: =SUM(X9:X19) -> 0 | ... AA20: =SUM(AA9:AA19) -> 2208443200 | AB20: =IFERROR(AA20/U20,"-") -> 0.81578536 | AC20: =SUM(AC9:AC19) -> 516089527

Sheet Avance a cuatrienio
B4: ALCALDÍA DE BUCARAMANGA
B5: PLAN DE DESARROLLO 2020 - 2023 "BUCARAMANGA, UNA CIUDAD DE OPORTUNIDADES"
B6: PLAN DE ACCIÓN - INSTITUTO MUNICIPAL DE EMPLEO Y FOMENTO EMPRESARIAL DE BUCARAMANGA (IMEBU)
B9: AÑO | C9: FECHA CORTE
B10: 2020 | C10: 44196 | D10: PLAN DE ACCIÓN
B11: LÍNEA ESTRATÉGICA | C11: COMPONENTE | D11: PROGRAMA | E11: TIEMPO PROGRAMADO (en el año) | G11: META | H11: META CUATRIENIO | I11: 2020 | N11: 2021 I TRIM | S11: 2021 II TRIM | W11: 2021 | AB11: AVANCE CUATRIENIO MAR 2021 | AC11: 2022 MARZO | AH11: LOGRO CUATRIENIO MAR 2022 | AI11: % AVANCE CUATRIENIO MARZO 2022
I12: INDICADORES | L12: AVANCE | N12: INDICADORES | Q12: AVANCE | S12: INDICADORES | U12: AVANCE | W12: INDICADORES | Z12: AVANCE | AC12: INDICADORES | AF12: AVANCE
I13: META | J13: LOGRO | L13: Porcentaje de avance en tiempo | M13: Porcentaje de avance en cumplimiento | N13: META | O13: LOGRO | Q13: Porcentaje de avance en tiempo | R13: Porcentaje de avance en cumplimiento | S13: META | T13: LOGRO | U13: Porcentaje de avance en tiempo | V13: Porcentaje de avance en cumplimiento | W13: META | X13: LOGRO | Z13: Porcentaje de avance en tiempo | AA13: Porcentaje de avance en cumplimiento | AC13: META PDM | AD13: LOGRO | AF13: Porcentaje de avance en tiempo | AG13: Porcentaje de avance en cumplimiento
E14: Fecha Inicial | F14: Fecha Terminación
B15: 3. BUCARAMANGA PRODUCTIVA Y COMPETITIVA: EMPRESAS INNOVADORAS, RESPONSABLES Y CONSCIENTES | C15: EMPRENDIMIENTO, INNOVACIÓN, FORMALIZACIÓN Y DINAMIZACIÓN EMPRESARIAL | D15: EMPRENDIMIENTO E INNOVACIÓN | E15: 43831 | F15: 44196 | G15: =+'PA 2022'!E9 -> Fortalecer a 5.000 empresas, emprendimientos y/o unidades productivas, a través de la implementación de un programa de incubación y aceleración de emprendimientos innovadores articulados con el ecosistema de emprendimiento, que caracterice las capacidades tecnológicas instaladas (duras y blandas) con enfoque diferencial. | H15: 5000 | I15: 100 | J15: 100 | K15: =+J15/I15 -> 1 | L15: =DAYS360(E15,$C$10)/DAYS360(E15,F15) -> 1 | M15: =IF(I15=0," -",IF(K15>100%,100%,K15)) -> 1 | N15: 1000 | O15: 79 | P15: =+O15/N15 -> 0.079 | Q15: =+(3*100%)/12 -> 0.25 | R15: =IF(N15=0," -",IF(P15>100%,100%,P15)) -> 0.079 | S15: 1000 | T15: 347 | U15: 0.5 | V15: 0.347 | W15: 1000 | X15: 1178 | Y15: =+X15/W15 -> 1.178 | Z15: 1 | AA15: =IF(W15=0," -",IF(Y15>100%,100%,Y15)) -> 1 | AB15: =(J15+O15)/H15 -> 0.0358 | AC15: 800 | AD15: =+'PA 2022'!M9 -> 146 | AE15: =+AD15/AC15 -> 0.1825 | AF15: 0.16666667 | AG15: =IF(AC15=0," -",IF(AE15>100%,100%,AE15)) -> 0.1825 | AH15: =+J15+X15+AD15 -> 1424 | AI15: =+AH15/H15 -> 0.2848 | AJ15: *Incubadora CREA - Tiene 304 inscritos, entregará 100 incubados cada trimestre. *Incubados S-IINOVA CEMPRENDE, entregará 200 empresas incubadas (Seed Lab de tecnología, Espacios Colaborativos y otros ) *Consultorio E Marketing tiene inscritas 210 empresas, y entregará 800 empresas asesoradas. *Avanza Bga tiene en proceso de aceleración 80 empresas y culminará con 300 aceleradas y formadas. 1600 EMPRESAS SE ATENDERÁN PARA CUMPLIR CON REZAGO DEL CUATRIENIO (800 ADICIONALES A LA META DEL AÑO)
D16: CENTROS DE DESARROLLO EMPRESARIAL | E16: 43831 | F16: 44196 | G16: =+'PA 2022'!E10 -> Implementar 1 programa de desarrollo empresarial y de empleabilidad para las micro y pequeñas empresas (incluyendo unidades productivas). | H16: 1 | I16: 1 | J16: 1 | K16: =+J16/I16 -> 1 | L16: =DAYS360(E16,$C$10)/DAYS360(E16,F16) -> 1 | M16: =IF(I16=0," -",IF(K16>100%,100%,K16)) -> 1 | N16: 1 | O16: 1 | P16: =+O16/N16 -> 1 | Q16: =+(3*100%)/12 -> 0.25 | R16: =IF(N16=0," -",IF(P16>100%,100%,P16)) -> 1 | S16: 1 | T16: 1 | U16: 0.5 | V16: 1 | W16: 1 | X16: 1 | Y16: =+X16/W16 -> 1 | Z16: 1 | AA16: =IF(W16=0," -",IF(Y16>100%,100%,Y16)) -> 1 | AB16: =(J16+O16)/H16 -> 2 | AC16: 1 | AD16: =+'PA 2022'!M10 -> 1 | AE16: =+AD16/AC16 -> 1 | AF16: 0.16666667 | AG16: =IF(AC16=0," -",IF(AE16>100%,100%,AE16)) -> 1 | AH16: 1 | AI16: 1
E17: 43831 | F17: 44196 | G17: =+'PA 2022'!E11 -> Desarrollar el modelo CDE virtual para que amplíen la cobertura en la ciudad. | H17: 1 | I17: 0.1 | J17: 0.1 | K17: =+J17/I17 -> 1 | L17: =DAYS360(E17,$C$10)/DAYS360(E17,F17) -> 1 | M17: =IF(I17=0," -",IF(K17>100%,100%,K17)) -> 1 | N17: 0.25 | O17: 0 | P17: =+O17/N17 -> 0 | Q17: =+(3*100%)/12 -> 0.25 | R17: =IF(N17=0," -",IF(P17>100%,100%,P17)) -> 0 | S17: 0.25 | T17: 0 | U17: 0.5 | V17: 0 | W17: 0.25 | X17: 0.25 | Y17: =+X17/W17 -> 1 | Z17: 1 | AA17: =IF(W17=0," -",IF(Y17>100%,100%,Y17)) -> 1 | AB17: =(J17+O17)/H17 -> 0.1 | AC17: 0.35 | AD17: =+'PA 2022'!M11 -> 0.0875 | AE17: =+AD17/AC17 -> 0.25 | AF17: 0.16666667 | AG17: =IF(AC17=0," -",IF(AE17>100%,100%,AE17)) -> 0.25 | AH17: =+J17+X17+AD17 -> 0.4375 | AI17: =+AH17/H17 -> 0.4375
E18: 43831 | F18: 44196 | G18: =+'PA 2022'!E12 -> Formar a 7.000 emprendedores a través de un programa de formación teórica, empresarial y/o artesanal con enfoque diferencial para emprendimientos artísticos, culturales, creativos, negocios verdes, microempresarios y/o unidades productivas urbanas y rurales. | H18: 7000 | I18: 800 | J18: 2029 | K18: =+J18/I18 -> 2.53625 | L18: =DAYS360(E18,$C$10)/DAYS360(E18,F18) -> 1 | M18: =IF(I18=0," -",IF(K18>100%,100%,K18)) -> 1 | N18: 1200 | O18: 57 | P18: =+O18/N18 -> 0.0475 | Q18: =+(3*100%)/12 -> 0.25 | R18: =IF(N18=0," -",IF(P18>100%,100%,P18)) -> 0.0475 | S18: 1200 | T18: 1082 | U18: 0.5 | V18: 0.90166667 | W18: 1200 | X18: 2673 | Y18: =+X18/W18 -> 2.2275 | Z18: 1 | AA18: =IF(W18=0," -",IF(Y18>100%,100%,Y18)) -> 1 | AB18: =(J18+O18)/H18 -> 0.298 | AC18: 2000 | AD18: =+'PA 2022'!M12 -> 259 | AE18: =+AD18/AC18 -> 0.1295 | AF18: 0.16666667 | AG18: =IF(AC18=0," -",IF(AE18>100%,100%,AE18)) -> 0.1295 | AH18: =+J18+X18+AD18 -> 4961 | AI18: =+AH18/H18 -> 0.70871429
E19: 43831 | F19: 44196 | G19: =+'PA 2022'!E13 -> Implementar en 4.000 mipymes planes estratégicos orientados a innovar y/o incorporación tecnológica en áreas empresariales estratégicas con apoyo de Universidades y actores económicos clave. | H19: 4000 | I19: 300 | J19: 536 | K19: =+J19/I19 -> 1.7866667 | L19: =DAYS360(E19,$C$10)/DAYS360(E19,F19) -> 1 | M19: =IF(I19=0," -",IF(K19>100%,100%,K19)) -> 1 | N19: 500 | O19: 0 | P19: =+O19/N19 -> 0 | Q19: =+(3*100%)/12 -> 0.25 | R19: =IF(N19=0," -",IF(P19>100%,100%,P19)) -> 0 | S19: 500 | T19: 191 | U19: 0.5 | V19: 0.382 | W19: 500 | X19: 540 | Y19: =+X19/W19 -> 1.08 | Z19: 1 | AA19: =IF(W19=0," -",IF(Y19>100%,100%,Y19)) -> 1 | AB19: =(J19+O19)/H19 -> 0.134 | AC19: 800 | AD19: =+'PA 2022'!M13 -> 76 | AE19: =+AD19/AC19 -> 0.095 | AF19: 0.16666667 | AG19: =IF(AC19=0," -",IF(AE19>100%,100%,AE19)) -> 0.095 | AH19: =+J19+X19+AD19 -> 1152 | AI19: =+AH19/H19 -> 0.288 | AJ19: Se concertó que todas las empresas que accedan a crédito tendrán que pasar por asesoría financiera y comercial a los CDE. Se tendrá un asesor CDE en la sede de cada operador (8 horas asesoría requisito para desembolso). 1324 EMPRESAS SE ATENDERÁN PARA CUMPLIR CON REZAGO DE CUATRIENIO ( 524 ADICIONALES A LA DEL AÑO)
D20: BANCA CIUDADANA | E20: 43831 | F20: 44196 | G20: =+'PA 2022'!E14 -> Intervenir a 4.000 empresas y/o emprendimientos mediante apalancamiento financiero orientado a realizar inversión en innovación y/o tecnología en la zona rural y urbana con enfoque diferencial. | H20: 4000 | I20: 200 | J20: 0 | K20: =+J20/I20 -> 0 | L20: =DAYS360(E20,$C$10)/DAYS360(E20,F20) -> 1 | M20: =IF(I20=0," -",IF(K20>100%,100%,K20)) -> 0 | N20: 600 | O20: 17 | P20: =+O20/N20 -> 0.028333333 | Q20: =+(3*100%)/12 -> 0.25 | R20: =IF(N20=0," -",IF(P20>100%,100%,P20)) -> 0.028333333 | S20: 600 | T20: 38 | U20: 0.5 | V20: 0.063333333 | W20: 600 | X20: 234 | Y20: =+X20/W20 -> 0.39 | Z20: 1 | AA20: =IF(W20=0," -",IF(Y20>100%,100%,Y20)) -> 0.39 | AB20: =(J20+O20)/H20 -> 0.00425 | AC20: 300 | AD20: =+'PA 2022'!M14 -> 325 | AE20: =+AD20/AC20 -> 1.0833333 | AF20: 0.16666667 | AG20: =IF(AC20=0," -",IF(AE20>100%,100%,AE20)) -> 1 | AH20: =+J20+X20+AD20 -> 559 | AI20: =+AH20/H20 -> 0.13975 | AJ20: Se inyectaron recursos por un valor de $5.133.691.210, de los cuales $3520.856.575 son recursos propios y $1.612.834.635 son recursos de contrapartida de aliados financieros, a la Banca Ciudadana (Línea tasa 0% interés) para impulsar el cumplimiento de esta meta. En el primer trimestre ya se cumplió lo inicialmente planteado para el año. 2166 CRÉDITOS SE DESEMBOLSARÁN PARA CUMPLIR CON EL REZAGO DE CUATRIENIO)
E21: 43831 | F21: 44196 | G21: =+'PA 2022'!E15 -> Otorgar 6.000 créditos a emprendimientos y mipymes de orientados a capital de trabajo o destinos de inversión diferente a innovación y/o tecnología en zonas urbanas y rurales. | H21: 6000 | I21: 1200 | J21: 2293 | K21: =+J21/I21 -> 1.9108333 | L21: =DAYS360(E21,$C$10)/DAYS360(E21,F21) -> 1 | M21: =IF(I21=0," -",IF(K21>100%,100%,K21)) -> 1 | N21: 1600 | O21: 328 | P21: =+O21/N21 -> 0.205 | Q21: =+(3*100%)/12 -> 0.25 | R21: =IF(N21=0," -",IF(P21>100%,100%,P21)) -> 0.205 | S21: 1600 | T21: 662 | U21: 0.5 | V21: 0.41375 | W21: 1600 | X21: 1648 | Y21: =+X21/W21 -> 1.03 | Z21: 1 | AA21: =IF(W21=0," -",IF(Y21>100%,100%,Y21)) -> 1 | AB21: =(J21+O21)/H21 -> 0.43683333 | AC21: 1200 | AD21: =+'PA 2022'!M15 -> 375 | AE21: =+AD21/AC21 -> 0.3125 | AF21: 0.16666667 | AG21: =IF(AC21=0," -",IF(AE21>100%,100%,AE21)) -> 0.3125 | AH21: =+J21+X21+AD21 -> 4316 | AI21: =+AH21/H21 -> 0.71933333
AH22: =+J22+X22+AD22 -> 0 | AI22: =+AH22/H22 -> #DIV/0!
C23: EMPLEABILIDAD, EMPLEO Y TRABAJO DECENTE | D23: EMPLEO Y EMPLEABILIDAD | E23: 43831 | F23: 44196 | G23: =+'PA 2022'!E16 -> Registrar 5.000 hojas de vida para facilitar el proceso de inserción en el mercado laboral identificando habilidades, destrezas y que competencias para el trabajo. | H23: 5000 | I23: 1000 | J23: 1956 | K23: =+J23/I23 -> 1.956 | L23: =DAYS360(E23,$C$10)/DAYS360(E23,F23) -> 1 | M23: =IF(I23=0," -",IF(K23>100%,100%,K23)) -> 1 | N23: 1200 | O23: 573 | P23: =+O23/N23 -> 0.4775 | Q23: =+(3*100%)/12 -> 0.25 | R23: =IF(N23=0," -",IF(P23>100%,100%,P23)) -> 0.4775 | S23: 1200 | T23: 1946 | U23: 0.5 | V23: 1 | W23: 1200 | X23: 3996 | Y23: =+X23/W23 -> 3.33 | Z23: 1 | AA23: =IF(W23=0," -",IF(Y23>100%,100%,Y23)) -> 1 | AB23: =(J23+O23)/H23 -> 0.5058 | AC23: 1300 | AD23: =+'PA 2022'!M16 -> 1048 | AE23: =+AD23/AC23 -> 0.80615385 | AF23: 0.16666667 | AG23: =IF(AC23=0," -",IF(AE23>100%,100%,AE23)) -> 0.80615385 | AH23: =+J23+X23+AD23 -> 7000 | AI23: 1
E24: 43831 | F24: 44196 | G24: =+'PA 2022'!E17 -> Formar 3.000 jóvenes y adultos en competencias personales y/o técnicas para el trabajo con el fin de facilitar su inserción en el mercado laboral. | H24: 3000 | I24: 600 | J24: 1335 | K24: =+J24/I24 -> 2.225 | L24: =DAYS360(E24,$C$10)/DAYS360(E24,F24) -> 1 | M24: =IF(I24=0," -",IF(K24>100%,100%,K24)) -> 1 | N24: 700 | O24: 180 | P24: =+O24/N24 -> 0.25714286 | Q24: =+(3*100%)/12 -> 0.25 | R24: =IF(N24=0," -",IF(P24>100%,100%,P24)) -> 0.25714286 | S24: 700 | T24: 1220 | U24: 0.5 | V24: 1 | W24: 700 | X24: 2960 | Y24: =+X24/W24 -> 4.2285714 | Z24: 1 | AA24: =IF(W24=0," -",IF(Y24>100%,100%,Y24)) -> 1 | AB24: =(J24+O24)/H24 -> 0.505 | AC24: 800 | AD24: =+'PA 2022'!M17 -> 461 | AE24: =+AD24/AC24 -> 0.57625 | AF24: 0.16666667 | AG24: =IF(AC24=0," -",IF(AE24>100%,100%,AE24)) -> 0.57625 | AH24: =+J24+X24+AD24 -> 4756 | AI24: 1
E25: 43831 | F25: 44196 | G25: =+'PA 2022'!E18 -> Acompañar a 1.500 empresas en el fomento de una cultura del empleo y trabajo decente para capturar vacantes que permitan realizar la intermediación laboral. | H25: 1500 | I25: 330 | J25: =368+32 -> 400 | K25: =+J25/I25 -> 1.2121212 | L25: =DAYS360(E25,$C$10)/DAYS360(E25,F25) -> 1 | M25: =IF(I25=0," -",IF(K25>100%,100%,K25)) -> 1 | N25: 370 | O25: 70 | P25: =+O25/N25 -> 0.18918919 | Q25: =+(3*100%)/12 -> 0.25 | R25: =IF(N25=0," -",IF(P25>100%,100%,P25)) -> 0.18918919 | S25: 370 | T25: 332 | U25: 0.5 | V25: 0.8972973 | W25: 370 | X25: 1056 | Y25: =+X25/W25 -> 2.8540541 | Z25: 1 | AA25: =IF(W25=0," -",IF(Y25>100%,100%,Y25)) -> 1 | AB25: =(J25+O25)/H25 -> 0.31333333 | AC25: 390 | AD25: =+'PA 2022'!M18 -> 80 | AE25: =+AD25/AC25 -> 0.20512821 | AF25: 0.16666667 | AG25: =IF(AC25=0," -",IF(AE25>100%,100%,AE25)) -> 0.20512821 | AH25: =+J25+X25+AD25 -> 1536 | AI25: =+AH25/H25 -> 1.024
AH26: =+J26+X26+AD26 -> 0
B27: 5. BUCARAMANGA TERRITORIO LIBRE DE CORRUPCIÓN: INSTITUCIONES SÓLIDAS Y CONFIABLES | C27: ADMINISTRACIÓN PÚBLICA MODERNA E INNOVADORA | D27: GOBIERNO FORTALECIDO PARA SER Y HACER | E27: 43831 | F27: 44196 | G27: =+'PA 2022'!E19 -> Mantener en funcionamiento el 100% de los programas del Instituto Municipal del Empleo. | H27: 1 | I27: 1 | J27: 1 | K27: =+J27/I27 -> 1 | L27: =DAYS360(E27,$C$10)/DAYS360(E27,F27) -> 1 | M27: =IF(I27=0," -",IF(K27>100%,100%,K27)) -> 1 | N27: 1 | O27: 1 | P27: =+O27/N27 -> 1 | Q27: 0.25 | R27: =IF(N27=0," -",IF(P27>100%,100%,P27)) -> 1 | S27: 1 | T27: 1 | U27: 0.5 | V27: 1 | W27: 1 | X27: 1 | Y27: =+X27/W27 -> 1 | Z27: 1 | AA27: =IF(W27=0," -",IF(Y27>100%,100%,Y27)) -> 1 | AB27: 1 | AC27: 1 | AD27: 1 | AE27: =+AD27/AC27 -> 1 | AF27: 0.16666667 | AG27: =IF(AC27=0," -",IF(AE27>100%,100%,AE27)) -> 1 | AH27: 1 | AI27: 1
L28: =+AVERAGE(L15:L21,L23:L25,L27) -> 1 | M28: =+AVERAGE(M15:M21,M23:M25,M27) -> 0.90909091 | AA28: =+AVERAGE(AA15:AA21,AA23:AA25,AA27) -> 0.94454545 | AG28: =+AVERAGE(AG15:AG27) -> 0.50518473 | AI28: =+AVERAGE(AI15,AI16,AI17,AI18,AI19,AI20,AI21,AI23,AI24,AI25,AI27) -> 0.69109978
AG30: =+AVERAGE(AG15,AG16,AG17,AG18,AG19,AG20,AG21,AG23,AG24,AG25,AG27) -> 0.50518473

Sheet Estrategias 
A1: Proyecto | B1: Estrategia | C1: Beneficiados
A2: Coworking | B2: Consultorio E Marketing | C2: 79
A3: Coworking | B3: Espacios Colaborativos | C3: 14
A4: Coworking | B4: Avanza BGA | C4: 53
A5: Coworking | B5: Crea | C5: 0
A6: CDE | B6: Planes de mejoramiento diseñados | C6: 160
A7: CDE | B7: Modelos de negocio | C7: 16
A8: CDE | B8: Talleres CDE | C8: 83
A9: CDE | B9: Talleres vitrinismo Beatriz | C9: 20
A10: CDE | B10: Planes de mejoramiento implementados | C10: 76
A11: Banca | B11: Creditos tecnologia e innovación | C11: 325
A12: Banca | B12: Creditos diferente a tecnologia e innovación | C12: 375
A13: Empleo | B13: Registrados | C13: 1048
A14: Empleo | B14: Talleres empleo | C14: 461
A15: Empleo | B15: Empresas acompañadas | C15: =20+60 -> 80

Sheet Gastos_Feb
A1: INSTITUTO MUNICIPAL DE EMPLEO Y FOMENTO EMPRESARIAL - IMEBU
A2: NIT: 00804014968 - 1
A3: EJECUCION PRESUPUESTAL DE GASTOS
A4: Periodo comprendido entre 01-01-2022 y 28-02-2022
A5: Fecha de Impresión: 01.03.2022 Hora: 03:32:pm
A6: Impreso por: JENNIFER - JENNIFER MONTES GARCIA | N6: PRESUPUESTO DEFINITIVO | Q6: CDP | V6: RP
A7: Codigo de Control | B7: Rubro Presupuestal | C7: Unidad Ejecutora | D7: Descripción | E7: Proyecto | F7: Fuente | G7: Presupuesto Inicial | H7: Adiciones | I7: Aplazamientos | J7: Desaplazamiento | K7: Reducciones | L7: Créditos | M7: Contracréditos | N7: Presupuesto Definitivo | O7: Cdps Mes Anterior | P7: Cdps Mes Actual | Q7: Total Ejecutado Segun Cdps | R7: Cdps Vigencia Futura | S7: Saldo por Ejecutar | T7: Compromisos Mes Anterior | U7: Total Compromisos mes Actual | V7: Total Compromisos | W7: Saldo por Comprometer | X7: Total Obligaciones | Y7: Pagos Mes Anterior | Z7: Total Pagos Periodo | AA7: Total Pagos | AB7: Saldo por Pagar
B8: 2 | C8: IMEB | D8: Gastos | G8: 5040000000 | H8: 0 | I8: 0 | J8: 0 | K8: 0 | L8: 0 | M8: 0 | N8: 5040000000 | O8: 0 | P8: 2886935798 | Q8: 2886935798 | R8: 0 | S8: 2153064202 | T8: 0 | U8: 2860274793 | V8: 2860274793 | W8: 2179725207 | X8: 417051050 | Y8: 0 | Z8: 280962787 | AA8: 280962787 | AB8: 2579312006
B9: 2.1 | C9: IMEB | D9: Funcionamiento | G9: 2332862428 | H9: 0 | I9: 0 | J9: 0 | K9: 0 | L9: 0 | M9: 0 | N9: 2332862428 | O9: 0 | P9: 684195319 | Q9: 684195319 | R9: 0 | S9: 1648667109 | T9: 0 | U9: 664367848 | V9: 664367848 | W9: 1668494580 | X9: 267759354 | Y9: 0 | Z9: 175308509 | AA9: 175308509 | AB9: 489059339
B10: 2.1.1 | C10: IMEB | D10: Gastos de personal | G10: 1388561517 | H10: 0 | I10: 0 | J10: 0 | K10: 0 | L10: 0 | M10: 0 | N10: 1388561517 | O10: 0 | P10: 163004205 | Q10: 163004205 | R10: 0 | S10: 1225557312 | T10: 0 | U10: 163004205 | V10: 163004205 | W10: 1225557312 | X10: 162890645 | Y10: 0 | Z10: 144262245 | AA10: 144262245 | AB10: 18741960
B11: 2.1.1.01 | C11: IMEB | D11: Planta de personal permanente | G11: 1388561517 | H11: 0 | I11: 0 | J11: 0 | K11: 0 | L11: 0 | M11: 0 | N11: 1388561517 | O11: 0 | P11: 163004205 | Q11: 163004205 | R11: 0 | S11: 1225557312 | T11: 0 | U11: 163004205 | V11: 163004205 | W11: 1225557312 | X11: 162890645 | Y11: 0 | Z11: 144262245 | AA11: 144262245 | AB11: 18741960
B12: 2.1.1.01.01 | C12: IMEB | D12: Factores constitutivos de salario | G12: 986057546 | H12: 0 | I12: 0 | J12: 0 | K12: 0 | L12: 0 | M12: 0 | N12: 986057546 | O12: 0 | P12: 122673477 | Q12: 122673477 | R12: 0 | S12: 863384069 | T12: 0 | U12: 122673477 | V12: 122673477 | W12: 863384069 | X12: 122673477 | Y12: 0 | Z12: 122673477 | AA12: 122673477 | AB12: 0
B13: 2.1.1.01.01.001 | C13: IMEB | D13: Factores salariales comunes | G13: 976294600 | H13: 0 | I13: 0 | J13: 0 | K13: 0 | L13: 0 | M13: 0 | N13: 976294600 | O13: 0 | P13: 122657589 | Q13: 122657589 | R13: 0 | S13: 853637011 | T13: 0 | U13: 122657589 | V13: 122657589 | W13: 853637011 | X13: 122657589 | Y13: 0 | Z13: 122657589 | AA13: 122657589 | AB13: 0
A14: 220001 | B14: 2.1.1.01.01.001.01 | C14: IMEB | D14: Sueldo básico | F14: 1.2.1.0.0 | G14: 775965124 | H14: 0 | I14: 0 | J14: 0 | K14: 0 | L14: 0 | M14: 0 | N14: 775965124 | O14: 0 | P14: 119745248 | Q14: 119745248 | R14: 0 | S14: 656219876 | T14: 0 | U14: 119745248 | V14: 119745248 | W14: 656219876 | X14: 119745248 | Y14: 0 | Z14: 119745248 | AA14: 119745248 | AB14: 0
A15: 220002 | B15: 2.1.1.01.01.001.06 | C15: IMEB | D15: Prima de servicios | F15: 1.2.1.0.0 | G15: 66549782 | H15: 0 | I15: 0 | J15: 0 | K15: 0 | L15: 0 | M15: 0 | N15: 66549782 | O15: 0 | P15: 119756 | Q15: 119756 | R15: 0 | S15: 66430026 | T15: 0 | U15: 119756 | V15: 119756 | W15: 66430026 | X15: 119756 | Y15: 0 | Z15: 119756 | AA15: 119756 | AB15: 0
A16: 220003 | B16: 2.1.1.01.01.001.07 | C16: IMEB | D16: Bonificación por servicios prestados | F16: 1.2.1.0.0 | G16: 22632315 | H16: 0 | I16: 0 | J16: 0 | K16: 0 | L16: 0 | M16: 0 | N16: 22632315 | O16: 0 | P16: 1062316 | Q16: 1062316 | R16: 0 | S16: 21569999 | T16: 0 | U16: 1062316 | V16: 1062316 | W16: 21569999 | X16: 1062316 | Y16: 0 | Z16: 1062316 | AA16: 1062316 | AB16: 0
B17: 2.1.1.01.01.001.08 | C17: IMEB | D17: Prestaciones sociales | G17: 111147379 | H17: 0 | I17: 0 | J17: 0 | K17: 0 | L17: 0 | M17: 0 | N17: 111147379 | O17: 0 | P17: 1730269 | Q17: 1730269 | R17: 0 | S17: 109417110 | T17: 0 | U17: 1730269 | V17: 1730269 | W17: 109417110 | X17: 1730269 | Y17: 0 | Z17: 1730269 | AA17: 1730269 | AB17: 0
A18: 220004 | B18: 2.1.1.01.01.001.08.01 | C18: IMEB | D18: Prima de navidad | F18: 1.2.1.0.0 | G18: 75099581 | H18: 0 | I18: 0 | J18: 0 | K18: 0 | L18: 0 | M18: 0 | N18: 75099581 | O18: 0 | P18: 127275 | Q18: 127275 | R18: 0 | S18: 74972306 | T18: 0 | U18: 127275 | V18: 127275 | W18: 74972306 | X18: 127275 | Y18: 0 | Z18: 127275 | AA18: 127275 | AB18: 0
A19: 220005 | B19: 2.1.1.01.01.001.08.02 | C19: IMEB | D19: Prima de vacaciones | F19: 1.2.1.0.0 | G19: 36047798 | H19: 0 | I19: 0 | J19: 0 | K19: 0 | L19: 0 | M19: 0 | N19: 36047798 | O19: 0 | P19: 1602994 | Q19: 1602994 | R19: 0 | S19: 34444804 | T19: 0 | U19: 1602994 | V19: 1602994 | W19: 34444804 | X19: 1602994 | Y19: 0 | Z19: 1602994 | AA19: 1602994 | AB19: 0
A20: 220006 | B20: 2.1.1.01.01.002 | C20: IMEB | D20: Factores salariales especiales | F20: 1.2.1.0.0 | G20: 9762946 | H20: 0 | I20: 0 | J20: 0 | K20: 0 | L20: 0 | M20: 0 | N20: 9762946 | O20: 0 | P20: 15888 | Q20: 15888 | R20: 0 | S20: 9747058 | T20: 0 | U20: 15888 | V20: 15888 | W20: 9747058 | X20: 15888 | Y20: 0 | Z20: 15888 | AA20: 15888 | AB20: 0
B21: 2.1.1.01.02 | C21: IMEB | D21: Contribuciones inherentes a la nómina | G21: 335322951 | H21: 0 | I21: 0 | J21: 0 | K21: 0 | L21: 0 | M21: 0 | N21: 335322951 | O21: 0 | P21: 37991057 | Q21: 37991057 | R21: 0 | S21: 297331894 | T21: 0 | U21: 37991057 | V21: 37991057 | W21: 297331894 | X21: 37877497 | Y21: 0 | Z21: 19249097 | AA21: 19249097 | AB21: 18741960
A22: 220007 | B22: 2.1.1.01.02.001 | C22: IMEB | D22: Aportes a la seguridad social en pensiones | F22: 1.2.1.0.0 | G22: 95788061 | H22: 0 | I22: 0 | J22: 0 | K22: 0 | L22: 0 | M22: 0 | N22: 95788061 | O22: 0 | P22: 14977800 | Q22: 14977800 | R22: 0 | S22: 80810261 | T22: 0 | U22: 14977800 | V22: 14977800 | W22: 80810261 | X22: 14977800 | Y22: 0 | Z22: 7516200 | AA22: 7516200 | AB22: 7461600
A23: 220008 | B23: 2.1.1.01.02.002 | C23: IMEB | D23: Aportes a la seguridad social en salud | F23: 1.2.1.0.0 | G23: 67849877 | H23: 0 | I23: 0 | J23: 0 | K23: 0 | L23: 0 | M23: 0 | N23: 67849877 | O23: 0 | P23: 10608800 | Q23: 10608800 | R23: 0 | S23: 57241077 | T23: 0 | U23: 10608800 | V23: 10608800 | W23: 57241077 | X23: 10608800 | Y23: 0 | Z23: 5323700 | AA23: 5323700 | AB23: 5285100
A24: 220009 | B24: 2.1.1.01.02.003 | C24: IMEB | D24: Aportes de cesantías | F24: 1.2.1.0.0 | G24: 81357880 | H24: 0 | I24: 0 | J24: 0 | K24: 0 | L24: 0 | M24: 0 | N24: 81357880 | O24: 0 | P24: 132397 | Q24: 132397 | R24: 0 | S24: 81225483 | T24: 0 | U24: 132397 | V24: 132397 | W24: 81225483 | X24: 132397 | Y24: 0 | Z24: 132397 | AA24: 132397 | AB24: 0
A25: 220010 | B25: 2.1.1.01.02.004 | C25: IMEB | D25: Aportes a cajas de compensación familiar | F25: 1.2.1.0.0 | G25: 38048157 | H25: 0 | I25: 0 | J25: 0 | K25: 0 | L25: 0 | M25: 0 | N25: 38048157 | O25: 0 | P25: 5147800 | Q25: 5147800 | R25: 0 | S25: 32900357 | T25: 0 | U25: 5147800 | V25: 5147800 | W25: 32900357 | X25: 5147800 | Y25: 0 | Z25: 2660200 | AA25: 2660200 | AB25: 2487600
A26: 220011 | B26: 2.1.1.01.02.005 | C26: IMEB | D26: Aportes generales al sistema de riesgos laborales | F26: 1.2.1.0.0 | G26: 4718781 | H26: 0 | I26: 0 | J26: 0 | K26: 0 | L26: 0 | M26: 0 | N26: 4718781 | O26: 0 | P26: 687860 | Q26: 687860 | R26: 0 | S26: 4030921 | T26: 0 | U26: 687860 | V26: 687860 | W26: 4030921 | X26: 574300 | Y26: 0 | Z26: 290500 | AA26: 290500 | AB26: 397360
A27: 220012 | B27: 2.1.1.01.02.006 | C27: IMEB | D27: Aportes al ICBF | F27: 1.2.1.0.0 | G27: 28536117 | H27: 0 | I27: 0 | J27: 0 | K27: 0 | L27: 0 | M27: 0 | N27: 28536117 | O27: 0 | P27: 3861700 | Q27: 3861700 | R27: 0 | S27: 24674417 | T27: 0 | U27: 3861700 | V27: 3861700 | W27: 24674417 | X27: 3861700 | Y27: 0 | Z27: 1995600 | AA27: 1995600 | AB27: 1866100
A28: 220013 | B28: 2.1.1.01.02.007 | C28: IMEB | D28: Aportes al SENA | F28: 1.2.1.0.0 | G28: 19024078 | H28: 0 | I28: 0 | J28: 0 | K28: 0 | L28: 0 | M28: 0 | N28: 19024078 | O28: 0 | P28: 2574700 | Q28: 2574700 | R28: 0 | S28: 16449378 | T28: 0 | U28: 2574700 | V28: 2574700 | W28: 16449378 | X28: 2574700 | Y28: 0 | Z28: 1330500 | AA28: 1330500 | AB28: 1244200
B29: 2.1.1.01.03 | C29: IMEB | D29: Remuneraciones no constitutivas de factor salarial | G29: 67181020 | H29: 0 | I29: 0 | J29: 0 | K29: 0 | L29: 0 | M29: 0 | N29: 67181020 | O29: 0 | P29: 2339671 | Q29: 2339671 | R29: 0 | S29: 64841349 | T29: 0 | U29: 2339671 | V29: 2339671 | W29: 64841349 | X29: 2339671 | Y29: 0 | Z29: 2339671 | AA29: 2339671 | AB29: 0
B30: 2.1.1.01.03.001 | C30: IMEB | D30: Prestaciones sociales | G30: 67181020 | H30: 0 | I30: 0 | J30: 0 | K30: 0 | L30: 0 | M30: 0 | N30: 67181020 | O30: 0 | P30: 2339671 | Q30: 2339671 | R30: 0 | S30: 64841349 | T30: 0 | U30: 2339671 | V30: 2339671 | W30: 64841349 | X30: 2339671 | Y30: 0 | Z30: 2339671 | AA30: 2339671 | AB30: 0
A31: 220014 | B31: 2.1.1.01.03.001.01 | C31: IMEB | D31: Vacaciones | F31: 1.2.1.0.0 | G31: 52870104 | H31: 0 | I31: 0 | J31: 0 | K31: 0 | L31: 0 | M31: 0 | N31: 52870104 | O31: 0 | P31: 2137325 | Q31: 2137325 | R31: 0 | S31: 50732779 | T31: 0 | U31: 2137325 | V31: 2137325 | W31: 50732779 | X31: 2137325 | Y31: 0 | Z31: 2137325 | AA31: 2137325 | AB31: 0
A32: 220015 | B32: 2.1.1.01.03.001.02 | C32: IMEB | D32: Indemnización por vacaciones | F32: 1.3.2.3.05 | G32: 10000000 | H32: 0 | I32: 0 | J32: 0 | K32: 0 | L32: 0 | M32: 0 | N32: 10000000 | O32: 0 | P32: 0 | Q32: 0 | R32: 0 | S32: 10000000 | T32: 0 | U32: 0 | V32: 0 | W32: 10000000 | X32: 0 | Y32: 0 | Z32: 0 | AA32: 0 | AB32: 0
A33: 220016 | B33: 2.1.1.01.03.001.03 | C33: IMEB | D33: Bonificacion especial de recreación | F33: 1.2.1.0.0 | G33: 4310916 | H33: 0 | I33: 0 | J33: 0 | K33: 0 | L33: 0 | M33: 0 | N33: 4310916 | O33: 0 | P33: 202346 | Q33: 202346 | R33: 0 | S33: 4108570 | T33: 0 | U33: 202346 | V33: 202346 | W33: 4108570 | X33: 202346 | Y33: 0 | Z33: 202346 | AA33: 202346 | AB33: 0
B34: 2.1.2 | C34: IMEB | D34: Adquisición de bienes y servicios | G34: 788491311 | H34: 0 | I34: 0 | J34: 0 | K34: 0 | L34: 0 | M34: 0 | N34: 788491311 | O34: 0 | P34: 505191114 | Q34: 505191114 | R34: 0 | S34: 283300197 | T34: 0 | U34: 485363643 | V34: 485363643 | W34: 303127668 | X34: 101212643 | Y34: 0 | Z34: 27390198 | AA34: 27390198 | AB34: 457973445
B35: 2.1.2.02 | C35: IMEB | D35: Adquisiciones diferentes de activos | G35: 788491311 | H35: 0 | I35: 0 | J35: 0 | K35: 0 | L35: 0 | M35: 0 | N35: 788491311 | O35: 0 | P35: 505191114 | Q35: 505191114 | R35: 0 | S35: 283300197 | T35: 0 | U35: 485363643 | V35: 485363643 | W35: 303127668 | X35: 101212643 | Y35: 0 | Z35: 27390198 | AA35: 27390198 | AB35: 457973445
B36: 2.1.2.02.01 | C36: IMEB | D36: Materiales y suministros | G36: 82118061 | H36: 0 | I36: 0 | J36: 0 | K36: 0 | L36: 0 | M36: 0 | N36: 82118061 | O36: 0 | P36: 23127471 | Q36: 23127471 | R36: 0 | S36: 58990590 | T36: 0 | U36: 3300000 | V36: 3300000 | W36: 78818061 | X36: 275000 | Y36: 0 | Z36: 275000 | AA36: 275000 | AB36: 3025000
A37: 220017 | B37: 2.1.2.02.01.002 | C37: IMEB | D37: Productos alimenticios, bebidas y tabaco; textiles, prendas de vestir y productos de cuero | F37: 1.2.1.0.0 | G37: 13118061 | H37: 0 | I37: 0 | J37: 0 | K37: 0 | L37: 0 | M37: 0 | N37: 13118061 | O37: 0 | P37: 3300000 | Q37: 3300000 | R37: 0 | S37: 9818061 | T37: 0 | U37: 3300000 | V37: 3300000 | W37: 9818061 | X37: 275000 | Y37: 0 | Z37: 275000 | AA37: 275000 | AB37: 3025000
A38: 220018 | B38: 2.1.2.02.01.003 | C38: IMEB | D38: Otros bienes transportables (excepto productos metálicos, maquinaria y equipo) | F38: 1.2.1.0.0 | G38: 39000000 | H38: 0 | I38: 0 | J38: 0 | K38: 0 | L38: 0 | M38: 0 | N38: 39000000 | O38: 0 | P38: 19827471 | Q38: 19827471 | R38: 0 | S38: 19172529 | T38: 0 | U38: 0 | V38: 0 | W38: 39000000 | X38: 0 | Y38: 0 | Z38: 0 | AA38: 0 | AB38: 0
A39: 220019 | B39: 2.1.2.02.01.004 | C39: IMEB | D39: Productos metalicos y paquetes de software | F39: 1.2.1.0.0 | G39: 30000000 | H39: 0 | I39: 0 | J39: 0 | K39: 0 | L39: 0 | M39: 0 | N39: 30000000 | O39: 0 | P39: 0 | Q39: 0 | R39: 0 | S39: 30000000 | T39: 0 | U39: 0 | V39: 0 | W39: 30000000 | X39: 0 | Y39: 0 | Z39: 0 | AA39: 0 | AB39: 0
B40: 2.1.2.02.02 | C40: IMEB | D40: Adquisición de servicios | G40: 706373250 | H40: 0 | I40: 0 | J40: 0 | K40: 0 | L40: 0 | M40: 0 | N40: 706373250 | O40: 0 | P40: 482063643 | Q40: 482063643 | R40: 0 | S40: 224309607 | T40: 0 | U40: 482063643 | V40: 482063643 | W40: 224309607 | X40: 100937643 | Y40: 0 | Z40: 27115198 | AA40: 27115198 | AB40: 454948445
...

Sheet Gastos_Mar
A1: INSTITUTO MUNICIPAL DE EMPLEO Y FOMENTO EMPRESARIAL - IMEBU
A2: NIT: 00804014968 - 1
A3: EJECUCION PRESUPUESTAL DE GASTOS
A4: Periodo comprendido entre 01-01-2022 y 31-03-2022
A5: Fecha de Impresión: 04.04.2022 Hora: 09:13:am
A6: Impreso por: GUSTAVO - GUSTAVO RAMIREZ BONELLS | M6: PRESUPUESTO | P6: CDP | U6: RP | Z6: PAGOS
A7: Codigo de Control | B7: Rubro Presupuestal | C7: Unidad Ejecutora | D7: Descripción | E7: Fuente | F7: Presupuesto Inicial | G7: Adiciones | H7: Aplazamientos | I7: Desaplazamiento | J7: Reducciones | K7: Créditos | L7: Contracréditos | M7: Presupuesto Definitivo | N7: Cdps Mes Anterior | O7: Cdps Mes Actual | P7: Total Ejecutado Segun Cdps | Q7: Cdps Vigencia Futura | R7: Saldo por Ejecutar | S7: Compromisos Mes Anterior | T7: Total Compromisos mes Actual | U7: Total Compromisos | V7: Saldo por Comprometer | W7: Total Obligaciones | X7: Pagos Mes Anterior | Y7: Total Pagos Periodo | Z7: Total Pagos | AA7: Saldo por Pagar
B8: 2 | C8: IMEB | D8: Gastos | F8: 5040000000 | G8: 0 | H8: 0 | I8: 0 | J8: 0 | K8: 0 | L8: 0 | M8: 5040000000 | N8: 0 | O8: 3012299636 | P8: 3012299636 | Q8: 0 | R8: 2027700364 | S8: 0 | T8: 2985053546 | U8: 2985053546 | V8: 2054946454 | W8: 840989887 | X8: 0 | Y8: 757904263 | Z8: 757904263 | AA8: 2227149283
B9: 2.1 | C9: IMEB | D9: Funcionamiento | F9: 2332862428 | G9: 0 | H9: 0 | I9: 0 | J9: 0 | K9: 0 | L9: 0 | M9: 2332862428 | N9: 0 | O9: 803856436 | P9: 803856436 | Q9: 0 | R9: 1529005992 | S9: 0 | T9: 776610346 | U9: 776610346 | V9: 1556252082 | W9: 382138129 | X9: 0 | Y9: 299052505 | Z9: 299052505 | AA9: 477557841
B10: 2.1.1 | C10: IMEB | D10: Gastos de personal | F10: 1388561517 | G10: 0 | H10: 0 | I10: 0 | J10: 0 | K10: 0 | L10: 0 | M10: 1388561517 | N10: 0 | O10: 249978258 | P10: 249978258 | Q10: 0 | R10: 1138583259 | S10: 0 | T10: 249978258 | U10: 249978258 | V10: 1138583259 | W10: 249865178 | X10: 0 | Y10: 166779554 | Z10: 166779554 | AA10: 83198704
B11: 2.1.1.01 | C11: IMEB | D11: Planta de personal permanente | F11: 1388561517 | G11: 0 | H11: 0 | I11: 0 | J11: 0 | K11: 0 | L11: 0 | M11: 1388561517 | N11: 0 | O11: 249978258 | P11: 249978258 | Q11: 0 | R11: 1138583259 | S11: 0 | T11: 249978258 | U11: 249978258 | V11: 1138583259 | W11: 249865178 | X11: 0 | Y11: 166779554 | Z11: 166779554 | AA11: 83198704
B12: 2.1.1.01.01 | C12: IMEB | D12: Factores constitutivos de salario | F12: 986057546 | G12: 0 | H12: 0 | I12: 0 | J12: 0 | K12: 0 | L12: 0 | M12: 986057546 | N12: 0 | O12: 186953835 | P12: 186953835 | Q12: 0 | R12: 799103711 | S12: 0 | T12: 186953835 | U12: 186953835 | V12: 799103711 | W12: 186953835 | X12: 0 | Y12: 124175511 | Z12: 124175511 | AA12: 62778324
B13: 2.1.1.01.01.001 | C13: IMEB | D13: Factores salariales comunes | F13: 976294600 | G13: 0 | H13: 0 | I13: 0 | J13: 0 | K13: 0 | L13: 0 | M13: 976294600 | N13: 0 | O13: 186937947 | P13: 186937947 | Q13: 0 | R13: 789356653 | S13: 0 | T13: 186937947 | U13: 186937947 | V13: 789356653 | W13: 186937947 | X13: 0 | Y13: 124159623 | Z13: 124159623 | AA13: 62778324
A14: 220001 | B14: 2.1.1.01.01.001.01 | C14: IMEB | D14: Sueldo básico | E14: 1.2.1.0.0 | F14: 775965124 | G14: 0 | H14: 0 | I14: 0 | J14: 0 | K14: 0 | L14: 0 | M14: 775965124 | N14: 0 | O14: 178172145 | P14: 178172145 | Q14: 0 | R14: 597792979 | S14: 0 | T14: 178172145 | U14: 178172145 | V14: 597792979 | W14: 178172145 | X14: 0 | Y14: 119745248 | Z14: 119745248 | AA14: 58426897
A15: 220002 | B15: 2.1.1.01.01.001.06 | C15: IMEB | D15: Prima de servicios | E15: 1.2.1.0.0 | F15: 66549782 | G15: 0 | H15: 0 | I15: 0 | J15: 0 | K15: 0 | L15: 0 | M15: 66549782 | N15: 0 | O15: 119756 | P15: 119756 | Q15: 0 | R15: 66430026 | S15: 0 | T15: 119756 | U15: 119756 | V15: 66430026 | W15: 119756 | X15: 0 | Y15: 119756 | Z15: 119756 | AA15: 0
A16: 220003 | B16: 2.1.1.01.01.001.07 | C16: IMEB | D16: Bonificación por servicios prestados | E16: 1.2.1.0.0 | F16: 22632315 | G16: 0 | H16: 0 | I16: 0 | J16: 0 | K16: 0 | L16: 0 | M16: 22632315 | N16: 0 | O16: 5413743 | P16: 5413743 | Q16: 0 | R16: 17218572 | S16: 0 | T16: 5413743 | U16: 5413743 | V16: 17218572 | W16: 5413743 | X16: 0 | Y16: 1062316 | Z16: 1062316 | AA16: 4351427
B17: 2.1.1.01.01.001.08 | C17: IMEB | D17: Prestaciones sociales | F17: 111147379 | G17: 0 | H17: 0 | I17: 0 | J17: 0 | K17: 0 | L17: 0 | M17: 111147379 | N17: 0 | O17: 3232303 | P17: 3232303 | Q17: 0 | R17: 107915076 | S17: 0 | T17: 3232303 | U17: 3232303 | V17: 107915076 | W17: 3232303 | X17: 0 | Y17: 3232303 | Z17: 3232303 | AA17: 0
A18: 220004 | B18: 2.1.1.01.01.001.08.01 | C18: IMEB | D18: Prima de navidad | E18: 1.2.1.0.0 | F18: 75099581 | G18: 0 | H18: 0 | I18: 0 | J18: 0 | K18: 0 | L18: 0 | M18: 75099581 | N18: 0 | O18: 127275 | P18: 127275 | Q18: 0 | R18: 74972306 | S18: 0 | T18: 127275 | U18: 127275 | V18: 74972306 | W18: 127275 | X18: 0 | Y18: 127275 | Z18: 127275 | AA18: 0
A19: 220005 | B19: 2.1.1.01.01.001.08.02 | C19: IMEB | D19: Prima de vacaciones | E19: 1.2.1.0.0 | F19: 36047798 | G19: 0 | H19: 0 | I19: 0 | J19: 0 | K19: 0 | L19: 0 | M19: 36047798 | N19: 0 | O19: 3105028 | P19: 3105028 | Q19: 0 | R19: 32942770 | S19: 0 | T19: 3105028 | U19: 3105028 | V19: 32942770 | W19: 3105028 | X19: 0 | Y19: 3105028 | Z19: 3105028 | AA19: 0
A20: 220006 | B20: 2.1.1.01.01.002 | C20: IMEB | D20: Factores salariales especiales | E20: 1.2.1.0.0 | F20: 9762946 | G20: 0 | H20: 0 | I20: 0 | J20: 0 | K20: 0 | L20: 0 | M20: 9762946 | N20: 0 | O20: 15888 | P20: 15888 | Q20: 0 | R20: 9747058 | S20: 0 | T20: 15888 | U20: 15888 | V20: 9747058 | W20: 15888 | X20: 0 | Y20: 15888 | Z20: 15888 | AA20: 0
B21: 2.1.1.01.02 | C21: IMEB | D21: Contribuciones inherentes a la nómina | F21: 335322951 | G21: 0 | H21: 0 | I21: 0 | J21: 0 | K21: 0 | L21: 0 | M21: 335322951 | N21: 0 | O21: 58303177 | P21: 58303177 | Q21: 0 | R21: 277019774 | S21: 0 | T21: 58303177 | U21: 58303177 | V21: 277019774 | W21: 58190097 | X21: 0 | Y21: 37882797 | Z21: 37882797 | AA21: 20420380
A22: 220007 | B22: 2.1.1.01.02.001 | C22: IMEB | D22: Aportes a la seguridad social en pensiones | E22: 1.2.1.0.0 | F22: 95788061 | G22: 0 | H22: 0 | I22: 0 | J22: 0 | K22: 0 | L22: 0 | M22: 95788061 | N22: 0 | O22: 22961500 | P22: 22961500 | Q22: 0 | R22: 72826561 | S22: 0 | T22: 22961500 | U22: 22961500 | V22: 72826561 | W22: 22961500 | X22: 0 | Y22: 14977800 | Z22: 14977800 | AA22: 7983700
A23: 220008 | B23: 2.1.1.01.02.002 | C23: IMEB | D23: Aportes a la seguridad social en salud | E23: 1.2.1.0.0 | F23: 67849877 | G23: 0 | H23: 0 | I23: 0 | J23: 0 | K23: 0 | L23: 0 | M23: 67849877 | N23: 0 | O23: 16263500 | P23: 16263500 | Q23: 0 | R23: 51586377 | S23: 0 | T23: 16263500 | U23: 16263500 | V23: 51586377 | W23: 16263500 | X23: 0 | Y23: 10608800 | Z23: 10608800 | AA23: 5654700
A24: 220009 | B24: 2.1.1.01.02.003 | C24: IMEB | D24: Aportes de cesantías | E24: 1.2.1.0.0 | F24: 81357880 | G24: 0 | H24: 0 | I24: 0 | J24: 0 | K24: 0 | L24: 0 | M24: 81357880 | N24: 0 | O24: 132397 | P24: 132397 | Q24: 0 | R24: 81225483 | S24: 0 | T24: 132397 | U24: 132397 | V24: 81225483 | W24: 132397 | X24: 0 | Y24: 132397 | Z24: 132397 | AA24: 0
A25: 220010 | B25: 2.1.1.01.02.004 | C25: IMEB | D25: Aportes a cajas de compensación familiar | E25: 1.2.1.0.0 | F25: 38048157 | G25: 0 | H25: 0 | I25: 0 | J25: 0 | K25: 0 | L25: 0 | M25: 38048157 | N25: 0 | O25: 7957900 | P25: 7957900 | Q25: 0 | R25: 30090257 | S25: 0 | T25: 7957900 | U25: 7957900 | V25: 30090257 | W25: 7957900 | X25: 0 | Y25: 5147800 | Z25: 5147800 | AA25: 2810100
A26: 220011 | B26: 2.1.1.01.02.005 | C26: IMEB | D26: Aportes generales al sistema de riesgos laborales | E26: 1.2.1.0.0 | F26: 4718781 | G26: 0 | H26: 0 | I26: 0 | J26: 0 | K26: 0 | L26: 0 | M26: 4718781 | N26: 0 | O26: 1038280 | P26: 1038280 | Q26: 0 | R26: 3680501 | S26: 0 | T26: 1038280 | U26: 1038280 | V26: 3680501 | W26: 925200 | X26: 0 | Y26: 579600 | Z26: 579600 | AA26: 458680
A27: 220012 | B27: 2.1.1.01.02.006 | C27: IMEB | D27: Aportes al ICBF | E27: 1.2.1.0.0 | F27: 28536117 | G27: 0 | H27: 0 | I27: 0 | J27: 0 | K27: 0 | L27: 0 | M27: 28536117 | N27: 0 | O27: 5969500 | P27: 5969500 | Q27: 0 | R27: 22566617 | S27: 0 | T27: 5969500 | U27: 5969500 | V27: 22566617 | W27: 5969500 | X27: 0 | Y27: 3861700 | Z27: 3861700 | AA27: 2107800
A28: 220013 | B28: 2.1.1.01.02.007 | C28: IMEB | D28: Aportes al SENA | E28: 1.2.1.0.0 | F28: 19024078 | G28: 0 | H28: 0 | I28: 0 | J28: 0 | K28: 0 | L28: 0 | M28: 19024078 | N28: 0 | O28: 3980100 | P28: 3980100 | Q28: 0 | R28: 15043978 | S28: 0 | T28: 3980100 | U28: 3980100 | V28: 15043978 | W28: 3980100 | X28: 0 | Y28: 2574700 | Z28: 2574700 | AA28: 1405400
B29: 2.1.1.01.03 | C29: IMEB | D29: Remuneraciones no constitutivas de factor salarial | F29: 67181020 | G29: 0 | H29: 0 | I29: 0 | J29: 0 | K29: 0 | L29: 0 | M29: 67181020 | N29: 0 | O29: 4721246 | P29: 4721246 | Q29: 0 | R29: 62459774 | S29: 0 | T29: 4721246 | U29: 4721246 | V29: 62459774 | W29: 4721246 | X29: 0 | Y29: 4721246 | Z29: 4721246 | AA29: 0
B30: 2.1.1.01.03.001 | C30: IMEB | D30: Prestaciones sociales | F30: 67181020 | G30: 0 | H30: 0 | I30: 0 | J30: 0 | K30: 0 | L30: 0 | M30: 67181020 | N30: 0 | O30: 4721246 | P30: 4721246 | Q30: 0 | R30: 62459774 | S30: 0 | T30: 4721246 | U30: 4721246 | V30: 62459774 | W30: 4721246 | X30: 0 | Y30: 4721246 | Z30: 4721246 | AA30: 0
A31: 220014 | B31: 2.1.1.01.03.001.01 | C31: IMEB | D31: Vacaciones | E31: 1.2.1.0.0 | F31: 52870104 | G31: 0 | H31: 0 | I31: 0 | J31: 0 | K31: 0 | L31: 0 | M31: 52870104 | N31: 0 | O31: 4340308 | P31: 4340308 | Q31: 0 | R31: 48529796 | S31: 0 | T31: 4340308 | U31: 4340308 | V31: 48529796 | W31: 4340308 | X31: 0 | Y31: 4340308 | Z31: 4340308 | AA31: 0
A32: 220015 | B32: 2.1.1.01.03.001.02 | C32: IMEB | D32: Indemnización por vacaciones | E32: 1.3.2.3.05 | F32: 10000000 | G32: 0 | H32: 0 | I32: 0 | J32: 0 | K32: 0 | L32: 0 | M32: 10000000 | N32: 0 | O32: 0 | P32: 0 | Q32: 0 | R32: 10000000 | S32: 0 | T32: 0 | U32: 0 | V32: 10000000 | W32: 0 | X32: 0 | Y32: 0 | Z32: 0 | AA32: 0
A33: 220016 | B33: 2.1.1.01.03.001.03 | C33: IMEB | D33: Bonificacion especial de recreación | E33: 1.2.1.0.0 | F33: 4310916 | G33: 0 | H33: 0 | I33: 0 | J33: 0 | K33: 0 | L33: 0 | M33: 4310916 | N33: 0 | O33: 380938 | P33: 380938 | Q33: 0 | R33: 3929978 | S33: 0 | T33: 380938 | U33: 380938 | V33: 3929978 | W33: 380938 | X33: 0 | Y33: 380938 | Z33: 380938 | AA33: 0
B34: 2.1.2 | C34: IMEB | D34: Adquisición de bienes y servicios | F34: 788491311 | G34: 0 | H34: 0 | I34: 0 | J34: 0 | K34: 0 | L34: 0 | M34: 788491311 | N34: 0 | O34: 537878178 | P34: 537878178 | Q34: 0 | R34: 250613133 | S34: 0 | T34: 510632088 | U34: 510632088 | V34: 277859223 | W34: 126788852 | X34: 0 | Y34: 126788852 | Z34: 126788852 | AA34: 383843236
B35: 2.1.2.02 | C35: IMEB | D35: Adquisiciones diferentes de activos | F35: 788491311 | G35: 0 | H35: 0 | I35: 0 | J35: 0 | K35: 0 | L35: 0 | M35: 788491311 | N35: 0 | O35: 537878178 | P35: 537878178 | Q35: 0 | R35: 250613133 | S35: 0 | T35: 510632088 | U35: 510632088 | V35: 277859223 | W35: 126788852 | X35: 0 | Y35: 126788852 | Z35: 126788852 | AA35: 383843236
B36: 2.1.2.02.01 | C36: IMEB | D36: Materiales y suministros | F36: 82118061 | G36: 0 | H36: 0 | I36: 0 | J36: 0 | K36: 0 | L36: 0 | M36: 82118061 | N36: 0 | O36: 23127471 | P36: 23127471 | Q36: 0 | R36: 58990590 | S36: 0 | T36: 3300000 | U36: 3300000 | V36: 78818061 | W36: 275000 | X36: 0 | Y36: 275000 | Z36: 275000 | AA36: 3025000
A37: 220017 | B37: 2.1.2.02.01.002 | C37: IMEB | D37: Productos alimenticios, bebidas y tabaco; textiles, prendas de vestir y productos de cuero | E37: 1.2.1.0.0 | F37: 13118061 | G37: 0 | H37: 0 | I37: 0 | J37: 0 | K37: 0 | L37: 0 | M37: 13118061 | N37: 0 | O37: 3300000 | P37: 3300000 | Q37: 0 | R37: 9818061 | S37: 0 | T37: 3300000 | U37: 3300000 | V37: 9818061 | W37: 275000 | X37: 0 | Y37: 275000 | Z37: 275000 | AA37: 3025000
A38: 220018 | B38: 2.1.2.02.01.003 | C38: IMEB | D38: Otros bienes transportables (excepto productos metálicos, maquinaria y equipo) | E38: 1.2.1.0.0 | F38: 39000000 | G38: 0 | H38: 0 | I38: 0 | J38: 0 | K38: 0 | L38: 0 | M38: 39000000 | N38: 0 | O38: 19827471 | P38: 19827471 | Q38: 0 | R38: 19172529 | S38: 0 | T38: 0 | U38: 0 | V38: 39000000 | W38: 0 | X38: 0 | Y38: 0 | Z38: 0 | AA38: 0
A39: 220019 | B39: 2.1.2.02.01.004 | C39: IMEB | D39: Productos metalicos y paquetes de software | E39: 1.2.1.0.0 | F39: 30000000 | G39: 0 | H39: 0 | I39: 0 | J39: 0 | K39: 0 | L39: 0 | M39: 30000000 | N39: 0 | O39: 0 | P39: 0 | Q39: 0 | R39: 30000000 | S39: 0 | T39: 0 | U39: 0 | V39: 30000000 | W39: 0 | X39: 0 | Y39: 0 | Z39: 0 | AA39: 0
B40: 2.1.2.02.02 | C40: IMEB | D40: Adquisición de servicios | F40: 706373250 | G40: 0 | H40: 0 | I40: 0 | J40: 0 | K40: 0 | L40: 0 | M40: 706373250 | N40: 0 | O40: 514750707 | P40: 514750707 | Q40: 0 | R40: 191622543 | S40: 0 | T40: 507332088 | U40: 507332088 | V40: 199041162 | W40: 126513852 | X40: 0 | Y40: 126513852 | Z40: 126513852 | AA40: 380818236
...

Sheet Calculos  CDE
B1: VALOR EJECUTADO | E1: =+Gastos_Mar!U69 -> 1221998317 | G1: ESTE VALOR SE CAMBIA TODOS LOS MESES
B3: META | C3: DESCRIPCIÓN | E3: VALOR
A4: VALOR DE LA META | B4: =+'PA 2022'!E10 -> Implementar 1 programa de desarrollo empresarial y de empleabilidad para las micro y pequeñas empresas (incluyendo unidades productivas). | C4: Incluye valor convenio comfenalco y camara (dinero y especie) y arriendo | E4: =+SUM(E5:E7) -> 771203004
B5: Convenio CDE Camara de comercio | E5: =+'Recursos Gestionados'!E4+'Recursos Gestionados'!F4 -> 319051162
B6: Convenio CDE Comfenalco | E6: =+'Recursos Gestionados'!E5+'Recursos Gestionados'!F5 -> 388758292
B7: Arriendo Chapinero | E7: 63393550
A9: VALOR DE LA META | B9: =+'PA 2022'!F11 -> Porcentaje de avance en el desarrollo del modelo CDE virtual para que amplíen la cobertura en la ciudad. | C9: Incluye CPS Market place y CDE virtual | E9: =+SUM(E10:E19) -> 276000000
B10: Coordinador Market Place CDE | E10: 30000000
B11: Profesional de apoyo 1 Market Place CDE | E11: 24000000
B12: Profesional de apoyo 2 Market Place CDE | E12: 24000000
B13: Profesional de apoyo 3 Market Place CDE | E13: 24000000
B14: Profesional de apoyo 4 Market Place CDE | E14: 24000000
B15: Profesional de apoyo 1 CDE Virtual | E15: 30000000
B16: Profesional de apoyo 2 CDE Virtual | E16: 30000000
B17: Profesional de apoyo 3 CDE Virtual | E17: 30000000
B18: Profesional de apoyo 4 CDE Virtual | E18: 30000000
B19: Profesional líder CDE Virtual | E19: 30000000
A21: VALOR DE LA META | B21: Formar a 7.000 emprendedores a través de un programa de formación teórica, empresarial y/o artesanal con enfoque diferencial para emprendimientos artísticos, culturales, creativos, negocios verdes, microempresarios y/o unidades productivas urbanas y rurales. | E21: =+(E1-E4-E9)/2 -> 87397656
A24: VALOR DE LA META | B24: Implementar en 4.000 mipymes planes estratégicos orientados a innovar y/o incorporación tecnológica en áreas empresariales estratégicas con apoyo de Universidades y actores económicos clave. | E24: =+(E1-E4-E9)/2 -> 87397656
B27: =4000000*7*6 -> 168000000

Sheet Gastos_Ene
A1: INSTITUTO MUNICIPAL DE EMPLEO Y FOMENTO EMPRESARIAL - IMEBU
A2: NIT: 00804014968 - 1
A3: EJECUCION PRESUPUESTAL DE GASTOS
A4: Periodo comprendido entre 01-01-2022 y 31-01-2022
A5: Fecha de Impresión: 03.02.2022 Hora: 09:15:am | N5: PRESUPUESTO DEFINITIVO | Q5: CDP | V5: RP | AA5: PAGOS
A6: Impreso por: GUSTAVO - GUSTAVO RAMIREZ BONELLS
A7: Codigo de Control | B7: Rubro Presupuestal | C7: Unidad Ejecutora | D7: Descripción | E7: PROYECTO | F7: Fuente | G7: Presupuesto Inicial | H7: Adiciones | I7: Aplazamientos | J7: Desaplazamiento | K7: Reducciones | L7: Créditos | M7: Contracréditos | N7: Presupuesto Definitivo | O7: Cdps Mes Anterior | P7: Cdps Mes Actual | Q7: Total Ejecutado Segun Cdps | R7: Cdps Vigencia Futura | S7: Saldo por Ejecutar | T7: Compromisos Mes Anterior | U7: Total Compromisos mes Actual | V7: Total Compromisos | W7: Saldo por Comprometer | X7: Total Obligaciones | Y7: Pagos Mes Anterior | Z7: Total Pagos Periodo | AA7: Total Pagos | AB7: Saldo por Pagar
