Workbook

Sheet Gastos_Dic 22
A1: INSTITUTO MUNICIPAL DE EMPLEO Y FOMENTO EMPRESARIAL - IMEBU
A2: NIT: 00804014968 - 1
A3: EJECUCION PRESUPUESTAL DE GASTOS
A4: Periodo comprendido entre 01-01-2022 y 31-12-2022
A5: Fecha de Impresión: 31.01.2023 Hora: 10:32:am
A6: Impreso por: MVRR - MARIA VICTORIA RAMIREZ RANGEL
A7: Codigo de Control | B7: Rubro Presupuestal | C7: Unidad Ejecutora | D7: Descripción | E7: Fuente | F7: Presupuesto Inicial | G7: Adiciones | H7: Aplazamientos | I7: Desaplazamiento | J7: Reducciones | K7: Créditos | L7: Contracréditos | M7: Presupuesto Definitivo | N7: Cdps Mes Anterior | O7: Cdps Mes Actual | P7: Total Ejecutado Segun Cdps | Q7: Cdps Vigencia Futura | R7: Saldo por Ejecutar | S7: Compromisos Mes Anterior | T7: Total Compromisos mes Actual | U7: Total Compromisos | V7: Saldo por Comprometer | W7: Total Obligaciones | X7: Pagos Mes Anterior | Y7: Total Pagos Periodo | Z7: Total Pagos | AA7: Saldo por Pagar
B8: 2 | C8: IMEB | D8: Gastos | F8: 5040000000 | G8: 6.7073266e+09 | H8: 0 | I8: 0 | J8: 0 | K8: 800347133 | L8: 800347133 | M8: 1.1747327e+10 | N8: 0 | O8: 8.1131061e+09 | P8: 8.1131061e+09 | Q8: 0 | R8: 3.6342205e+09 | S8: 0 | T8: 8.1130519e+09 | U8: 8.1130519e+09 | V8: 3.6342747e+09 | W8: 8.1130519e+09 | X8: 0 | Y8: 7.7325414e+09 | Z8: 7.7325414e+09 | AA8: 3.8051053e+08
B9: 2.1 | C9: IMEB | D9: Funcionamiento | F9: 2332862428 | G9: 0 | H9: 0 | I9: 0 | J9: 0 | K9: 106049038 | L9: 106049038 | M9: 2332862428 | N9: 0 | O9: 1.9997112e+09 | P9: 1.9997112e+09 | Q9: 0 | R9: 3.3315124e+08 | S9: 0 | T9: 1.9997112e+09 | U9: 1.9997112e+09 | V9: 3.3315124e+08 | W9: 1.9997112e+09 | X9: 0 | Y9: 1.7580408e+09 | Z9: 1.7580408e+09 | AA9: 2.4167037e+08
B10: 2.1.1 | C10: IMEB | D10: Gastos de personal | F10: 1388561517 | G10: 0 | H10: 0 | I10: 0 | J10: 0 | K10: 49112038 | L10: 13106038 | M10: 1424567517 | N10: 0 | O10: 1319751050 | P10: 1319751050 | Q10: 0 | R10: 104816467 | S10: 0 | T10: 1319751050 | U10: 1319751050 | V10: 104816467 | W10: 1319751050 | X10: 0 | Y10: 1246762501 | Z10: 1246762501 | AA10: 72988549
B11: 2.1.1.01 | C11: IMEB | D11: Planta de personal permanente | F11: 1388561517 | G11: 0 | H11: 0 | I11: 0 | J11: 0 | K11: 49112038 | L11: 13106038 | M11: 1424567517 | N11: 0 | O11: 1319751050 | P11: 1319751050 | Q11: 0 | R11: 104816467 | S11: 0 | T11: 1319751050 | U11: 1319751050 | V11: 104816467 | W11: 1319751050 | X11: 0 | Y11: 1246762501 | Z11: 1246762501 | AA11: 72988549
B12: 2.1.1.01.01 | C12: IMEB | D12: Factores constitutivos de salario | F12: 986057546 | G12: 0 | H12: 0 | I12: 0 | J12: 0 | K12: 24317367 | L12: 13106038 | M12: 997268875 | N12: 0 | O12: 946218590 | P12: 946218590 | Q12: 0 | R12: 51050285 | S12: 0 | T12: 946218590 | U12: 946218590 | V12: 51050285 | W12: 946218590 | X12: 0 | Y12: 937248064 | Z12: 937248064 | AA12: 8970526
B13: 2.1.1.01.01.001 | C13: IMEB | D13: Factores salariales comunes | F13: 976294600 | G13: 0 | H13: 0 | I13: 0 | J13: 0 | K13: 24007367 | L13: 13106038 | M13: 987195929 | N13: 0 | O13: 938042318 | P13: 938042318 | Q13: 0 | R13: 49153611 | S13: 0 | T13: 938042318 | U13: 938042318 | V13: 49153611 | W13: 938042318 | X13: 0 | Y13: 935883139 | Z13: 935883139 | AA13: 2159179
A14: 220001 | B14: 2.1.1.01.01.001.01 | C14: IMEB | D14: Sueldo básico | E14: 1.2.1.0.0 | F14: 775965124 | G14: 0 | H14: 0 | I14: 0 | J14: 0 | K14: 16220000 | L14: 13106038 | M14: 779079086 | N14: 0 | O14: 748523690 | P14: 748523690 | Q14: 0 | R14: 30555396 | S14: 0 | T14: 748523690 | U14: 748523690 | V14: 30555396 | W14: 748523690 | X14: 0 | Y14: 748523690 | Z14: 748523690 | AA14: 0
A15: 220002 | B15: 2.1.1.01.01.001.06 | C15: IMEB | D15: Prima de servicios | E15: 1.2.1.0.0 | F15: 66549782 | G15: 0 | H15: 0 | I15: 0 | J15: 0 | K15: 2100000 | L15: 0 | M15: 68649782 | N15: 0 | O15: 64522130 | P15: 64522130 | Q15: 0 | R15: 4127652 | S15: 0 | T15: 64522130 | U15: 64522130 | V15: 4127652 | W15: 64522130 | X15: 0 | Y15: 64522130 | Z15: 64522130 | AA15: 0
A16: 220003 | B16: 2.1.1.01.01.001.07 | C16: IMEB | D16: Bonificación por servicios prestados | E16: 1.2.1.0.0 | F16: 22632315 | G16: 0 | H16: 0 | I16: 0 | J16: 0 | K16: 2177367 | L16: 0 | M16: 24809682 | N16: 0 | O16: 24776193 | P16: 24776193 | Q16: 0 | R16: 33489 | S16: 0 | T16: 24776193 | U16: 24776193 | V16: 33489 | W16: 24776193 | X16: 0 | Y16: 24459682 | Z16: 24459682 | AA16: 316511
B17: 2.1.1.01.01.001.08 | C17: IMEB | D17: Prestaciones sociales | F17: 111147379 | G17: 0 | H17: 0 | I17: 0 | J17: 0 | K17: 3510000 | L17: 0 | M17: 114657379 | N17: 0 | O17: 100220305 | P17: 100220305 | Q17: 0 | R17: 14437074 | S17: 0 | T17: 100220305 | U17: 100220305 | V17: 14437074 | W17: 100220305 | X17: 0 | Y17: 98377637 | Z17: 98377637 | AA17: 1842668
A18: 220004 | B18: 2.1.1.01.01.001.08.01 | C18: IMEB | D18: Prima de navidad | E18: 1.2.1.0.0 | F18: 75099581 | G18: 0 | H18: 0 | I18: 0 | J18: 0 | K18: 2360000 | L18: 0 | M18: 77459581 | N18: 0 | O18: 74169462 | P18: 74169462 | Q18: 0 | R18: 3290119 | S18: 0 | T18: 74169462 | U18: 74169462 | V18: 3290119 | W18: 74169462 | X18: 0 | Y18: 74169462 | Z18: 74169462 | AA18: 0
A19: 220077 | B19: 2.1.2.02.02.010 | C19: IMEB | D19: Viáticos de funcionarios en Comisión | E19: APM | F19: 0 | G19: 0 | H19: 0 | I19: 0 | J19: 0 | K19: 10000000 | L19: 0 | M19: 10000000 | N19: 0 | O19: 6257182 | P19: 6257182 | Q19: 0 | R19: 3742818 | S19: 0 | T19: 6257182 | U19: 6257182 | V19: 3742818 | W19: 6257182 | X19: 0 | Y19: 6257182 | Z19: 6257182 | AA19: 0
A20: 220005 | B20: 2.1.1.01.01.001.08.02 | C20: IMEB | D20: Prima de vacaciones | E20: 1.2.1.0.0 | F20: 36047798 | G20: 0 | H20: 0 | I20: 0 | J20: 0 | K20: 1150000 | L20: 0 | M20: 37197798 | N20: 0 | O20: 26050843 | P20: 26050843 | Q20: 0 | R20: 11146955 | S20: 0 | T20: 26050843 | U20: 26050843 | V20: 11146955 | W20: 26050843 | X20: 0 | Y20: 24208175 | Z20: 24208175 | AA20: 1842668
A21: 220006 | B21: 2.1.1.01.01.002 | C21: IMEB | D21: Factores salariales especiales | E21: 1.2.1.0.0 | F21: 9762946 | G21: 0 | H21: 0 | I21: 0 | J21: 0 | K21: 310000 | L21: 0 | M21: 10072946 | N21: 0 | O21: 8176272 | P21: 8176272 | Q21: 0 | R21: 1896674 | S21: 0 | T21: 8176272 | U21: 8176272 | V21: 1896674 | W21: 8176272 | X21: 0 | Y21: 1364925 | Z21: 1364925 | AA21: 6811347
B22: 2.1.1.01.02 | C22: IMEB | D22: Contribuciones inherentes a la nómina | F22: 335322951 | G22: 0 | H22: 0 | I22: 0 | J22: 0 | K22: 11360000 | L22: 0 | M22: 346682951 | N22: 0 | O22: 332585040 | P22: 332585040 | Q22: 0 | R22: 14097911 | S22: 0 | T22: 332585040 | U22: 332585040 | V22: 14097911 | W22: 332585040 | X22: 0 | Y22: 271572170 | Z22: 271572170 | AA22: 61012870
A23: 220007 | B23: 2.1.1.01.02.001 | C23: IMEB | D23: Aportes a la seguridad social en pensiones | E23: 1.2.1.0.0 | F23: 95788061 | G23: 0 | H23: 0 | I23: 0 | J23: 0 | K23: 3050000 | L23: 0 | M23: 98838061 | N23: 0 | O23: 97062050 | P23: 97062050 | Q23: 0 | R23: 1776011 | S23: 0 | T23: 97062050 | U23: 97062050 | V23: 1776011 | W23: 97062050 | X23: 0 | Y23: 97062050 | Z23: 97062050 | AA23: 0
A24: 220008 | B24: 2.1.1.01.02.002 | C24: IMEB | D24: Aportes a la seguridad social en salud | E24: 1.2.1.0.0 | F24: 67849877 | G24: 0 | H24: 0 | I24: 0 | J24: 0 | K24: 2160000 | L24: 0 | M24: 70009877 | N24: 0 | O24: 68902648 | P24: 68902648 | Q24: 0 | R24: 1107229 | S24: 0 | T24: 68902648 | U24: 68902648 | V24: 1107229 | W24: 68902648 | X24: 0 | Y24: 68902648 | Z24: 68902648 | AA24: 0
A25: 220009 | B25: 2.1.1.01.02.003 | C25: IMEB | D25: Aportes de cesantías | E25: 1.2.1.0.0 | F25: 81357880 | G25: 0 | H25: 0 | I25: 0 | J25: 0 | K25: 2560000 | L25: 0 | M25: 83917880 | N25: 0 | O25: 79123742 | P25: 79123742 | Q25: 0 | R25: 4794138 | S25: 0 | T25: 79123742 | U25: 79123742 | V25: 4794138 | W25: 79123742 | X25: 0 | Y25: 18110872 | Z25: 18110872 | AA25: 61012870
A26: 220010 | B26: 2.1.1.01.02.004 | C26: IMEB | D26: Aportes a cajas de compensación familiar | E26: 1.2.1.0.0 | F26: 38048157 | G26: 0 | H26: 0 | I26: 0 | J26: 0 | K26: 1312000 | L26: 0 | M26: 39360157 | N26: 0 | O26: 37141100 | P26: 37141100 | Q26: 0 | R26: 2219057 | S26: 0 | T26: 37141100 | U26: 37141100 | V26: 2219057 | W26: 37141100 | X26: 0 | Y26: 37141100 | Z26: 37141100 | AA26: 0
A27: 220011 | B27: 2.1.1.01.02.005 | C27: IMEB | D27: Aportes generales al sistema de riesgos laborales | E27: 1.2.1.0.0 | F27: 4718781 | G27: 0 | H27: 0 | I27: 0 | J27: 0 | K27: 637000 | L27: 0 | M27: 5355781 | N27: 0 | O27: 3921900 | P27: 3921900 | Q27: 0 | R27: 1433881 | S27: 0 | T27: 3921900 | U27: 3921900 | V27: 1433881 | W27: 3921900 | X27: 0 | Y27: 3921900 | Z27: 3921900 | AA27: 0
A28: 220012 | B28: 2.1.1.01.02.006 | C28: IMEB | D28: Aportes al ICBF | E28: 1.2.1.0.0 | F28: 28536117 | G28: 0 | H28: 0 | I28: 0 | J28: 0 | K28: 985000 | L28: 0 | M28: 29521117 | N28: 0 | O28: 27859500 | P28: 27859500 | Q28: 0 | R28: 1661617 | S28: 0 | T28: 27859500 | U28: 27859500 | V28: 1661617 | W28: 27859500 | X28: 0 | Y28: 27859500 | Z28: 27859500 | AA28: 0
A29: 220013 | B29: 2.1.1.01.02.007 | C29: IMEB | D29: Aportes al SENA | E29: 1.2.1.0.0 | F29: 19024078 | G29: 0 | H29: 0 | I29: 0 | J29: 0 | K29: 656000 | L29: 0 | M29: 19680078 | N29: 0 | O29: 18574100 | P29: 18574100 | Q29: 0 | R29: 1105978 | S29: 0 | T29: 18574100 | U29: 18574100 | V29: 1105978 | W29: 18574100 | X29: 0 | Y29: 18574100 | Z29: 18574100 | AA29: 0
B30: 2.1.1.01.03 | C30: IMEB | D30: Remuneraciones no constitutivas de factor salarial | F30: 67181020 | G30: 0 | H30: 0 | I30: 0 | J30: 0 | K30: 13434671 | L30: 0 | M30: 80615691 | N30: 0 | O30: 40947420 | P30: 40947420 | Q30: 0 | R30: 39668271 | S30: 0 | T30: 40947420 | U30: 40947420 | V30: 39668271 | W30: 40947420 | X30: 0 | Y30: 37942267 | Z30: 37942267 | AA30: 3005153
B31: 2.1.1.01.03.001 | C31: IMEB | D31: Prestaciones sociales | F31: 67181020 | G31: 0 | H31: 0 | I31: 0 | J31: 0 | K31: 13434671 | L31: 0 | M31: 80615691 | N31: 0 | O31: 40947420 | P31: 40947420 | Q31: 0 | R31: 39668271 | S31: 0 | T31: 40947420 | U31: 40947420 | V31: 39668271 | W31: 40947420 | X31: 0 | Y31: 37942267 | Z31: 37942267 | AA31: 3005153
A32: 220014 | B32: 2.1.1.01.03.001.01 | C32: IMEB | D32: Vacaciones | E32: 1.2.1.0.0 | F32: 52870104 | G32: 0 | H32: 0 | I32: 0 | J32: 0 | K32: 1660000 | L32: 0 | M32: 54530104 | N32: 0 | O32: 23413792 | P32: 23413792 | Q32: 0 | R32: 31116312 | S32: 0 | T32: 23413792 | U32: 23413792 | V32: 31116312 | W32: 23413792 | X32: 0 | Y32: 20649790 | Z32: 20649790 | AA32: 2764002
A33: 220015 | B33: 2.1.1.01.03.001.02 | C33: IMEB | D33: Indemnización por vacaciones | E33: 1.3.2.3.05 | F33: 10000000 | G33: 0 | H33: 0 | I33: 0 | J33: 0 | K33: 11638671 | L33: 0 | M33: 21638671 | N33: 0 | O33: 14396532 | P33: 14396532 | Q33: 0 | R33: 7242139 | S33: 0 | T33: 14396532 | U33: 14396532 | V33: 7242139 | W33: 14396532 | X33: 0 | Y33: 14396532 | Z33: 14396532 | AA33: 0
A34: 220016 | B34: 2.1.1.01.03.001.03 | C34: IMEB | D34: Bonificacion especial de recreación | E34: 1.2.1.0.0 | F34: 4310916 | G34: 0 | H34: 0 | I34: 0 | J34: 0 | K34: 136000 | L34: 0 | M34: 4446916 | N34: 0 | O34: 3137096 | P34: 3137096 | Q34: 0 | R34: 1309820 | S34: 0 | T34: 3137096 | U34: 3137096 | V34: 1309820 | W34: 3137096 | X34: 0 | Y34: 2895945 | Z34: 2895945 | AA34: 241151
B35: 2.1.2 | C35: IMEB | D35: Adquisición de bienes y servicios | F35: 788491311 | G35: 0 | H35: 0 | I35: 0 | J35: 0 | K35: 51000000 | L35: 92943000 | M35: 746548311 | N35: 0 | O35: 6.3162759e+08 | P35: 6.3162759e+08 | Q35: 0 | R35: 1.1492072e+08 | S35: 0 | T35: 6.3162759e+08 | U35: 6.3162759e+08 | V35: 1.1492072e+08 | W35: 6.3162759e+08 | X35: 0 | Y35: 4.6294577e+08 | Z35: 4.6294577e+08 | AA35: 1.6868182e+08
B36: 2.1.2.02 | C36: IMEB | D36: Adquisiciones diferentes de activos | F36: 788491311 | G36: 0 | H36: 0 | I36: 0 | J36: 0 | K36: 51000000 | L36: 92943000 | M36: 746548311 | N36: 0 | O36: 6.3162759e+08 | P36: 6.3162759e+08 | Q36: 0 | R36: 1.1492072e+08 | S36: 0 | T36: 6.3162759e+08 | U36: 6.3162759e+08 | V36: 1.1492072e+08 | W36: 6.3162759e+08 | X36: 0 | Y36: 4.6294577e+08 | Z36: 4.6294577e+08 | AA36: 1.6868182e+08
B37: 2.1.2.02.01 | C37: IMEB | D37: Materiales y suministros | F37: 82118061 | G37: 0 | H37: 0 | I37: 0 | J37: 0 | K37: 15000000 | L37: 0 | M37: 97118061 | N37: 0 | O37: 61280859 | P37: 61280859 | Q37: 0 | R37: 35837202 | S37: 0 | T37: 61280859 | U37: 61280859 | V37: 35837202 | W37: 61280859 | X37: 0 | Y37: 43147619 | Z37: 43147619 | AA37: 18133240
A38: 220017 | B38: 2.1.2.02.01.002 | C38: IMEB | D38: Productos alimenticios, bebidas y tabaco; textiles, prendas de vestir y productos de cuero | E38: 1.2.1.0.0 | F38: 13118061 | G38: 0 | H38: 0 | I38: 0 | J38: 0 | K38: 0 | L38: 0 | M38: 13118061 | N38: 0 | O38: 8305472 | P38: 8305472 | Q38: 0 | R38: 4812589 | S38: 0 | T38: 8305472 | U38: 8305472 | V38: 4812589 | W38: 8305472 | X38: 0 | Y38: 8305472 | Z38: 8305472 | AA38: 0
A39: 220018 | B39: 2.1.2.02.01.003 | C39: IMEB | D39: Otros bienes transportables (excepto productos metálicos, maquinaria y equipo) | E39: 1.2.1.0.0 | F39: 39000000 | G39: 0 | H39: 0 | I39: 0 | J39: 0 | K39: 15000000 | L39: 0 | M39: 54000000 | N39: 0 | O39: 28748266 | P39: 28748266 | Q39: 0 | R39: 25251734 | S39: 0 | T39: 28748266 | U39: 28748266 | V39: 25251734 | W39: 28748266 | X39: 0 | Y39: 10615026 | Z39: 10615026 | AA39: 18133240
A40: 220019 | B40: 2.1.2.02.01.004 | C40: IMEB | D40: Productos metalicos y paquetes de software | E40: 1.2.1.0.0 | F40: 30000000 | G40: 0 | H40: 0 | I40: 0 | J40: 0 | K40: 0 | L40: 0 | M40: 30000000 | N40: 0 | O40: 24227121 | P40: 24227121 | Q40: 0 | R40: 5772879 | S40: 0 | T40: 24227121 | U40: 24227121 | V40: 5772879 | W40: 24227121 | X40: 0 | Y40: 24227121 | Z40: 24227121 | AA40: 0
...

Sheet PA 2023
A1: PLAN DE ACCIÓN - PLAN DE DESARROLLO MUNICIPAL INSTITUTO MUNICIPAL DE EMPLEO Y FOMENTO EMPRESARIAL DE BUCARAMANGA - IMEBU | AP1: Código: F-DPM-1210-238,37-030
AP2: Versión: 1.0
AP3: Fecha aprobación: Marzo-06-2023
AP4: Página: 1 de 1
A5: FECHA DE SUSCRIPCIÓN: | D5: 44992
A6: FECHA DE CORTE: | D6: 44985
B7: PDM 2020-2023 | G7: PROYECTOS DE INVERSIÓN | L7: CUMPLIMIENTO DE META | P7: RECURSOS PROGRAMADOS | W7: RECURSOS APROPIADOS | AC7: RECURSOS COMPROMETIDOS | AI7: RECURSOS OBLIGADOS | AO7: EJECUCIÓN PPTAL | AP7: RECURSOS GESTIONADOS | AQ7: RESPONSABLES
A8: No. | B8: Línea estratégica | C8: Componente | D8: Programa | E8: Meta PDM | F8: Indicador de producto | G8: Código BPIN | H8: Nombre del Proyecto | I8: Actividades | J8: Fecha inicio | K8: Fecha de terminación | L8: Meta programada | M8: Meta ejecutada | N8: PESO | O8: AVANCE | P8: Rubro | Q8: RECURSOS PROPIOS MUNICIPIO | R8: SGP | S8: SGR | T8: RECURSOS PROPIOS INSTITUTOS | U8: OTROS | V8: TOTAL PROGRAMADO | W8: RECURSOS PROPIOS MUNICIPIO | X8: SGP | Y8: SGR | Z8: RECURSOS PROPIOS INSTITUTOS | AA8: OTROS | AB8: TOTAL APROPIADO | AC8: RECURSOS PROPIOS MUNICIPIO | AD8: SGP | AE8: SGR | AF8: RECURSOS PROPIOS INSTITUTOS | AG8: OTROS | AH8: TOTAL COMPROMETIDO | AI8: RECURSOS PROPIOS MUNICIPIO | AJ8: SGP | AK8: SGR | AL8: RECURSOS PROPIOS INSTITUTOS | AM8: OTROS | AN8: TOTAL OBLIGADO | AQ8: Dependencia | AR8: Responsable
A9: 180 | B9: BUCARAMANGA PRODUCTIVA Y COMPETITIVA: EMPRESAS INNOVADORAS, RESPONSABLES Y CONSCIENTES | C9: Emprendimiento, Innovación, Formalización Y Dinamización Empresarial | D9: Emprendimiento E Innovación | E9: Fortalecer a 5.000 empresas, emprendimientos y/o unidades productivas, a través de la implementación de un programa de incubación y aceleración de emprendimientos innovadores articulados con el ecosistema de emprendimiento, que caracterice las capacidades tecnológicas instaladas (duras y blandas) con enfoque diferencial. | F9: Número de empresas, emprendimientos y/o unidades productivas fortalecidas a través de la implementación de un programa de incubación y aceleración de emprendimientos innovadores articulados con el ecosistema de emprendimiento, que caracterice las capacidades tecnológicas instaladas (duras y blandas) con enfoque diferencial. | G9: 2020680010157 | H9: FORTALECIMIENTO DEL COWORKING COMO ESTRATEGIA PARA EL EMPRENDIMIENTO, INNOVACIÓN, DINAMIZACIÓN Y ACELERACIÓN EMPRESARIAL EN EL MUNICIPIO DE BUCARAMANGA | I9: Asesorar técnicamente a emprendedores y/o empresarios en etapa de aceleración en programas de formación empresarial. Realizar adecuaciones en espacio para prestación de servicios de consultoria a emprendedores y/o empresarios en etapa de aceleración y Coworking. | J9: 44939 | K9: 45291 | L9: 3100 | M9: =+SUM('Resultado por Estrategias'!C3:C9) -> 87 | N9: =IFERROR(AN9/$AN$21,"-") -> 0.16444369 | O9: =IFERROR(IF(M9/L9>1,(1*N9),((M9/L9)*N9)),"-") -> 0.0046150327 | P9: 2.3.2.02.02.007.01 2.3.2.02.02.009.05 | Q9: =Gastos_Febrero!$M$82 -> 695900000 | V9: =SUM(Q9:U9) -> 695900000 | W9: =SUMIF(Contratación!$A$2:$A$289,"180",Contratación!$L$2:$L$289) -> 563825000 | AB9: =SUM(W9:AA9) -> 563825000 | AC9: =SUMIF(Contratación!$A$2:$A$289,"180",Contratación!$M$2:$M$289) -> 563825000 | AH9: =SUM(AC9:AG9) -> 563825000 | AI9: =SUMIF(Contratación!$A$2:$A$289,"180",Contratación!$N$2:$N$289) -> 4870000 | AN9: =SUM(AI9:AM9) -> 4870000 | AO9: =IFERROR(AN9/AB9,"-") -> 0.0086374318 | AQ9: IMEBU | AR9: Luis Gonzalo Gómez Guerrero
A10: 182 | B10: BUCARAMANGA PRODUCTIVA Y COMPETITIVA: EMPRESAS INNOVADORAS, RESPONSABLES Y CONSCIENTES | C10: Emprendimiento, Innovación, Formalización Y Dinamización Empresarial | D10: Centros De Desarrollo Empresarial | E10: Implementar 1 programa de desarrollo empresarial y de empleabilidad para las micro y pequeñas empresas (incluyendo unidades productivas). | F10: Número de programas de desarrollo empresariales y de empleabilidad implementados para las micro y pequeñas empresas (incluyendo unidades productivas). | G10: 2020680010074 | H10: FORTALECIMIENTO DEL CENTRO DE DESARROLLO EMPRESARIAL Y DE EMPLEABILIDAD EN EL MUNICIPIO DE BUCARAMANGA | I10: Asesorar a emprendedores y empresarios en programas de formación empresarial (Modelo de Negocios y diseño Planes de Mejora). Implementar Estrategia comunitaria para el emprendimiento y el desarrollo empresarial. Formulación de la estrategia de reactivación y sostenimiento de la economía. Brindar acompañamiento a los proyectos productivos de la población victima. | J10: 44944 | K10: 45291 | L10: 1 | M10: 1 | N10: =IFERROR(AN10/$AN$21,"-") -> 0 | O10: =IFERROR(IF(M10/L10>1,(1*N10),((M10/L10)*N10)),"-") -> 0 | P10: 2.3.2.02.02.007.02 | Q10: =Gastos_Febrero!$M$80*'% METAS CDE'!F4 -> 6.4044798e+08 | V10: =SUM(Q10:U10) -> 6.4044798e+08 | W10: =SUMIF(Contratación!$A$2:$A$289,"182",Contratación!$L$2:$L$289) -> 499013636 | AB10: =SUM(W10:AA10) -> 499013636 | AC10: =SUMIF(Contratación!$A$2:$A$289,"182",Contratación!$M$2:$M$289) -> 499013636 | AH10: =SUM(AC10:AG10) -> 499013636 | AI10: =SUMIF(Contratación!$A$2:$A$289,"182",Contratación!$N$2:$N$289) -> 0 | AN10: =SUM(AI10:AM10) -> 0 | AO10: =IFERROR(AN10/AB10,"-") -> 0 | AQ10: IMEBU | AR10: Luis Gonzalo Gómez Guerrero
A11: 183 | B11: BUCARAMANGA PRODUCTIVA Y COMPETITIVA: EMPRESAS INNOVADORAS, RESPONSABLES Y CONSCIENTES | C11: Emprendimiento, Innovación, Formalización Y Dinamización Empresarial | D11: Centros De Desarrollo Empresarial | E11: Desarrollar el modelo CDE virtual para que amplíen la cobertura en la ciudad. | F11: Porcentaje de avance en el desarrollo del modelo CDE virtual para que amplíen la cobertura en la ciudad. | G11: 2020680010074 | H11: FORTALECIMIENTO DEL CENTRO DE DESARROLLO EMPRESARIAL Y DE EMPLEABILIDAD EN EL MUNICIPIO DE BUCARAMANGA | I11: Asesorar a emprendedores y empresarios en programas de formación empresarial (Modelo de Negocios y diseño Planes de Mejora). Implementar Estrategia comunitaria para el emprendimiento y el desarrollo empresarial. Formulación de la estrategia de reactivación y sostenimiento de la economía. | J11: 44944 | K11: 45291 | L11: 0.3 | M11: ='Resultado por Estrategias'!C17 -> 0 | N11: =IFERROR(AN11/$AN$21,"-") -> 0 | O11: =IFERROR(IF(M11/L11>1,(1*N11),((M11/L11)*N11)),"-") -> 0 | P11: 2.3.2.02.02.009.03 | Q11: =Gastos_Febrero!$M$80*'% METAS CDE'!F5 -> 31443982 | V11: =SUM(Q11:U11) -> 31443982 | W11: =SUMIF(Contratación!$A$2:$A$289,"183",Contratación!$L$2:$L$289) -> 24500000 | AB11: =SUM(W11:AA11) -> 24500000 | AC11: =SUMIF(Contratación!$A$2:$A$289,"183",Contratación!$M$2:$M$289) -> 24500000 | AH11: =SUM(AC11:AG11) -> 24500000 | AI11: =SUMIF(Contratación!$A$2:$A$289,"183",Contratación!$N$2:$N$289) -> 0 | AN11: =SUM(AI11:AM11) -> 0 | AO11: =IFERROR(AN11/AB11,"-") -> 0 | AQ11: IMEBU | AR11: Luis Gonzalo Gómez Guerrero
A12: 184 | B12: BUCARAMANGA PRODUCTIVA Y COMPETITIVA: EMPRESAS INNOVADORAS, RESPONSABLES Y CONSCIENTES | C12: Emprendimiento, Innovación, Formalización Y Dinamización Empresarial | D12: Centros De Desarrollo Empresarial | E12: Formar a 7.000 emprendedores a través de un programa de formación teórica, empresarial y/o artesanal con enfoque diferencial para emprendimientos artísticos, culturales, creativos, negocios verdes, microempresarios y/o unidades productivas urbanas y rurales. | F12: Número de emprendedores formados a través de un programa de formación teórica, empresarial y/o artesanal con enfoque diferencial para emprendimientos artísticos, culturales, creativos, negocios verdes, microempresarios y/o unidades productivas urbanas y rurales. | G12: 2020680010074 | H12: FORTALECIMIENTO DEL CENTRO DE DESARROLLO EMPRESARIAL Y DE EMPLEABILIDAD EN EL MUNICIPIO DE BUCARAMANGA | I12: Asesorar a emprendedores y empresarios en programas de formación empresarial (Modelo de Negocios y diseño Planes de Mejora). Implementar Estrategia comunitaria para el emprendimiento y el desarrollo empresarial. Formulación de la estrategia de reactivación y sostenimiento de la economía. | J12: 44944 | K12: 45291 | L12: 0 | M12: =+SUM('Resultado por Estrategias'!C10:C15) -> 170 | N12: =IFERROR(AN12/$AN$21,"-") -> 0.25857528 | O12: =IFERROR(IF(M12/L12>1,(1*N12),((M12/L12)*N12)),"-") -> - | P12: 2.3.2.02.02.006.01 2.3.2.02.02.007.02 2.3.2.02.02.009.03 | Q12: =Gastos_Febrero!$M$80*'% METAS CDE'!F6 -> 8.1538159e+08 | V12: =SUM(Q12:U12) -> 8.1538159e+08 | W12: =SUMIF(Contratación!$A$2:$A$289,"184",Contratación!$L$2:$L$289) -> 635315500 | AB12: =SUM(W12:AA12) -> 635315500 | AC12: =SUMIF(Contratación!$A$2:$A$289,"184",Contratación!$M$2:$M$289) -> 505071750 | AH12: =SUM(AC12:AG12) -> 505071750 | AI12: =SUMIF(Contratación!$A$2:$A$289,"184",Contratación!$N$2:$N$289) -> 7657707 | AN12: =SUM(AI12:AM12) -> 7657707 | AO12: =IFERROR(AN12/AB12,"-") -> 0.012053392 | AQ12: IMEBU | AR12: Luis Gonzalo Gómez Guerrero
A13: 185 | B13: BUCARAMANGA PRODUCTIVA Y COMPETITIVA: EMPRESAS INNOVADORAS, RESPONSABLES Y CONSCIENTES | C13: Emprendimiento, Innovación, Formalización Y Dinamización Empresarial | D13: Centros De Desarrollo Empresarial | E13: Implementar en 4.000 mipymes planes estratégicos orientados a innovar y/o incorporación tecnológica en áreas empresariales estratégicas con apoyo de Universidades y actores económicos clave. | F13: Número de mipymes con planes estratégicos implementados orientados a innovar y/o incorporación tecnológica en áreas empresariales estratégicas con apoyo de Universidades y actores económicos clave. | G13: 2020680010074 | H13: FORTALECIMIENTO DEL CENTRO DE DESARROLLO EMPRESARIAL Y DE EMPLEABILIDAD EN EL MUNICIPIO DE BUCARAMANGA | I13: Identificar habilidades y destrezas de emprendedores, empresarios y ciudadanos para orientarlos hacia el emprendimiento o la empleabilidad. | J13: 44944 | K13: 45291 | L13: 2400 | M13: =+'Resultado por Estrategias'!C16 -> 0 | N13: =IFERROR(AN13/$AN$21,"-") -> 0 | O13: =IFERROR(IF(M13/L13>1,(1*N13),((M13/L13)*N13)),"-") -> 0 | P13: 2.3.2.02.02.007.02 2.3.2.02.02.009.03 | Q13: =Gastos_Febrero!$M$80*'% METAS CDE'!F7 -> 1.6715845e+08 | V13: =SUM(Q13:U13) -> 1.6715845e+08 | W13: =SUMIF(Contratación!$A$2:$A$289,"185",Contratación!$L$2:$L$289) -> 130243750 | AB13: =SUM(W13:AA13) -> 130243750 | AC13: =SUMIF(Contratación!$A$2:$A$289,"185",Contratación!$M$2:$M$289) -> 0 | AH13: =SUM(AC13:AG13) -> 0 | AI13: =SUMIF(Contratación!$A$2:$A$289,"185",Contratación!$M$2:$N$289) -> 0 | AN13: =SUM(AI13:AM13) -> 0 | AO13: =IFERROR(AN13/AB13,"-") -> 0 | AQ13: IMEBU | AR13: Luis Gonzalo Gómez Guerrero
A14: 186 | B14: BUCARAMANGA PRODUCTIVA Y COMPETITIVA: EMPRESAS INNOVADORAS, RESPONSABLES Y CONSCIENTES | C14: Emprendimiento, Innovación, Formalización Y Dinamización Empresarial | D14: Banca Ciudadana | E14: Intervenir a 4.000 empresas y/o emprendimientos mediante apalancamiento financiero orientado a realizar inversión en innovación y/o tecnología en la zona rural y urbana con enfoque diferencial. | F14: Número de empresas y/o emprendimientos intervenidos mediante apalancamiento financiero orientado a realizar inversión en innovación y/o tecnología en la zona rural y urbana con enfoque diferencial. | G14: 2020680010084 | H14: APOYO DEL FONDO DE FOMENTO Y CRÉDITO DE APOYO DEL IMEBU, PROGRAMA BANCA CIUDADANA EN EL MUNICIPIO DE BUCARAMANGA | I14: Otorgar créditos para el emprendimiento y/o fortalecimiento financiero de empresas orientados a capital de trabajo, nómina y/o activos fijos. Realizar acompañamiento técnico y visitas pos crédito a los emprendimientos y/o empresas apoyadas. | J14: 44939 | K14: 45291 | L14: 2569 | M14: =+'Resultado por Estrategias'!C19 -> 152 | N14: =IFERROR(AN14/$AN$21,"-") -> 0 | O14: =IFERROR(IF(M14/L14>1,(1*N14),((M14/L14)*N14)),"-") -> 0 | P14: 2.3.2.02.02.009.01 2.3.2.02.02.009.02 | Q14: =6000000/2 -> 3000000 | T14: =4000000/2 -> 2000000 | V14: =SUM(Q14:U15) -> 617180000 | W14: 0 | AB14: =SUM(W14:AA15) -> 85900000 | AC14: 0 | AH14: =SUM(AC14:AG15) -> 85900000 | AI14: 0 | AN14: =SUM(AI14:AM15) -> 0 | AO14: - | AQ14: IMEBU | AR14: Luis Gonzalo Gómez Guerrero
G15: 2022680010037 | H15: APOYO A LAS LÍNEAS DE CRÉDITO CONDONABLE Y NO CONDONABLE DEL FONDO DE FOMENTO Y CRÉDITO DEL IMEBU PROGRAMA BANCA CIUDADANA EN EL MUNICIPIO DE BUCARAMANGA | I15: Otorgar créditos no condonables para el fortalecimiento financiero de empresas y/o emprendimientos Otorgar créditos condonables para el fortalecimiento financiero de proyectos productivos, empresas y/o emprendimientos de población vulnerable | J15: 44949 | K15: 45291 | O15: =IFERROR(IF(M15/L15>1,(1*N15),((M15/L15)*N15)),"-") -> - | P15: 2.3.2.02.02.009.01 2.3.2.02.02.009.02 | Q15: =1224360000/2 -> 612180000 | W15: =SUMIF(Contratación!$A$2:$A$289,"186",Contratación!$L$2:$L$289) -> 85900000 | AC15: =SUMIF(Contratación!$A$2:$A$289,"186",Contratación!$M$2:$M$289) -> 85900000 | AI15: =SUMIF(Contratación!$A$2:$A$289,"186",Contratación!$N$2:$N$289) -> 0
A16: 187 | B16: BUCARAMANGA PRODUCTIVA Y COMPETITIVA: EMPRESAS INNOVADORAS, RESPONSABLES Y CONSCIENTES | C16: Emprendimiento, Innovación, Formalización Y Dinamización Empresarial | D16: Banca Ciudadana | E16: Otorgar 6.000 créditos a emprendimientos y mipymes de orientados a capital de trabajo o destinos de inversión diferente a innovación y/o tecnología en zonas urbanas y rurales. | F16: Número de créditos otorgados a emprendimientos y mipymes de orientados a capital de trabajo o destinos de inversión diferente a innovación y/o tecnología en zonas urbanas y rurales. | G16: 2022680010037 | H16: APOYO A LAS LÍNEAS DE CRÉDITO CONDONABLE Y NO CONDONABLE DEL FONDO DE FOMENTO Y CRÉDITO DEL IMEBU PROGRAMA BANCA CIUDADANA EN EL MUNICIPIO DE BUCARAMANGA | I16: Otorgar créditos no condonables para el fortalecimiento financiero de empresas y/o emprendimientos Otorgar créditos condonables para el fortalecimiento financiero de proyectos productivos, empresas y/o emprendimientos de población vulnerable | J16: 44949 | K16: 45291 | L16: 1263 | M16: =+'Resultado por Estrategias'!C20 -> 220 | N16: =IFERROR(AN16/$AN$21,"-") -> 0 | O16: =IFERROR(IF(M16/L16>1,(1*N16),((M16/L16)*N16)),"-") -> 0 | P16: 2.3.2.02.02.009.01 2.3.2.02.02.009.02 | Q16: =1224360000/2 -> 612180000 | V16: =SUM(Q16:U17) -> 617180000 | W16: =SUMIF(Contratación!$A$2:$A$289,"187",Contratación!$L$2:$L$289) -> 85900000 | AB16: =SUM(W16:AA16) -> 85900000 | AC16: =SUMIF(Contratación!$A$2:$A$289,"187",Contratación!$M$2:$M$289) -> 85900000 | AH16: =SUM(AC16:AG17) -> 85900000 | AI16: =SUMIF(Contratación!$A$2:$A$289,"187",Contratación!$N$2:$N$289) -> 0 | AN16: =SUM(AI16:AM17) -> 0 | AO16: - | AQ16: IMEBU | AR16: Luis Gonzalo Gómez Guerrero
G17: 2020680010084 | H17: APOYO DEL FONDO DE FOMENTO Y CRÉDITO DE APOYO DEL IMEBU, PROGRAMA BANCA CIUDADANA EN EL MUNICIPIO DE BUCARAMANGA | I17: Otorgar créditos para el emprendimiento y/o fortalecimiento financiero de empresas orientados a capital de trabajo, nómina y/o activos fijos. Realizar acompañamiento técnico y visitas pos crédito a los emprendimientos y/o empresas apoyadas. | J17: 44939 | K17: 45291 | O17: =IFERROR(IF(M17/L17>1,(1*N17),((M17/L17)*N17)),"-") -> - | P17: 2.3.2.02.02.009.01 2.3.2.02.02.009.02 | Q17: =6000000/2 -> 3000000 | T17: =4000000/2 -> 2000000 | W17: 0 | AC17: 0 | AI17: 0
A18: 188 | B18: BUCARAMANGA PRODUCTIVA Y COMPETITIVA: EMPRESAS INNOVADORAS, RESPONSABLES Y CONSCIENTES | C18: Empleabilidad, Empleo Y Trabajo Decente | D18: Empleo Y Empleabilidad | E18: Registrar 5.000 hojas de vida para facilitar el proceso de inserción en el mercado laboral identificando habilidades, destrezas y que competencias para el trabajo. | F18: Número de hojas de vida registradas para facilitar el proceso de inserción en el mercado laboral identificando habilidades, destrezas y que competencias para el trabajo. | G18: 2022680010086 | H18: FORTALECIMIENTO DE LA OFICINA DE FOMENTO A LA EMPLEABILIDAD, EL EMPLEO Y EL TRABAJO DECENTE EN EL MUNICIPIO DE BUCARAMANGA | I18: Brindar formación en competencias personales y/o técnicas para el trabajo Realizar intermediación laboral entre oferentes de trabajo y buscadores de empleo. Ofrecer acompañamiento a las empresas en la estructuración y selección de perfiles adecuados a sus requerimientos. Formular la política pública de empleo y trabajo decente de la ciudad. Garantizar la operatividad y continuidad del programa de empleo y la oficina de empleabilidad del Instituto Municipal de Empleo y fomento empresarial - IMEBU. | J18: 44942 | K18: 45291 | L18: 0 | M18: =+'Resultado por Estrategias'!C21 -> 551 | N18: =IFERROR(AN18/$AN$21,"-") -> 0.10335931 | O18: =IFERROR(IF(M18/L18>1,(1*N18),((M18/L18)*N18)),"-") -> - | P18: 2.3.2.02.02.009.04 | Q18: =Gastos_Enero!$M$83/3 -> 79590000 | V18: =SUM(Q18:U18) -> 79590000 | W18: =SUMIF(Contratación!$A$2:$A$289,"188",Contratación!$L$2:$L$289) -> 73203333 | AB18: =SUM(W18:AA18) -> 73203333 | AC18: =SUMIF(Contratación!$A$2:$A$289,"188",Contratación!$M$2:$M$289) -> 73203333 | AH18: =SUM(AC18:AG18) -> 73203333 | AI18: =SUMIF(Contratación!$A$2:$A$289,"188",Contratación!$N$2:$N$289) -> 3060986 | AN18: =SUM(AI18:AM18) -> 3060986 | AO18: =IFERROR(AN18/AB18,"-") -> 0.041814844 | AQ18: IMEBU | AR18: Luis Gonzalo Gómez Guerrero
A19: 189 | B19: BUCARAMANGA PRODUCTIVA Y COMPETITIVA: EMPRESAS INNOVADORAS, RESPONSABLES Y CONSCIENTES | C19: Empleabilidad, Empleo Y Trabajo Decente | D19: Empleo Y Empleabilidad | E19: Formar 3.000 jóvenes y adultos en competencias personales y/o técnicas para el trabajo con el fin de facilitar su inserción en el mercado laboral. | F19: Número de jóvenes y adultos formados en competencias personales y/o técnicas para el trabajo con el fin de facilitar su inserción en el mercado laboral. | G19: 2022680010086 | H19: FORTALECIMIENTO DE LA OFICINA DE FOMENTO A LA EMPLEABILIDAD, EL EMPLEO Y EL TRABAJO DECENTE EN EL MUNICIPIO DE BUCARAMANGA | I19: Brindar formación en competencias personales y/o técnicas para el trabajo Realizar intermediación laboral entre oferentes de trabajo y buscadores de empleo. Ofrecer acompañamiento a las empresas en la estructuración y selección de perfiles adecuados a sus requerimientos. Formular la política pública de empleo y trabajo decente de la ciudad. Garantizar la operatividad y continuidad del programa de empleo y la oficina de empleabilidad del Instituto Municipal de Empleo y fomento empresarial - IMEBU. | J19: 44942 | K19: 45291 | L19: 0 | M19: =+'Resultado por Estrategias'!C22 -> 481 | N19: =IFERROR(AN19/$AN$21,"-") -> 0.10335931 | O19: =IFERROR(IF(M19/L19>1,(1*N19),((M19/L19)*N19)),"-") -> - | P19: 2.3.2.02.02.009.04 | Q19: =Gastos_Enero!$M$83/3 -> 79590000 | V19: =SUM(Q19:U19) -> 79590000 | W19: =SUMIF(Contratación!$A$2:$A$289,"189",Contratación!$L$2:$L$289) -> 73203333 | AB19: =SUM(W19:AA19) -> 73203333 | AC19: =SUMIF(Contratación!$A$2:$A$289,"189",Contratación!$M$2:$M$289) -> 73203333 | AH19: =SUM(AC19:AG19) -> 73203333 | AI19: =SUMIF(Contratación!$A$2:$A$289,"189",Contratación!$N$2:$N$289) -> 3060986 | AN19: =SUM(AI19:AM19) -> 3060986 | AO19: =IFERROR(AN19/AB19,"-") -> 0.041814844 | AQ19: IMEBU | AR19: Luis Gonzalo Gómez Guerrero
A20: 190 | B20: BUCARAMANGA PRODUCTIVA Y COMPETITIVA: EMPRESAS INNOVADORAS, RESPONSABLES Y CONSCIENTES | C20: Empleabilidad, Empleo Y Trabajo Decente | D20: Empleo Y Empleabilidad | E20: Acompañar a 1.500 empresas en el fomento de una cultura del empleo y trabajo decente para capturar vacantes que permitan realizar la intermediación laboral. | F20: Número de empresas acompañadas en el fomento de una cultura del empleo y trabajo decente para capturar vacantes que permitan realizar la intermediación laboral. | G20: 2022680010086 | H20: FORTALECIMIENTO DE LA OFICINA DE FOMENTO A LA EMPLEABILIDAD, EL EMPLEO Y EL TRABAJO DECENTE EN EL MUNICIPIO DE BUCARAMANGA | I20: Brindar formación en competencias personales y/o técnicas para el trabajo Realizar intermediación laboral entre oferentes de trabajo y buscadores de empleo. Ofrecer acompañamiento a las empresas en la estructuración y selección de perfiles adecuados a sus requerimientos. Formular la política pública de empleo y trabajo decente de la ciudad. Garantizar la operatividad y continuidad del programa de empleo y la oficina de empleabilidad del Instituto Municipal de Empleo y fomento empresarial - IMEBU. | J20: 44942 | K20: 45291 | L20: 0 | M20: =+'Resultado por Estrategias'!C23 -> 28 | N20: =IFERROR(AN20/$AN$21,"-") -> 0.10335931 | O20: =IFERROR(IF(M20/L20>1,(1*N20),((M20/L20)*N20)),"-") -> - | P20: 2.3.2.02.02.009.04 | Q20: =Gastos_Enero!$M$83/3 -> 79590000 | V20: =SUM(Q20:U20) -> 79590000 | W20: =SUMIF(Contratación!$A$2:$A$289,"190",Contratación!$L$2:$L$289) -> 73203333 | AB20: =SUM(W20:AA20) -> 73203333 | AC20: =SUMIF(Contratación!$A$2:$A$289,"190",Contratación!$M$2:$M$289) -> 73203333 | AH20: =SUM(AC20:AG20) -> 73203333 | AI20: =SUMIF(Contratación!$A$2:$A$289,"190",Contratación!$N$2:$N$289) -> 3060986 | AN20: =SUM(AI20:AM20) -> 3060986 | AO20: =IFERROR(AN20/AB20,"-") -> 0.041814844 | AQ20: IMEBU | AR20: Luis Gonzalo Gómez Guerrero
A21: 302 | B21: BUCARAMANGA TERRITORIO LIBRE DE CORRUPCIÓN: INSTITUCIONES SÓLIDAS Y CONFIABLES | C21: Administración Pública Moderna E Innovadora | D21: Gobierno Fortalecido Para Ser Y Hacer | E21: Mantener en funcionamiento el 100% de los programas del Instituto Municipal del Empleo. | F21: Porcentaje de los programas de Instituto Municipal del Empleo mantenidos en funcionamiento. | G21: 2021680010176 | H21: FORTALECIMIENTO DE LOS PROCESOS DEL INSTITUTO MUNICIPAL DE EMPLEO Y FOMENTO EMPRESARIAL DEL MUNICIPIO DE BUCARAMANGA | I21: Apoyar los procesos administrativos, juridicos y de control interno del IMEBU. Realizar acompañamiento, seguimiento y control de los programas y proyectos misionales del IMEBU. | J21: 44936 | K21: 45291 | L21: 1 | M21: 1 | N21: =IFERROR(AN21/$AN$21,"-") -> 1 | O21: =IFERROR(IF(M21/L21>1,(1*N21),((M21/L21)*N21)),"-") -> 1 | P21: 2.3.2.02.02.009.06 | Q21: =Gastos_Enero!$M$84 -> 541456051 | V21: =SUM(Q21:U21) -> 541456051 | W21: =SUMIF(Contratación!$A$2:$A$289,"302",Contratación!$L$2:$L$289) -> 529263602 | AB21: =SUM(W21:AA21) -> 529263602 | AC21: =SUMIF(Contratación!$A$2:$A$289,"302",Contratación!$M$2:$M$289) -> 529263602 | AH21: =SUM(AC21:AG21) -> 529263602 | AI21: =SUMIF(Contratación!$A$2:$A$289,"302",Contratación!$N$2:$N$289) -> 29615000 | AN21: =SUM(AI21:AM21) -> 29615000 | AO21: =IFERROR(AN21/AB21,"-") -> 0.055955104 | AQ21: IMEBU | AR21: Luis Gonzalo Gómez Guerrero
A22: =SUM(--(FREQUENCY(A9:A21,A9:A21)>0)) -> 11 | M22: TOTALES | O22: =IFERROR(SUM(O9:O21),"-") -> 1.004615 | Q22: =SUM(Q9:Q21) -> 4360918051 | R22: =SUM(R9:R21) -> 0 | S22: =SUM(S9:S21) -> 0 | T22: =SUM(T9:T21) -> 4000000 | U22: =SUM(U9:U21) -> 0 | V22: =SUBTOTAL(9,V9:V21) -> 4364918051 | W22: =SUBTOTAL(9,W9:W21) -> 2773571488 | X22: =SUBTOTAL(9,X9:X21) -> 0 | Y22: =SUBTOTAL(9,Y9:Y21) -> 0 | Z22: =SUBTOTAL(9,Z9:Z21) -> 0 | AA22: =SUBTOTAL(9,AA9:AA21) -> 0 | AB22: =SUBTOTAL(9,AB9:AB21) -> 2773571488 | AC22: =SUBTOTAL(9,AC9:AC21) -> 2513083988 | ... AN22: =SUBTOTAL(9,AN9:AN21) -> 51325665 | AO22: =IFERROR(AN22/AB22,"-") -> 0.018505261 | AP22: =SUBTOTAL(9,AP9:AP21) -> 0

Sheet Resultado por Estrategias
G1: EJECUTADO
A2: Proyecto | B2: Estrategia | C2: Beneficiados | D2: Meta real cuatrienio | E2: Meta anual | F2: Meta mensual | G2: Enero | H2: Febrero | I2: Marzo | J2: Abril | K2: Mayo | L2: Junio | M2: Julio | N2: Agosto | O2: Septiembre | P2: Octubre | Q2: Noviembre | R2: Diciembre | S2: Meta a Septiembre | T2: Cumpl a Ene | U2: Rezago a hoy
A3: Coworking | B3: Consultorio E Marketing | C3: =+SUM(G3:R3) -> 75 | D3: 1476 | E3: 657 | F3: =+E3/9 -> 73 | G3: 0 | H3: 75 | S3: =+F3*9 -> 657 | T3: =SUM(G3:R3) -> 75 | U3: =+T3-S3 -> -582
A4: Coworking | B4: Espacios Colaborativos | C4: =+SUM(G4:R4) -> 0 | E4: 30 | F4: =+E4/9 -> 3.3333333 | G4: 0 | H4: 0 | S4: =+F4*9 -> 30 | T4: =SUM(G4:R4) -> 0 | U4: =+T4-S4 -> -30
A5: Coworking | B5: Cemprende - SEED LAB | C5: =+SUM(G5:R5) -> 0 | E5: 10 | F5: =+E5/9 -> 1.1111111 | G5: 0 | H5: 0 | S5: =+F5*9 -> 10 | T5: =SUM(G5:R5) -> 0 | U5: =+T5-S5 -> -10
A6: Coworking | B6: Cemprende - HerramientaSTEC | C6: =+SUM(G6:R6) -> 0 | E6: 65 | F6: =+E6/9 -> 7.2222222 | G6: 0 | H6: 0 | S6: =+F6*9 -> 65 | T6: =SUM(G6:R6) -> 0 | U6: =+T6-S6 -> -65
A7: Coworking | B7: Avanza BGA | C7: =+SUM(G7:R7) -> 12 | E7: 360 | F7: =+E7/9 -> 40 | G7: 0 | H7: 12 | S7: =+F7*9 -> 360 | T7: =SUM(G7:R7) -> 12 | U7: =+T7-S7 -> -348
A8: Coworking | B8: Crea BGA | C8: =+SUM(G8:R8) -> 0 | E8: 657 | F8: =+E8/9 -> 73 | G8: 0 | H8: 0 | S8: =+F8*9 -> 657 | T8: =SUM(G8:R8) -> 0 | U8: =+T8-S8 -> -657
A9: Coworking | B9: Formación a la medida | C9: =+SUM(G9:R9) -> 0 | E9: 1000 | F9: =+E9/9 -> 111.11111 | G9: 0 | H9: 0 | S9: =+F9*9 -> 1000 | T9: =SUM(G9:R9) -> 0 | U9: =+T9-S9 -> -1000
A10: CDE | B10: Planes de mejoramiento diseñados | C10: =+SUM(G10:R10) -> 0 | D10: 0 | E10: 0 | F10: =+E10/9 -> 0 | G10: 0 | H10: 0 | S10: =+F10*9 -> 0 | T10: =SUM(G10:R10) -> 0 | U10: =+T10-S10 -> 0
A11: CDE | B11: Modelos de negocio | C11: =+SUM(G11:R11) -> 0 | E11: 0 | F11: =+E11/9 -> 0 | G11: 0 | H11: 0 | S11: =+F11*9 -> 0 | T11: =SUM(G11:R11) -> 0 | U11: =+T11-S11 -> 0
A12: CDE | B12: Talleres CDE | C12: =+SUM(G12:R12) -> 0 | E12: 0 | F12: =+E12/9 -> 0 | G12: 0 | H12: 0 | S12: =+F12*9 -> 0 | T12: =SUM(G12:R12) -> 0 | U12: =+T12-S12 -> 0
A13: CDE | B13: Talleres vitrinismo Beatriz | C13: =+SUM(G13:R13) -> 32 | E13: 360 | F13: =+E13/9 -> 40 | G13: 0 | H13: 32 | S13: =+F13*9 -> 360 | T13: =SUM(G13:R13) -> 32 | U13: =+T13-S13 -> -328
A14: CDE | B14: Taller en e-comerce y uso de plataforma Market Place | C14: =+SUM(G14:R14) -> 47 | E14: 360 | F14: =+E14/9 -> 40 | G14: 0 | H14: 47 | S14: =+F14*9 -> 360 | T14: =SUM(G14:R14) -> 47 | U14: =+T14-S14 -> -313
A15: CDE | B15: Talleres Somos Locales | C15: =+SUM(G15:R15) -> 91 | E15: 360 | F15: =+E15/9 -> 40 | G15: 0 | H15: 91 | S15: =+F15*9 -> 360 | T15: =SUM(G15:R15) -> 91 | U15: =+T15-S15 -> -269
A16: CDE | B16: Planes de mejoramiento implementados | C16: =+SUM(G16:R16) -> 0 | D16: 2104 | E16: =+D16 -> 2104 | F16: =+E16/9 -> 233.77778 | G16: 0 | H16: 0 | S16: =+F16*9 -> 2104 | T16: =SUM(G16:R16) -> 0 | U16: =+T16-S16 -> -2104
A17: CDE | B17: CDE Virtual | C17: =+SUM(G17:R17) -> 0 | D17: 0.3 | E17: 0.3 | F17: =+E17/9 -> 0.033333333 | G17: 0 | H17: 0 | S17: =+F17*9 -> 0.3 | T17: =SUM(G17:R17) -> 0 | U17: 0.01
A18: CDE | B18: Market Place (productos cargados en plataforma) | C18: =+SUM(G18:R18) -> 1165 | D18: - | E18: 0 | F18: =+E18/9 -> 0 | G18: 0 | H18: 1165 | S18: =+F18*9 -> 0 | T18: =SUM(G18:R18) -> 1165 | U18: =+T18-S18 -> 1165
A19: Banca | B19: Creditos tecnologia e innovación | C19: =+SUM(G19:R19) -> 152 | D19: 1932 | E19: 2007 | F19: =+E19/9 -> 223 | G19: 48 | H19: 104 | S19: =+F19*9 -> 2007 | T19: =SUM(G19:R19) -> 152 | U19: =+T19-S19 -> -1855
A20: Banca | B20: Creditos diferente a tecnologia e innovación | C20: =+SUM(G20:R20) -> 220 | D20: 539 | E20: 2007 | F20: =+E20/9 -> 223 | G20: 83 | H20: 137 | S20: =+F20*9 -> 2007 | T20: =SUM(G20:R20) -> 220 | U20: =+T20-S20 -> -1787
A21: Empleo | B21: Registrados | C21: =+SUM(G21:R21) -> 551 | D21: 0 | E21: 1300 | F21: =+E21/9 -> 144.44444 | G21: 108 | H21: 443 | S21: =+F21*9 -> 1300 | T21: =SUM(G21:R21) -> 551 | U21: =+T21-S21 -> -749
A22: Empleo | B22: Talleres empleo | C22: =+SUM(G22:R22) -> 481 | D22: 0 | E22: 800 | F22: =+E22/9 -> 88.888889 | G22: 9 | H22: 472 | S22: =+F22*9 -> 800 | T22: =SUM(G22:R22) -> 481 | U22: =+T22-S22 -> -319
A23: Empleo | B23: Empresas acompañadas | C23: =+SUM(G23:R23) -> 28 | D23: 0 | E23: 390 | F23: =+E23/9 -> 43.333333 | G23: 8 | H23: 20 | S23: =+F23*9 -> 390 | T23: =SUM(G23:R23) -> 28 | U23: =+T23-S23 -> -362

Sheet Contratación
A1: No. Meta (la del PA) | B1: Meta PDM (Copiar la meta del PA) | C1: BPIN | D1: Nombre proyecto de inversión | E1: Objeto de la contratación/pago/transferencia/etc | F1: No. contrato/convenio/pago/resolución/etc | G1: Tipo de contrato | H1: Modalidad | I1: Nombre Contratista | J1: Rubro | K1: Fecha RP | L1: Total apropiado | M1: Total comprometido | N1: Total obligado (pagos+cxp) | O1: Referencia Secop II
A2: 180 | B2: Fortalecer a 5.000 empresas, emprendimientos y/o unidades productivas, a través de la implementación de un programa de incubación y aceleración de emprendimientos innovadores articulados con el ecosistema de emprendimiento, que caracterice las capacidades tecnológicas instaladas (duras y blandas) con enfoque diferencial. | C2: 2020680010157 | D2: FORTALECIMIENTO DEL COWORKING COMO ESTRATEGIA PARA EL EMPRENDIMIENTO, INNOVACIÓN, DINAMIZACIÓN Y ACELERACIÓN EMPRESARIAL EN EL MUNICIPIO DE BUCARAMANGA | E2: PRESTAR LOS SERVICIOS PROFESIONALES DE CARÁCTER TEMPORAL, PARA BRINDAR APOYO Y SEGUIMIENTO, TÉCNICO, ADMINISTRATIVO, FINANCIERO Y COMERCIAL A EMPRENDEDORES Y EMPRESARIOS DE LA CIUDAD DE BUCARAMANGA, DE ACUERDO A LA ESTRATEGIA INCUBADORA DE EMPRENDIMIENTOS, EN EL MARCO DEL PROGRAMA MISIONAL COWORKING DEL IMEBU. | F2: 076-2023 | G2: CPS | H2: DIRECTA | I2: ARCINIEGAS VARGAS OSCAR ORLANDO | J2: 2.3.2.02.02.009.05 | K2: 44978 | L2: 14700000 | M2: 14700000 | N2: 0 | O2: https://community.secop.gov.co/Public/Tendering/OpportunityDetail/Index?noticeUID=CO1.NTC.4041667&isFromPublicArea=True&isModal=False
A3: 180 | B3: Fortalecer a 5.000 empresas, emprendimientos y/o unidades productivas, a través de la implementación de un programa de incubación y aceleración de emprendimientos innovadores articulados con el ecosistema de emprendimiento, que caracterice las capacidades tecnológicas instaladas (duras y blandas) con enfoque diferencial. | C3: 2020680010157 | D3: FORTALECIMIENTO DEL COWORKING COMO ESTRATEGIA PARA EL EMPRENDIMIENTO, INNOVACIÓN, DINAMIZACIÓN Y ACELERACIÓN EMPRESARIAL EN EL MUNICIPIO DE BUCARAMANGA | E3: PRESTAR LOS SERVICIOS PROFESIONALES DE CARÁCTER TEMPORAL PARA BRINDAR APOYO Y ACOMPAÑAMIENTO A EMPRESARIOS Y EMPRENDEDORES DE LA CIUDAD, EN EL DISEÑO Y CREACIÓN DE PÁGINAS WEB EN EL MARCO DEL PROGRAMA COWORKING DEL IMEBU | F3: 063-2023 | G3: CPS | H3: DIRECTA | I3: BAYONA GARCIA MARIO JESUS | J3: 2.3.2.02.02.009.05 | K3: 44957 | L3: 33600000 | M3: 33600000 | N3: 0 | O3: https://community.secop.gov.co/Public/Tendering/OpportunityDetail/Index?noticeUID=CO1.NTC.3892847&isFromPublicArea=True&isModal=False
A4: 180 | B4: Fortalecer a 5.000 empresas, emprendimientos y/o unidades productivas, a través de la implementación de un programa de incubación y aceleración de emprendimientos innovadores articulados con el ecosistema de emprendimiento, que caracterice las capacidades tecnológicas instaladas (duras y blandas) con enfoque diferencial. | C4: 2020680010157 | D4: FORTALECIMIENTO DEL COWORKING COMO ESTRATEGIA PARA EL EMPRENDIMIENTO, INNOVACIÓN, DINAMIZACIÓN Y ACELERACIÓN EMPRESARIAL EN EL MUNICIPIO DE BUCARAMANGA | E4: AUNAR ESFUERZOS PARA FOMENTAR EL EMPRENDIMIENTO, LA CIENCIA, TECNOLOGÍA E INNOVACIÓN MEDIANTE LA PARTICIPACIÓN EN EL PROYECTO S-INNOVA BUCARAMANGA. | F4: 002-2023 | G4: CA | H4: DIRECTA | I4: CAMARA DE COMERCIO DE BUCARAMANGA | J4: 2.3.2.02.02.007.01 | K4: 44974 | L4: 170000000 | M4: 170000000 | N4: 0 | O4: https://community.secop.gov.co/Public/Tendering/OpportunityDetail/Index?noticeUID=CO1.NTC.4002380&isFromPublicArea=True&isModal=False
A5: 180 | B5: Fortalecer a 5.000 empresas, emprendimientos y/o unidades productivas, a través de la implementación de un programa de incubación y aceleración de emprendimientos innovadores articulados con el ecosistema de emprendimiento, que caracterice las capacidades tecnológicas instaladas (duras y blandas) con enfoque diferencial. | C5: 2020680010157 | D5: FORTALECIMIENTO DEL COWORKING COMO ESTRATEGIA PARA EL EMPRENDIMIENTO, INNOVACIÓN, DINAMIZACIÓN Y ACELERACIÓN EMPRESARIAL EN EL MUNICIPIO DE BUCARAMANGA | E5: PRESTAR LOS SERVICIOS DE APOYO A LA GESTIÓN, PARA COADYUVAR EN LAS ACTIVIDADES ASISTENCIALES, OPERATIVAS Y LOGÍSTICAS REQUERIDAS PARA LA ESTRATEGIA INCUBADORA DE EMPRENDIMIENTOS, EN EL MARCO DEL PROGRAMA MISIONAL COWORKING DEL IMEBU. | F5: 080-2023 | G5: CPS | H5: DIRECTA | I5: CARDENAS BARILLAS SANDRA LILIANA | J5: 2.3.2.02.02.009.05 | K5: 44978 | L5: 11025000 | M5: 11025000 | N5: 0 | O5: https://community.secop.gov.co/Public/Tendering/OpportunityDetail/Index?noticeUID=CO1.NTC.4051159&isFromPublicArea=True&isModal=False
A6: 180 | B6: Fortalecer a 5.000 empresas, emprendimientos y/o unidades productivas, a través de la implementación de un programa de incubación y aceleración de emprendimientos innovadores articulados con el ecosistema de emprendimiento, que caracterice las capacidades tecnológicas instaladas (duras y blandas) con enfoque diferencial. | C6: 2020680010157 | D6: FORTALECIMIENTO DEL COWORKING COMO ESTRATEGIA PARA EL EMPRENDIMIENTO, INNOVACIÓN, DINAMIZACIÓN Y ACELERACIÓN EMPRESARIAL EN EL MUNICIPIO DE BUCARAMANGA | E6: PRESTAR LOS SERVICIOS PROFESIONALES DE CARACTER TEMPORAL PARA BRINDAR APOYO Y SEGUIMIENTO TECNICO, ADMINISTRATIVO Y COMERCIAL A EMPRENDEDORES Y EMPRESARIOS DE LA CIUDAD, DE ACUERDO A LA ESTRATEGIA INCUBADORA DE EMPRENDIMIENTOS, EN EL MARCO DEL PROGRAMA MISIONAL COWORKING DEL IMEBU | F6: 048-2023 | G6: CPS | H6: DIRECTA | I6: CHARRY BOLIVAR LORENA | J6: 2.3.2.02.02.009.05 | K6: 44953 | L6: 14700000 | M6: 14700000 | N6: 490000 | O6: https://community.secop.gov.co/Public/Tendering/OpportunityDetail/Index?noticeUID=CO1.NTC.3855802&isFromPublicArea=True&isModal=False
A7: 180 | B7: Fortalecer a 5.000 empresas, emprendimientos y/o unidades productivas, a través de la implementación de un programa de incubación y aceleración de emprendimientos innovadores articulados con el ecosistema de emprendimiento, que caracterice las capacidades tecnológicas instaladas (duras y blandas) con enfoque diferencial. | C7: 2020680010157 | D7: FORTALECIMIENTO DEL COWORKING COMO ESTRATEGIA PARA EL EMPRENDIMIENTO, INNOVACIÓN, DINAMIZACIÓN Y ACELERACIÓN EMPRESARIAL EN EL MUNICIPIO DE BUCARAMANGA | E7: PRESTAR LOS SERVICIOS PROFESIONALES DE CARÁCTER TEMPORAL PARA APOYAR EN LAS DIFERENTES ESTRATEGIAS DE MARKETING A EMPRESARIOS Y EMPRENDEDORES DE LA CIUDAD, EN EL MARCO DEL PROGRAMA COWORKING DEL IMEBU | F7: 053-2023 | G7: CPS | H7: DIRECTA | I7: GARCIA ORTIZ SILVIA JULIANA | J7: 2.3.2.02.02.009.05 | K7: 44957 | L7: 33600000 | M7: 33600000 | N7: 0 | O7: https://community.secop.gov.co/Public/Tendering/OpportunityDetail/Index?noticeUID=CO1.NTC.3890153&isFromPublicArea=True&isModal=False
A8: 180 | B8: Fortalecer a 5.000 empresas, emprendimientos y/o unidades productivas, a través de la implementación de un programa de incubación y aceleración de emprendimientos innovadores articulados con el ecosistema de emprendimiento, que caracterice las capacidades tecnológicas instaladas (duras y blandas) con enfoque diferencial. | C8: 2020680010157 | D8: FORTALECIMIENTO DEL COWORKING COMO ESTRATEGIA PARA EL EMPRENDIMIENTO, INNOVACIÓN, DINAMIZACIÓN Y ACELERACIÓN EMPRESARIAL EN EL MUNICIPIO DE BUCARAMANGA | E8: PRESTAR LOS SERVICIOS PROFESIONALES DE CARÁCTER TEMPORAL COMO PRODUCTOR Y FOTÓGRAFO QUE CONTRIBUYA A IMPULSAR Y FORTALECER LAS CAMPAÑAS CREATIVAS DE EMPRESARIOS Y EMPRENDEDORES DE LA CIUDAD, EN EL MARCO DEL PROGRAMA COWORKING DEL IMEBU | F8: 054-2023 | G8: CPS | H8: DIRECTA | I8: LEAL MORENO CRISTIAN CAMILO | J8: 2.3.2.02.02.009.05 | K8: 44957 | L8: 33600000 | M8: 33600000 | N8: 0 | O8: https://community.secop.gov.co/Public/Tendering/OpportunityDetail/Index?noticeUID=CO1.NTC.3891354&isFromPublicArea=True&isModal=False
A9: 180 | B9: Fortalecer a 5.000 empresas, emprendimientos y/o unidades productivas, a través de la implementación de un programa de incubación y aceleración de emprendimientos innovadores articulados con el ecosistema de emprendimiento, que caracterice las capacidades tecnológicas instaladas (duras y blandas) con enfoque diferencial. | C9: 2020680010157 | D9: FORTALECIMIENTO DEL COWORKING COMO ESTRATEGIA PARA EL EMPRENDIMIENTO, INNOVACIÓN, DINAMIZACIÓN Y ACELERACIÓN EMPRESARIAL EN EL MUNICIPIO DE BUCARAMANGA | E9: PRESTAR LOS SERVICIOS PROFESIONALES DE CARÁCTER TEMPORAL PARA BRINDAR APOYO EN ESTRATEGIAS DIGITALES Y AUTOMATIZACIÓN DE MARKETING, DIRIGIDO A EMPRESARIOS Y EMPRENDEDORES DE LA CIUDAD EN EL MARCO DE LA ESTRATEGIA AVANZA BGA-PROGRAMA COWORKING DEL IMEBU. | F9: 035-2023 | G9: CPS | H9: DIRECTA | I9: LIZARAZO GUERRERO JUAN SEBASTIAN | J9: 2.3.2.02.02.009.05 | K9: 44950 | L9: 33600000 | M9: 33600000 | N9: 980000 | O9: https://community.secop.gov.co/Public/Tendering/OpportunityDetail/Index?noticeUID=CO1.NTC.3824914&isFromPublicArea=True&isModal=False
A10: 180 | B10: Fortalecer a 5.000 empresas, emprendimientos y/o unidades productivas, a través de la implementación de un programa de incubación y aceleración de emprendimientos innovadores articulados con el ecosistema de emprendimiento, que caracterice las capacidades tecnológicas instaladas (duras y blandas) con enfoque diferencial. | C10: 2020680010157 | D10: FORTALECIMIENTO DEL COWORKING COMO ESTRATEGIA PARA EL EMPRENDIMIENTO, INNOVACIÓN, DINAMIZACIÓN Y ACELERACIÓN EMPRESARIAL EN EL MUNICIPIO DE BUCARAMANGA | E10: CD 23-00082, PRESTAR LOS SERVICIOS PROFESIONALES DE CARÁCTER TEMPORAL PARA BRINDAR APOYO A LA SUBDIRECCIÓN TÉCNICA EN LA GESTIÓN DE ESTRATEGIAS DIGITALES Y AUTOMATIZACIÓN DE MARKETING, DIRIGIDO A EMPRESARIOS Y EMPRENDEDORES DE BUCARAMANGA EN EL MARCO DE LA ESTRATEGIA AVANZA BGA -PROGRAMA COWORKING DEL IMEBU. CPS 071 DURACIÓN OCHO (08) MESES. | F10: 071-2023 | G10: CPS | H10: DIRECTA | I10: LOPEZ LOPEZ YULIET DAYANA | J10: 2.3.2.02.02.009.05 | K10: 44966 | L10: 33600000 | M10: 33600000 | N10: 0 | O10: https://community.secop.gov.co/Public/Tendering/OpportunityDetail/Index?noticeUID=CO1.NTC.3961646&isFromPublicArea=True&isModal=False
A11: 180 | B11: Fortalecer a 5.000 empresas, emprendimientos y/o unidades productivas, a través de la implementación de un programa de incubación y aceleración de emprendimientos innovadores articulados con el ecosistema de emprendimiento, que caracterice las capacidades tecnológicas instaladas (duras y blandas) con enfoque diferencial. | C11: 2020680010157 | D11: FORTALECIMIENTO DEL COWORKING COMO ESTRATEGIA PARA EL EMPRENDIMIENTO, INNOVACIÓN, DINAMIZACIÓN Y ACELERACIÓN EMPRESARIAL EN EL MUNICIPIO DE BUCARAMANGA | E11: CD 23-00093, PRESTAR LOS SERVICIOS PROFESIONALES DE CARÁCTER TEMPORAL, PARA BRINDAR APOYO Y SEGUIMIENTO, TÉCNICO, ADMINISTRATIVO, FINANCIERO Y COMERCIAL A EMPRENDEDORES Y EMPRESARIOS DE LA CIUDAD DE BUCARAMANGA, DE ACUERDO A LA ESTRATEGIA INCUBADORA DE EMPRENDIMIENTOS, EN EL MARCO DEL PROGRAMA MISIONAL COWORKING DEL IMEBU. CPS074, DURACIÓN CUATRO (04) MESES. | F11: 074-2023 | G11: CPS | H11: DIRECTA | I11: MUñOZ AYALA DIANA CONSTANZA | J11: 2.3.2.02.02.009.05 | K11: 44974 | L11: 14700000 | M11: 14700000 | N11: 0 | O11: https://community.secop.gov.co/Public/Tendering/OpportunityDetail/Index?noticeUID=CO1.NTC.4022369&isFromPublicArea=True&isModal=False
A12: 180 | B12: Fortalecer a 5.000 empresas, emprendimientos y/o unidades productivas, a través de la implementación de un programa de incubación y aceleración de emprendimientos innovadores articulados con el ecosistema de emprendimiento, que caracterice las capacidades tecnológicas instaladas (duras y blandas) con enfoque diferencial. | C12: 2020680010157 | D12: FORTALECIMIENTO DEL COWORKING COMO ESTRATEGIA PARA EL EMPRENDIMIENTO, INNOVACIÓN, DINAMIZACIÓN Y ACELERACIÓN EMPRESARIAL EN EL MUNICIPIO DE BUCARAMANGA | E12: CD 23-00095, PRESTAR LOS SERVICIOS PROFESIONALES DE CARÁCTER TEMPORAL, PARA BRINDAR APOYO Y SEGUIMIENTO TÉCNICO, ADMINISTRATIVO, FINANCIERO Y COMERCIAL A EMPRENDEDORES Y EMPRESARIOS DE LA CIUDAD DE BUCARAMANGA, DE ACUERDO A LA ESTRATEGIA INCUBADORA DE EMPRENDIMIENTOS, EN EL MARCO DEL PROGRAMA MISIONAL COWORKING DEL IMEBU. CPS 079, DURACIÓN CUATRO (04) MESES. | F12: 079-2023 | G12: CPS | H12: DIRECTA | I12: PARRA ARCHILA ENITH DURLEY | J12: 2.3.2.02.02.009.05 | K12: 44978 | L12: 14700000 | M12: 14700000 | N12: 0 | O12: https://community.secop.gov.co/Public/Tendering/OpportunityDetail/Index?noticeUID=CO1.NTC.4043084&isFromPublicArea=True&isModal=False
A13: 180 | B13: Fortalecer a 5.000 empresas, emprendimientos y/o unidades productivas, a través de la implementación de un programa de incubación y aceleración de emprendimientos innovadores articulados con el ecosistema de emprendimiento, que caracterice las capacidades tecnológicas instaladas (duras y blandas) con enfoque diferencial. | C13: 2020680010157 | D13: FORTALECIMIENTO DEL COWORKING COMO ESTRATEGIA PARA EL EMPRENDIMIENTO, INNOVACIÓN, DINAMIZACIÓN Y ACELERACIÓN EMPRESARIAL EN EL MUNICIPIO DE BUCARAMANGA | E13: PRESTAR LOS SERVICIOS PROFESIONALES DE CARÁCTER TEMPORAL PARA APOYAR LA GESTIÓN, RECEPCIÓN Y ENTREGA DE HERRAMIENTAS TECNOLÓGICAS, REQUERIDAS PARA EL PROCESO DE ACELERACIÓN EMPRESARIAL EN EL MARCO DEL PROGRAMA COWORKING DE LA ENTIDAD. | F13: 018-2023 | G13: CPS | H13: DIRECTA | I13: PEREZ ROMERO LUIS JULIAN | J13: 2.3.2.02.02.009.05 | K13: 44945 | L13: 40800000 | M13: 40800000 | N13: 1360000 | O13: https://community.secop.gov.co/Public/Tendering/OpportunityDetail/Index?noticeUID=CO1.NTC.3789237&isFromPublicArea=True&isModal=False
... A21: 183 | B21: Desarrollar el modelo CDE virtual para que amplíen la cobertura en la ciudad. | C21: 2020680010074 | D21: FORTALECIMIENTO DEL CENTRO DE DESARROLLO EMPRESARIAL Y DE EMPLEABILIDAD EN EL MUNICIPIO DE BUCARAMANGA | E21: PRESTAR LOS SERVICIOS DE APOYO A LA GESTIÓN PARA COADYUVAR EN EL ANALISIS, DISEÑO, DESARROLLO, PRUEBAS, MANTENIMIENTO Y SOPORTE DE LOS SISTEMAS DE INFORMACIÓN Y SOLUCIONES DIGITALES, SEGÚN LAS NECESIDADES DE LOS CENTRO DE DESARROLLO EMPRESARIAL DEL IMEBU | F21: 085-2023 | G21: CPS | H21: DIRECTA | I21: MAXIMILIANO GARAVITO | J21: 2.3.2.02.02.009.03 | K21: 44986 | L21: 0 | M21: 0 | N21: 0 | O21: https://community.secop.gov.co/Public/Tendering/OpportunityDetail/Index?noticeUID=CO1.NTC.4091147&isFromPublicArea=True&isModal=False
A22: 184 | B22: Formar a 7.000 emprendedores a través de un programa de formación teórica, empresarial y/o artesanal con enfoque diferencial para emprendimientos artísticos, culturales, creativos, negocios verdes, microempresarios y/o unidades productivas urbanas y rurales. | C22: 2020680010074 | D22: FORTALECIMIENTO DEL CENTRO DE DESARROLLO EMPRESARIAL Y DE EMPLEABILIDAD EN EL MUNICIPIO DE BUCARAMANGA | E22: ARRENDAR EL SALON DENOMINADO "GRAN SALON", UBICADO EN EL CENTRO DE CONVENCIONES Y EVENTOS DE NEOMUNDO DE BUCARAMANGA PARA EL MONTAJE Y DESMONTAJE DEL EVENTO EXPOASOINDUCALS CUERO 2023, COMO APOYO A LOS PROCESOS DE REACTIVACIÓN ECONÓMICA Y DEL EMPLEO ADELANTADOS POR EL INSTITUTO MUNICIPAL DE EMPLEO Y FOMENTO EMPRESARIAL DEL MUNICIPIO DE BUCARAMANGA -IMEBU. | F22: 001-2023 | G22: CD | H22: DIRECTA | I22: CORPORACION CENTRO DE CONVENCIONES, CIENCIA, TECNOLOGIA, INNOVACION Y CULTURA DE | J22: 2.3.2.02.02.007.02 | K22: 44974 | L22: 55765500 | M22: 55765500 | N22: 0 | O22: =IFERROR(SUM(O9:O21),"-") -> 0
A23: 184 | B23: Formar a 7.000 emprendedores a través de un programa de formación teórica, empresarial y/o artesanal con enfoque diferencial para emprendimientos artísticos, culturales, creativos, negocios verdes, microempresarios y/o unidades productivas urbanas y rurales. | C23: 2020680010074 | D23: FORTALECIMIENTO DEL CENTRO DE DESARROLLO EMPRESARIAL Y DE EMPLEABILIDAD EN EL MUNICIPIO DE BUCARAMANGA | E23: PRESTAR LOS SERVICIOS PROFESIONALES DE CARÁCTER TEMPORAL PARA COADYUVAR EN LA COORDINACIÓN Y PUESTA EN MARCHA DE LAS ACCIONES REQUERIDAS DENTRO DE LA ESTRATEGIA MARKETPLACE, EN EL MARCO DEL PROYECTO DE FORTALECIMIENTO DEL CENTRO DE DESARROLLO EMPRESARIAL Y DE EMPLEABILIDAD DE BUCARAMANGA - CDE | F23: 038-2023 | G23: CPS | H23: DIRECTA | I23: QUINTANILLA CALDERON MARLON GIOVANNY | J23: 2.3.2.02.02.009.03 | K23: 44952 | L23: 40800000 | M23: 40800000 | N23: 850000 | O23: https://community.secop.gov.co/Public/Tendering/OpportunityDetail/Index?noticeUID=CO1.NTC.3843662&isFromPublicArea=True&isModal=False
A24: 184 | B24: Formar a 7.000 emprendedores a través de un programa de formación teórica, empresarial y/o artesanal con enfoque diferencial para emprendimientos artísticos, culturales, creativos, negocios verdes, microempresarios y/o unidades productivas urbanas y rurales. | C24: 2020680010074 | D24: FORTALECIMIENTO DEL CENTRO DE DESARROLLO EMPRESARIAL Y DE EMPLEABILIDAD EN EL MUNICIPIO DE BUCARAMANGA | E24: PRESTAR LOS SERVICIOS PROFESIONALES DE CARÁCTER TEMPORAL, PARA COADYUVAR EN LA PUESTA EN MARCHA Y ACOMPAÑAMIENTO DE LAS ACCIONES REALIZADAS DENTRO DE LA ESTRATEGIA DE REACTIVACIÓN ECONÓMICA - SOMOS LOCALES DEL IMEBU. | F24: 039-2023 | G24: CPS | H24: DIRECTA | I24: QUINTERO TIRADO PEDRO ANGEL | J24: 2.3.2.02.02.009.03 | K24: 44952 | L24: 40800000 | M24: 40800000 | N24: 850000 | O24: https://community.secop.gov.co/Public/Tendering/OpportunityDetail/Index?noticeUID=CO1.NTC.3844414&isFromPublicArea=True&isModal=False
A25: 184 | B25: Formar a 7.000 emprendedores a través de un programa de formación teórica, empresarial y/o artesanal con enfoque diferencial para emprendimientos artísticos, culturales, creativos, negocios verdes, microempresarios y/o unidades productivas urbanas y rurales. | C25: 2020680010074 | D25: FORTALECIMIENTO DEL CENTRO DE DESARROLLO EMPRESARIAL Y DE EMPLEABILIDAD EN EL MUNICIPIO DE BUCARAMANGA | E25: PRESTAR LOS SERVICIOS PROFESIONALES DE CARÁCTER TEMPORAL PARA APOYAR LOS DIFERENTES EVENTOS COMERCIALES QUE CONTRIBUYEN A LA GENERACIÓN DE ESTRATEGIAS PARA IMPULSAR A LOS EMPRESARIOS Y/O EMPRENDEDORES PRIORIZADOS EN EL MARCO DE LA ESTRATEGIA DE REACTIVACIÓN ECONÓMICA SOMOS LOCALES CDE | F25: 028-2023 | G25: CPS | H25: DIRECTA | I25: RAVELO PEREZ BEATRIZ | J25: 2.3.2.02.02.009.03 | K25: 44949 | L25: 40000000 | M25: 40000000 | N25: 1333333 | O25: https://community.secop.gov.co/Public/Tendering/OpportunityDetail/Index?noticeUID=CO1.NTC.3808454&isFromPublicArea=True&isModal=False
