Workbook

Sheet PA 2023
A1: PLAN DE ACCIÓN - PLAN DE DESARROLLO MUNICIPAL INSTITUTO MUNICIPAL DE EMPLEO Y FOMENTO EMPRESARIAL DE BUCARAMANGA - IMEBU | AP1: Código: F-DPM-1210-238,37-030
AP2: Versión: 1.0
AP3: Fecha aprobación: Marzo-06-2023
AP4: Página: 1 de 1
A5: FECHA DE SUSCRIPCIÓN: | D5: 44992
A6: FECHA DE CORTE: | D6: 45016
B7: PDM 2020-2023 | G7: PROYECTOS DE INVERSIÓN | L7: CUMPLIMIENTO DE META | P7: RECURSOS PROGRAMADOS | W7: RECURSOS APROPIADOS | AC7: RECURSOS COMPROMETIDOS | AI7: RECURSOS OBLIGADOS | AO7: EJECUCIÓN PPTAL | AP7: RECURSOS GESTIONADOS | AQ7: RESPONSABLES
A8: No. | B8: Línea estratégica | C8: Componente | D8: Programa | E8: Meta PDM | F8: Indicador de producto | G8: Código BPIN | H8: Nombre del Proyecto | I8: Actividades | J8: Fecha inicio | K8: Fecha de terminación | L8: Meta programada | M8: Meta ejecutada | N8: PESO | O8: AVANCE | P8: Rubro | Q8: RECURSOS PROPIOS MUNICIPIO | R8: SGP | S8: SGR | T8: RECURSOS PROPIOS INSTITUTOS | U8: OTROS | V8: TOTAL PROGRAMADO | W8: RECURSOS PROPIOS MUNICIPIO | X8: SGP | Y8: SGR | Z8: RECURSOS PROPIOS INSTITUTOS | AA8: OTROS | AB8: TOTAL APROPIADO | AC8: RECURSOS PROPIOS MUNICIPIO | AD8: SGP | AE8: SGR | AF8: RECURSOS PROPIOS INSTITUTOS | AG8: OTROS | AH8: TOTAL COMPROMETIDO | AI8: RECURSOS PROPIOS MUNICIPIO | AJ8: SGP | AK8: SGR | AL8: RECURSOS PROPIOS INSTITUTOS | AM8: OTROS | AN8: TOTAL OBLIGADO | AQ8: Dependencia | AR8: Responsable
A9: 180 | B9: BUCARAMANGA PRODUCTIVA Y COMPETITIVA: EMPRESAS INNOVADORAS, RESPONSABLES Y CONSCIENTES | C9: Emprendimiento, Innovación, Formalización Y Dinamización Empresarial | D9: Emprendimiento E Innovación | E9: Fortalecer a 5.000 empresas, emprendimientos y/o unidades productivas, a través de la implementación de un programa de incubación y aceleración de emprendimientos innovadores articulados con el ecosistema de emprendimiento, que caracterice las capacidades tecnológicas instaladas (duras y blandas) con enfoque diferencial. | F9: Número de empresas, emprendimientos y/o unidades productivas fortalecidas a través de la implementación de un programa de incubación y aceleración de emprendimientos innovadores articulados con el ecosistema de emprendimiento, que caracterice las capacidades tecnológicas instaladas (duras y blandas) con enfoque diferencial. | G9: 2020680010157 | H9: FORTALECIMIENTO DEL COWORKING COMO ESTRATEGIA PARA EL EMPRENDIMIENTO, INNOVACIÓN, DINAMIZACIÓN Y ACELERACIÓN EMPRESARIAL EN EL MUNICIPIO DE BUCARAMANGA | I9: Asesorar técnicamente a emprendedores y/o empresarios en etapa de aceleración en programas de formación empresarial. Realizar adecuaciones en espacio para prestación de servicios de consultoria a emprendedores y/o empresarios en etapa de aceleración y Coworking. | J9: 44939 | K9: 45291 | L9: 3100 | M9: =SUM('Resultado por Estrategias'!C3:C9) -> 294 | N9: =IFERROR(AN9/$AN$22,"-") -> 0.14078843 | O9: =IFERROR(IF(M9/L9>1,(1*N9),((M9/L9)*N9)),"-") -> 0.013352193 | P9: 2.3.2.02.02.007.01 2.3.2.02.02.009.05 | Q9: =Gastos_Febrero!$M$82 -> 695900000 | V9: =SUM(Q9:U9) -> 695900000 | W9: =SUMIF(Contratación!$A$2:$A$270,"180",Contratación!$L$2:$L$270) -> 614625000 | AB9: =SUM(W9:AA9) -> 614625000 | AC9: =SUMIF(Contratación!$A$2:$A$270,"180",Contratación!$M$2:$M$270) -> 614625000 | AH9: =SUM(AC9:AG9) -> 614625000 | AI9: =SUMIF(Contratación!$A$2:$A$270,"180",Contratación!$N$2:$N$270) -> 52916875 | AN9: =SUM(AI9:AM9) -> 52916875 | AO9: =IFERROR(AN9/AB9,"-") -> 0.086096197 | AP9: ='Recursos Gestionados'!G2+'Recursos Gestionados'!G3 -> 174057134 | AQ9: IMEBU | AR9: Luis Gonzalo Gómez Guerrero
A10: 182 | B10: BUCARAMANGA PRODUCTIVA Y COMPETITIVA: EMPRESAS INNOVADORAS, RESPONSABLES Y CONSCIENTES | C10: Emprendimiento, Innovación, Formalización Y Dinamización Empresarial | D10: Centros De Desarrollo Empresarial | E10: Implementar 1 programa de desarrollo empresarial y de empleabilidad para las micro y pequeñas empresas (incluyendo unidades productivas). | F10: Número de programas de desarrollo empresariales y de empleabilidad implementados para las micro y pequeñas empresas (incluyendo unidades productivas). | G10: 2020680010074 | H10: FORTALECIMIENTO DEL CENTRO DE DESARROLLO EMPRESARIAL Y DE EMPLEABILIDAD EN EL MUNICIPIO DE BUCARAMANGA | I10: Asesorar a emprendedores y empresarios en programas de formación empresarial (Modelo de Negocios y diseño Planes de Mejora). Implementar Estrategia comunitaria para el emprendimiento y el desarrollo empresarial. Formulación de la estrategia de reactivación y sostenimiento de la economía. Brindar acompañamiento a los proyectos productivos de la población victima. | J10: 44944 | K10: 45291 | L10: 1 | M10: 1 | N10: =IFERROR(AN10/$AN$22,"-") -> 0 | O10: =IFERROR(IF(M10/L10>1,(1*N10),((M10/L10)*N10)),"-") -> 0 | P10: 2.3.2.02.02.007.02 | Q10: =Gastos_Febrero!$M$80*'% METAS CDE'!F4 -> 5.4335822e+08 | V10: =SUM(Q10:U10) -> 5.4335822e+08 | W10: =SUMIF(Contratación!$A$2:$A$270,"182",Contratación!$L$2:$L$270) -> 499013636 | AB10: =SUM(W10:AA10) -> 499013636 | AC10: =SUMIF(Contratación!$A$2:$A$270,"182",Contratación!$M$2:$M$270) -> 499013636 | AH10: =SUM(AC10:AG10) -> 499013636 | AI10: =SUMIF(Contratación!$A$2:$A$270,"182",Contratación!$N$2:$N$270) -> 0 | AN10: =SUM(AI10:AM10) -> 0 | AO10: =IFERROR(AN10/AB10,"-") -> 0 | AP10: ='Recursos Gestionados'!G4+'Recursos Gestionados'!G5 -> 352090048 | AQ10: IMEBU | AR10: Luis Gonzalo Gómez Guerrero
A11: 183 | B11: BUCARAMANGA PRODUCTIVA Y COMPETITIVA: EMPRESAS INNOVADORAS, RESPONSABLES Y CONSCIENTES | C11: Emprendimiento, Innovación, Formalización Y Dinamización Empresarial | D11: Centros De Desarrollo Empresarial | E11: Desarrollar el modelo CDE virtual para que amplíen la cobertura en la ciudad. | F11: Porcentaje de avance en el desarrollo del modelo CDE virtual para que amplíen la cobertura en la ciudad. | G11: 2020680010074 | H11: FORTALECIMIENTO DEL CENTRO DE DESARROLLO EMPRESARIAL Y DE EMPLEABILIDAD EN EL MUNICIPIO DE BUCARAMANGA | I11: Asesorar a emprendedores y empresarios en programas de formación empresarial (Modelo de Negocios y diseño Planes de Mejora). Implementar Estrategia comunitaria para el emprendimiento y el desarrollo empresarial. Formulación de la estrategia de reactivación y sostenimiento de la economía. | J11: 44944 | K11: 45291 | L11: 0.3 | M11: 0 | N11: =IFERROR(AN11/$AN$22,"-") -> 0.007139164 | O11: =IFERROR(IF(M11/L11>1,(1*N11),((M11/L11)*N11)),"-") -> 0 | P11: 2.3.2.02.02.009.03 | Q11: =Gastos_Febrero!$M$80*'% METAS CDE'!F5 -> 47256718 | V11: =SUM(Q11:U11) -> 47256718 | W11: =SUMIF(Contratación!$A$2:$A$270,"183",Contratación!$L$2:$L$270) -> 43400000 | AB11: =SUM(W11:AA11) -> 43400000 | AC11: =SUMIF(Contratación!$A$2:$A$270,"183",Contratación!$M$2:$M$270) -> 43400000 | AH11: =SUM(AC11:AG11) -> 43400000 | AI11: =SUMIF(Contratación!$A$2:$A$270,"183",Contratación!$N$2:$N$270) -> 2683333 | AN11: =SUM(AI11:AM11) -> 2683333 | AO11: =IFERROR(AN11/AB11,"-") -> 0.061827949 | AQ11: IMEBU | AR11: Luis Gonzalo Gómez Guerrero
A12: 184 | B12: BUCARAMANGA PRODUCTIVA Y COMPETITIVA: EMPRESAS INNOVADORAS, RESPONSABLES Y CONSCIENTES | C12: Emprendimiento, Innovación, Formalización Y Dinamización Empresarial | D12: Centros De Desarrollo Empresarial | E12: Formar a 7.000 emprendedores a través de un programa de formación teórica, empresarial y/o artesanal con enfoque diferencial para emprendimientos artísticos, culturales, creativos, negocios verdes, microempresarios y/o unidades productivas urbanas y rurales. | F12: Número de emprendedores formados a través de un programa de formación teórica, empresarial y/o artesanal con enfoque diferencial para emprendimientos artísticos, culturales, creativos, negocios verdes, microempresarios y/o unidades productivas urbanas y rurales. | G12: 2020680010074 | H12: FORTALECIMIENTO DEL CENTRO DE DESARROLLO EMPRESARIAL Y DE EMPLEABILIDAD EN EL MUNICIPIO DE BUCARAMANGA | I12: Asesorar a emprendedores y empresarios en programas de formación empresarial (Modelo de Negocios y diseño Planes de Mejora). Implementar Estrategia comunitaria para el emprendimiento y el desarrollo empresarial. Formulación de la estrategia de reactivación y sostenimiento de la economía. | J12: 44944 | K12: 45291 | L12: 0 | M12: =SUM('Resultado por Estrategias'!C11:C16) -> 599 | N12: =IFERROR(AN12/$AN$22,"-") -> 0.38416766 | O12: =IFERROR(IF(M12/L12>1,(1*N12),((M12/L12)*N12)),"-") -> - | P12: 2.3.2.02.02.006.01 2.3.2.02.02.007.02 2.3.2.02.02.009.03 | Q12: =Gastos_Febrero!$M$80*'% METAS CDE'!F6 -> 8.4953533e+08 | V12: =SUM(Q12:U12) -> 8.4953533e+08 | W12: =SUMIF(Contratación!$A$2:$A$270,"184",Contratación!$L$2:$L$270) -> 780203000 | AB12: =SUM(W12:AA12) -> 780203000 | AC12: =SUMIF(Contratación!$A$2:$A$270,"184",Contratación!$M$2:$M$270) -> 760778000 | AH12: =SUM(AC12:AG12) -> 760778000 | AI12: =SUMIF(Contratación!$A$2:$A$270,"184",Contratación!$N$2:$N$270) -> 144393624 | AN12: =SUM(AI12:AM12) -> 144393624 | AO12: =IFERROR(AN12/AB12,"-") -> 0.18507186 | AQ12: IMEBU | AR12: Luis Gonzalo Gómez Guerrero
A13: 185 | B13: BUCARAMANGA PRODUCTIVA Y COMPETITIVA: EMPRESAS INNOVADORAS, RESPONSABLES Y CONSCIENTES | C13: Emprendimiento, Innovación, Formalización Y Dinamización Empresarial | D13: Centros De Desarrollo Empresarial | E13: Implementar en 4.000 mipymes planes estratégicos orientados a innovar y/o incorporación tecnológica en áreas empresariales estratégicas con apoyo de Universidades y actores económicos clave. | F13: Número de mipymes con planes estratégicos implementados orientados a innovar y/o incorporación tecnológica en áreas empresariales estratégicas con apoyo de Universidades y actores económicos clave. | G13: 2020680010074 | H13: FORTALECIMIENTO DEL CENTRO DE DESARROLLO EMPRESARIAL Y DE EMPLEABILIDAD EN EL MUNICIPIO DE BUCARAMANGA | I13: Identificar habilidades y destrezas de emprendedores, empresarios y ciudadanos para orientarlos hacia el emprendimiento o la empleabilidad. | J13: 44944 | K13: 45291 | L13: 2400 | M13: =SUM('Resultado por Estrategias'!C12:C17) -> 496 | N13: =IFERROR(AN13/$AN$22,"-") -> 0 | O13: =IFERROR(IF(M13/L13>1,(1*N13),((M13/L13)*N13)),"-") -> 0 | P13: 2.3.2.02.02.007.02 2.3.2.02.02.009.03 | Q13: =Gastos_Febrero!$M$80*'% METAS CDE'!F7 -> 2.1428172e+08 | V13: =SUM(Q13:U13) -> 2.1428172e+08 | W13: =SUMIF(Contratación!$A$2:$A$270,"185",Contratación!$L$2:$L$270) -> 196793750 | AB13: =SUM(W13:AA13) -> 196793750 | AC13: =SUMIF(Contratación!$A$2:$A$270,"185",Contratación!$M$2:$M$270) -> 177368750 | AH13: =SUM(AC13:AG13) -> 177368750 | AI13: =SUMIF(Contratación!$A$2:$A$270,"185",Contratación!$N$2:$N$270) -> 0 | AN13: =SUM(AI13:AM13) -> 0 | AO13: =IFERROR(AN13/AB13,"-") -> 0 | AQ13: IMEBU | AR13: Luis Gonzalo Gómez Guerrero
A14: 186 | B14: BUCARAMANGA PRODUCTIVA Y COMPETITIVA: EMPRESAS INNOVADORAS, RESPONSABLES Y CONSCIENTES | C14: Emprendimiento, Innovación, Formalización Y Dinamización Empresarial | D14: Banca Ciudadana | E14: Intervenir a 4.000 empresas y/o emprendimientos mediante apalancamiento financiero orientado a realizar inversión en innovación y/o tecnología en la zona rural y urbana con enfoque diferencial. | F14: Número de empresas y/o emprendimientos intervenidos mediante apalancamiento financiero orientado a realizar inversión en innovación y/o tecnología en la zona rural y urbana con enfoque diferencial. | G14: 2020680010084 | H14: APOYO DEL FONDO DE FOMENTO Y CRÉDITO DE APOYO DEL IMEBU, PROGRAMA BANCA CIUDADANA EN EL MUNICIPIO DE BUCARAMANGA | I14: Otorgar créditos para el emprendimiento y/o fortalecimiento financiero de empresas orientados a capital de trabajo, nómina y/o activos fijos. Realizar acompañamiento técnico y visitas pos crédito a los emprendimientos y/o empresas apoyadas. | J14: 44939 | K14: 45291 | L14: 2569 | M14: =SUM('Resultado por Estrategias'!C19) -> 232 | N14: =IFERROR(AN14/$AN$22,"-") -> 0.02354594 | O14: =IFERROR(IF(M14/L14>1,(1*N14),((M14/L14)*N14)),"-") -> 0.0021263753 | P14: 2.3.2.02.02.009.01 2.3.2.02.02.009.02 | Q14: 3000000 | T14: 2000000 | V14: =SUM(Q14:U15) -> 617180000 | W14: 0 | AB14: =SUM(W14:AA15) -> 111362500 | AC14: 0 | AH14: =SUM(AC14:AG15) -> 111362500 | AI14: 0 | AN14: =SUM(AI14:AM15) -> 8849999.5 | AO14: =IFERROR(AN14/AB14,"-") -> 0.079470194 | AQ14: IMEBU | AR14: Luis Gonzalo Gómez Guerrero
A15: 186 | B15: BUCARAMANGA PRODUCTIVA Y COMPETITIVA: EMPRESAS INNOVADORAS, RESPONSABLES Y CONSCIENTES | C15: Emprendimiento, Innovación, Formalización Y Dinamización Empresarial | D15: Banca Ciudadana | E15: Intervenir a 4.000 empresas y/o emprendimientos mediante apalancamiento financiero orientado a realizar inversión en innovación y/o tecnología en la zona rural y urbana con enfoque diferencial. | F15: Número de empresas y/o emprendimientos intervenidos mediante apalancamiento financiero orientado a realizar inversión en innovación y/o tecnología en la zona rural y urbana con enfoque diferencial. | G15: 2022680010037 | H15: APOYO A LAS LÍNEAS DE CRÉDITO CONDONABLE Y NO CONDONABLE DEL FONDO DE FOMENTO Y CRÉDITO DEL IMEBU PROGRAMA BANCA CIUDADANA EN EL MUNICIPIO DE BUCARAMANGA | I15: Otorgar créditos no condonables para el fortalecimiento financiero de empresas y/o emprendimientos Otorgar créditos condonables para el fortalecimiento financiero de proyectos productivos, empresas y/o emprendimientos de población vulnerable | J15: 44949 | K15: 45291 | O15: =IFERROR(IF(M15/L15>1,(1*N15),((M15/L15)*N15)),"-") -> - | P15: 2.3.2.02.02.009.01 2.3.2.02.02.009.02 | Q15: 612180000 | W15: =SUMIF(Contratación!$A$2:$A$270,"186",Contratación!$L$2:$L$270) -> 111362500 | AC15: =SUMIF(Contratación!$A$2:$A$270,"186",Contratación!$M$2:$M$270) -> 111362500 | AI15: =SUMIF(Contratación!$A$2:$A$270,"186",Contratación!$N$2:$N$270) -> 8849999.5
A16: 187 | B16: BUCARAMANGA PRODUCTIVA Y COMPETITIVA: EMPRESAS INNOVADORAS, RESPONSABLES Y CONSCIENTES | C16: Emprendimiento, Innovación, Formalización Y Dinamización Empresarial | D16: Banca Ciudadana | E16: Otorgar 6.000 créditos a emprendimientos y mipymes de orientados a capital de trabajo o destinos de inversión diferente a innovación y/o tecnología en zonas urbanas y rurales. | F16: Número de créditos otorgados a emprendimientos y mipymes de orientados a capital de trabajo o destinos de inversión diferente a innovación y/o tecnología en zonas urbanas y rurales. | G16: 2022680010037 | H16: APOYO A LAS LÍNEAS DE CRÉDITO CONDONABLE Y NO CONDONABLE DEL FONDO DE FOMENTO Y CRÉDITO DEL IMEBU PROGRAMA BANCA CIUDADANA EN EL MUNICIPIO DE BUCARAMANGA | I16: Otorgar créditos no condonables para el fortalecimiento financiero de empresas y/o emprendimientos Otorgar créditos condonables para el fortalecimiento financiero de proyectos productivos, empresas y/o emprendimientos de población vulnerable | J16: 44949 | K16: 45291 | L16: 1263 | M16: =SUM('Resultado por Estrategias'!C20) -> 341 | N16: =IFERROR(AN16/$AN$22,"-") -> 0.02354594 | O16: =IFERROR(IF(M16/L16>1,(1*N16),((M16/L16)*N16)),"-") -> 0.0063572174 | P16: 2.3.2.02.02.009.01 2.3.2.02.02.009.02 | Q16: 612180000 | V16: =SUM(Q16:U17) -> 617180000 | W16: =SUMIF(Contratación!$A$2:$A$270,"186",Contratación!$L$2:$L$270) -> 111362500 | AB16: =SUM(W16:AA17) -> 111362500 | AC16: =SUMIF(Contratación!$A$2:$A$270,"186",Contratación!$M$2:$M$270) -> 111362500 | AH16: =SUM(AC16:AG17) -> 111362500 | AI16: =SUMIF(Contratación!$A$2:$A$270,"186",Contratación!$N$2:$N$270) -> 8849999.5 | AN16: =SUM(AI16:AM17) -> 8849999.5 | AO16: =IFERROR(AN16/AB16,"-") -> 0.079470194 | AQ16: IMEBU | AR16: Luis Gonzalo Gómez Guerrero
A17: 187 | B17: BUCARAMANGA PRODUCTIVA Y COMPETITIVA: EMPRESAS INNOVADORAS, RESPONSABLES Y CONSCIENTES | C17: Emprendimiento, Innovación, Formalización Y Dinamización Empresarial | D17: Banca Ciudadana | E17: Otorgar 6.000 créditos a emprendimientos y mipymes de orientados a capital de trabajo o destinos de inversión diferente a innovación y/o tecnología en zonas urbanas y rurales. | F17: Número de créditos otorgados a emprendimientos y mipymes de orientados a capital de trabajo o destinos de inversión diferente a innovación y/o tecnología en zonas urbanas y rurales. | G17: 2020680010084 | H17: APOYO DEL FONDO DE FOMENTO Y CRÉDITO DE APOYO DEL IMEBU, PROGRAMA BANCA CIUDADANA EN EL MUNICIPIO DE BUCARAMANGA | I17: Otorgar créditos para el emprendimiento y/o fortalecimiento financiero de empresas orientados a capital de trabajo, nómina y/o activos fijos. Realizar acompañamiento técnico y visitas pos crédito a los emprendimientos y/o empresas apoyadas. | J17: 44939 | K17: 45291 | O17: =IFERROR(IF(M17/L17>1,(1*N17),((M17/L17)*N17)),"-") -> - | P17: 2.3.2.02.02.009.01 2.3.2.02.02.009.02 | Q17: 3000000 | T17: 2000000 | AI17: 0
A18: 188 | B18: BUCARAMANGA PRODUCTIVA Y COMPETITIVA: EMPRESAS INNOVADORAS, RESPONSABLES Y CONSCIENTES | C18: Empleabilidad, Empleo Y Trabajo Decente | D18: Empleo Y Empleabilidad | E18: Registrar 5.000 hojas de vida para facilitar el proceso de inserción en el mercado laboral identificando habilidades, destrezas y que competencias para el trabajo. | F18: Número de hojas de vida registradas para facilitar el proceso de inserción en el mercado laboral identificando habilidades, destrezas y que competencias para el trabajo. | G18: 2022680010086 | H18: FORTALECIMIENTO DE LA OFICINA DE FOMENTO A LA EMPLEABILIDAD, EL EMPLEO Y EL TRABAJO DECENTE EN EL MUNICIPIO DE BUCARAMANGA | I18: Brindar formación en competencias personales y/o técnicas para el trabajo Realizar intermediación laboral entre oferentes de trabajo y buscadores de empleo. Ofrecer acompañamiento a las empresas en la estructuración y selección de perfiles adecuados a sus requerimientos. Formular la política pública de empleo y trabajo decente de la ciudad. Garantizar la operatividad y continuidad del programa de empleo y la oficina de empleabilidad del Instituto Municipal de Empleo y fomento empresarial - IMEBU. | J18: 44942 | K18: 45291 | L18: 0 | M18: =SUM('Resultado por Estrategias'!C21) -> 1192 | N18: =IFERROR(AN18/$AN$22,"-") -> 0.042454048 | O18: =IFERROR(IF(M18/L18>1,(1*N18),((M18/L18)*N18)),"-") -> - | P18: 2.3.2.02.02.009.04 | Q18: =Gastos_Febrero!$M$83/3 -> 79590000 | V18: =SUM(Q18:U18) -> 79590000 | W18: =SUMIF(Contratación!$A$2:$A$270,"188",Contratación!$L$2:$L$270) -> 73203333 | AB18: =SUM(W18:AA18) -> 73203333 | AC18: =SUMIF(Contratación!$A$2:$A$270,"188",Contratación!$M$2:$M$270) -> 73203333 | AH18: =SUM(AC18:AG18) -> 73203333 | AI18: =SUMIF(Contratación!$A$2:$A$270,"188",Contratación!$N$2:$N$270) -> 15956819 | AN18: =SUM(AI18:AM18) -> 15956819 | AO18: =IFERROR(AN18/AB18,"-") -> 0.2179794 | AQ18: IMEBU | AR18: Luis Gonzalo Gómez Guerrero
A19: 189 | B19: BUCARAMANGA PRODUCTIVA Y COMPETITIVA: EMPRESAS INNOVADORAS, RESPONSABLES Y CONSCIENTES | C19: Empleabilidad, Empleo Y Trabajo Decente | D19: Empleo Y Empleabilidad | E19: Formar 3.000 jóvenes y adultos en competencias personales y/o técnicas para el trabajo con el fin de facilitar su inserción en el mercado laboral. | F19: Número de jóvenes y adultos formados en competencias personales y/o técnicas para el trabajo con el fin de facilitar su inserción en el mercado laboral. | G19: 2022680010086 | H19: FORTALECIMIENTO DE LA OFICINA DE FOMENTO A LA EMPLEABILIDAD, EL EMPLEO Y EL TRABAJO DECENTE EN EL MUNICIPIO DE BUCARAMANGA | I19: Brindar formación en competencias personales y/o técnicas para el trabajo Realizar intermediación laboral entre oferentes de trabajo y buscadores de empleo. Ofrecer acompañamiento a las empresas en la estructuración y selección de perfiles adecuados a sus requerimientos. Formular la política pública de empleo y trabajo decente de la ciudad. Garantizar la operatividad y continuidad del programa de empleo y la oficina de empleabilidad del Instituto Municipal de Empleo y fomento empresarial - IMEBU. | J19: 44942 | K19: 45291 | L19: 0 | M19: =SUM('Resultado por Estrategias'!C22) -> 1192 | N19: =IFERROR(AN19/$AN$22,"-") -> 0.042454048 | O19: =IFERROR(IF(M19/L19>1,(1*N19),((M19/L19)*N19)),"-") -> - | P19: 2.3.2.02.02.009.04 | Q19: =Gastos_Febrero!$M$83/3 -> 79590000 | V19: =SUM(Q19:U19) -> 79590000 | W19: =SUMIF(Contratación!$A$2:$A$270,"189",Contratación!$L$2:$L$270) -> 73203333 | AB19: =SUM(W19:AA19) -> 73203333 | AC19: =SUMIF(Contratación!$A$2:$A$270,"189",Contratación!$M$2:$M$270) -> 73203333 | AH19: =SUM(AC19:AG19) -> 73203333 | AI19: =SUMIF(Contratación!$A$2:$A$270,"189",Contratación!$N$2:$N$270) -> 15956819 | AN19: =SUM(AI19:AM19) -> 15956819 | AO19: =IFERROR(AN19/AB19,"-") -> 0.2179794 | AQ19: IMEBU | AR19: Luis Gonzalo Gómez Guerrero
A20: 190 | B20: BUCARAMANGA PRODUCTIVA Y COMPETITIVA: EMPRESAS INNOVADORAS, RESPONSABLES Y CONSCIENTES | C20: Empleabilidad, Empleo Y Trabajo Decente | D20: Empleo Y Empleabilidad | E20: Acompañar a 1.500 empresas en el fomento de una cultura del empleo y trabajo decente para capturar vacantes que permitan realizar la intermediación laboral. | F20: Número de empresas acompañadas en el fomento de una cultura del empleo y trabajo decente para capturar vacantes que permitan realizar la intermediación laboral. | G20: 2022680010086 | H20: FORTALECIMIENTO DE LA OFICINA DE FOMENTO A LA EMPLEABILIDAD, EL EMPLEO Y EL TRABAJO DECENTE EN EL MUNICIPIO DE BUCARAMANGA | I20: Brindar formación en competencias personales y/o técnicas para el trabajo Realizar intermediación laboral entre oferentes de trabajo y buscadores de empleo. Ofrecer acompañamiento a las empresas en la estructuración y selección de perfiles adecuados a sus requerimientos. Formular la política pública de empleo y trabajo decente de la ciudad. Garantizar la operatividad y continuidad del programa de empleo y la oficina de empleabilidad del Instituto Municipal de Empleo y fomento empresarial - IMEBU. | J20: 44942 | K20: 45291 | L20: 0 | M20: =SUM('Resultado por Estrategias'!C23) -> 51 | N20: =IFERROR(AN20/$AN$22,"-") -> 0.042454048 | O20: =IFERROR(IF(M20/L20>1,(1*N20),((M20/L20)*N20)),"-") -> - | P20: 2.3.2.02.02.009.04 | Q20: =Gastos_Febrero!$M$83/3 -> 79590000 | V20: =SUM(Q20:U20) -> 79590000 | W20: =SUMIF(Contratación!$A$2:$A$270,"190",Contratación!$L$2:$L$270) -> 73203333 | AB20: =SUM(W20:AA20) -> 73203333 | AC20: =SUMIF(Contratación!$A$2:$A$270,"190",Contratación!$M$2:$M$270) -> 73203333 | AH20: =SUM(AC20:AG20) -> 73203333 | AI20: =SUMIF(Contratación!$A$2:$A$270,"190",Contratación!$N$2:$N$270) -> 15956819 | AN20: =SUM(AI20:AM20) -> 15956819 | AO20: =IFERROR(AN20/AB20,"-") -> 0.2179794 | AQ20: IMEBU | AR20: Luis Gonzalo Gómez Guerrero
A21: 302 | B21: BUCARAMANGA TERRITORIO LIBRE DE CORRUPCIÓN: INSTITUCIONES SÓLIDAS Y CONFIABLES | C21: Administración Pública Moderna E Innovadora | D21: Gobierno Fortalecido Para Ser Y Hacer | E21: Mantener en funcionamiento el 100% de los programas del Instituto Municipal del Empleo. | F21: Porcentaje de los programas de Instituto Municipal del Empleo mantenidos en funcionamiento. | G21: 2021680010176 | H21: FORTALECIMIENTO DE LOS PROCESOS DEL INSTITUTO MUNICIPAL DE EMPLEO Y FOMENTO EMPRESARIAL DEL MUNICIPIO DE BUCARAMANGA | I21: Apoyar los procesos administrativos, juridicos y de control interno del IMEBU. Realizar acompañamiento, seguimiento y control de los programas y proyectos misionales del IMEBU. | J21: 44936 | K21: 45291 | L21: 1 | M21: 1 | N21: =IFERROR(AN21/$AN$22,"-") -> 0.29345072 | O21: =IFERROR(IF(M21/L21>1,(1*N21),((M21/L21)*N21)),"-") -> 0.29345072 | P21: 2.3.2.02.02.009.06 | Q21: =Gastos_Febrero!$M$84 -> 541456051 | V21: =SUM(Q21:U21) -> 541456051 | W21: =SUMIF(Contratación!$A$2:$A$270,"302",Contratación!$L$2:$L$270) -> 538083602 | AB21: =SUM(W21:AA21) -> 538083602 | AC21: =SUMIF(Contratación!$A$2:$A$270,"302",Contratación!$M$2:$M$270) -> 538083602 | AH21: =SUM(AC21:AG21) -> 538083602 | AI21: =SUMIF(Contratación!$A$2:$A$270,"302",Contratación!$N$2:$N$270) -> 110296666 | AN21: =SUM(AI21:AM21) -> 110296666 | AO21: =IFERROR(AN21/AB21,"-") -> 0.20498054 | AQ21: IMEBU | AR21: Luis Gonzalo Gómez Guerrero
A22: {=SUM(--(FREQUENCY(A9:A21,A9:A21)>0))} -> 11 | M22: TOTALES | O22: =IFERROR(SUM(O9:O21),"-") -> 0.3152865 | Q22: =SUM(Q9:Q21) -> 4360918051 | R22: =SUM(R9:R21) -> 0 | S22: =SUM(S9:S21) -> 0 | T22: =SUM(T9:T21) -> 4000000 | U22: =SUM(U9:U21) -> 0 | V22: =SUBTOTAL(9,V9:V21) -> 4364918051 | W22: =SUBTOTAL(9,W9:W21) -> 3.114454e+09 | X22: =SUBTOTAL(9,X9:X21) -> 0 | Y22: =SUBTOTAL(9,Y9:Y21) -> 0 | Z22: =SUBTOTAL(9,Z9:Z21) -> 0 | AA22: =SUBTOTAL(9,AA9:AA21) -> 0 | AB22: =SUBTOTAL(9,AB9:AB21) -> 3.114454e+09 | AC22: =SUBTOTAL(9,AC9:AC21) -> 3.075604e+09 | ... AN22: =SUBTOTAL(9,AN9:AN21) -> 375860954 | AO22: =IFERROR(AN22/AB22,"-") -> 0.12068278 | AP22: =SUBTOTAL(9,AP9:AP21) -> 526147182

Sheet Contratación
A1: No. Meta (la del PA) | B1: Meta PDM (Copiar la meta del PA) | C1: BPIN | D1: Nombre proyecto de inversión | E1: Objeto de la contratación/pago/transferencia/etc | F1: No. contrato/convenio/pago/resolución/etc | G1: Tipo de contrato | H1: Modalidad | I1: Nombre Contratista | J1: Rubro | K1: Fecha RP | L1: Total apropiado | M1: Total comprometido | N1: Total obligado (pagos+cxp) | O1: Referencia Secop II
A2: 180 | B2: Fortalecer a 5.000 empresas, emprendimientos y/o unidades productivas, a través de la implementación de un programa de incubación y aceleración de emprendimientos innovadores articulados con el ecosistema de emprendimiento, que caracterice las capacidades tecnológicas instaladas (duras y blandas) con enfoque diferencial. | C2: 2020680010157 | D2: FORTALECIMIENTO DEL COWORKING COMO ESTRATEGIA PARA EL EMPRENDIMIENTO, INNOVACIÓN, DINAMIZACIÓN Y ACELERACIÓN EMPRESARIAL EN EL MUNICIPIO DE BUCARAMANGA | E2: PRESTAR LOS SERVICIOS PROFESIONALES DE CARACTER TEMPORAL PARA COADYUVAR A TRAVES DE ACOMPAÑAMIENTOS EN DESARROLLO Y PROGRAMACION WEB A EMPRESARIOS Y/O EMPRENDEDORES DE LA CIUDAD DE BUCARAMANGA, QUE REQUIERAN OPTIMIZAR SUS RECURSOS DIGITALES Y WEB, ACORDE AL PROCESO DE AVCELERACION DEL PROGRAMA COWORKING BAJO LA ESTRATEGIA AVANZA BGA DEL IMEBU. CPS-103-2023, DURACIÓN SIETE (07) MESES. | F2: 103-2023 | G2: CPS | H2: DIRECTA | I2: APARICIO DURAN BRAYAN | J2: 2.3.2.02.02.009.05 | K2: 45014 | L2: 28000000 | M2: 28000000
A3: 180 | B3: Fortalecer a 5.000 empresas, emprendimientos y/o unidades productivas, a través de la implementación de un programa de incubación y aceleración de emprendimientos innovadores articulados con el ecosistema de emprendimiento, que caracterice las capacidades tecnológicas instaladas (duras y blandas) con enfoque diferencial. | C3: 2020680010157 | D3: FORTALECIMIENTO DEL COWORKING COMO ESTRATEGIA PARA EL EMPRENDIMIENTO, INNOVACIÓN, DINAMIZACIÓN Y ACELERACIÓN EMPRESARIAL EN EL MUNICIPIO DE BUCARAMANGA | E3: PRESTAR LOS SERVICIOS PROFESIONALES DE CARÁCTER TEMPORAL, PARA BRINDAR APOYO Y SEGUIMIENTO, TÉCNICO, ADMINISTRATIVO, FINANCIERO Y COMERCIAL A EMPRENDEDORES Y EMPRESARIOS DE LA CIUDAD DE BUCARAMANGA, DE ACUERDO A LA ESTRATEGIA INCUBADORA DE EMPRENDIMIENTOS, EN EL MARCO DEL PROGRAMA MISIONAL COWORKING DEL IMEBU. | F3: 076-2023 | G3: CPS | H3: DIRECTA | I3: ARCINIEGAS VARGAS OSCAR ORLANDO | J3: 2.3.2.02.02.009.05 | K3: 44978 | L3: 14700000 | M3: 14700000 | N3: 1225000 | O3: https://community.secop.gov.co/Public/Tendering/OpportunityDetail/Index?noticeUID=CO1.NTC.4041667&isFromPublicArea=True&isModal=False
A4: 180 | B4: Fortalecer a 5.000 empresas, emprendimientos y/o unidades productivas, a través de la implementación de un programa de incubación y aceleración de emprendimientos innovadores articulados con el ecosistema de emprendimiento, que caracterice las capacidades tecnológicas instaladas (duras y blandas) con enfoque diferencial. | C4: 2020680010157 | D4: FORTALECIMIENTO DEL COWORKING COMO ESTRATEGIA PARA EL EMPRENDIMIENTO, INNOVACIÓN, DINAMIZACIÓN Y ACELERACIÓN EMPRESARIAL EN EL MUNICIPIO DE BUCARAMANGA | E4: PRESTAR LOS SERVICIOS PROFESIONALES DE CARÁCTER TEMPORAL PARA BRINDAR APOYO Y ACOMPAÑAMIENTO A EMPRESARIOS Y EMPRENDEDORES DE LA CIUDAD, EN EL DISEÑO Y CREACIÓN DE PÁGINAS WEB EN EL MARCO DEL PROGRAMA COWORKING DEL IMEBU | F4: 063-2023 | G4: CPS | H4: DIRECTA | I4: BAYONA GARCIA MARIO JESUS | J4: 2.3.2.02.02.009.05 | K4: 44957 | L4: 33600000 | M4: 33600000 | N4: 4200000 | O4: https://community.secop.gov.co/Public/Tendering/OpportunityDetail/Index?noticeUID=CO1.NTC.3892847&isFromPublicArea=True&isModal=False
A5: 180 | B5: Fortalecer a 5.000 empresas, emprendimientos y/o unidades productivas, a través de la implementación de un programa de incubación y aceleración de emprendimientos innovadores articulados con el ecosistema de emprendimiento, que caracterice las capacidades tecnológicas instaladas (duras y blandas) con enfoque diferencial. | C5: 2020680010157 | D5: FORTALECIMIENTO DEL COWORKING COMO ESTRATEGIA PARA EL EMPRENDIMIENTO, INNOVACIÓN, DINAMIZACIÓN Y ACELERACIÓN EMPRESARIAL EN EL MUNICIPIO DE BUCARAMANGA | E5: AUNAR ESFUERZOS PARA FOMENTAR EL EMPRENDIMIENTO, LA CIENCIA, TECNOLOGÍA E INNOVACIÓN MEDIANTE LA PARTICIPACIÓN EN EL PROYECTO S-INNOVA BUCARAMANGA. | F5: 002-2023 | G5: CA | H5: DIRECTA | I5: CAMARA DE COMERCIO DE BUCARAMANGA | J5: 2.3.2.02.02.007.01 | K5: 44974 | L5: 170000000 | M5: 170000000 | N5: 0 | O5: https://community.secop.gov.co/Public/Tendering/OpportunityDetail/Index?noticeUID=CO1.NTC.4002380&isFromPublicArea=True&isModal=False
A6: 180 | B6: Fortalecer a 5.000 empresas, emprendimientos y/o unidades productivas, a través de la implementación de un programa de incubación y aceleración de emprendimientos innovadores articulados con el ecosistema de emprendimiento, que caracterice las capacidades tecnológicas instaladas (duras y blandas) con enfoque diferencial. | C6: 2020680010157 | D6: FORTALECIMIENTO DEL COWORKING COMO ESTRATEGIA PARA EL EMPRENDIMIENTO, INNOVACIÓN, DINAMIZACIÓN Y ACELERACIÓN EMPRESARIAL EN EL MUNICIPIO DE BUCARAMANGA | E6: PRESTAR LOS SERVICIOS DE APOYO A LA GESTIÓN, PARA COADYUVAR EN LAS ACTIVIDADES ASISTENCIALES, OPERATIVAS Y LOGÍSTICAS REQUERIDAS PARA LA ESTRATEGIA INCUBADORA DE EMPRENDIMIENTOS, EN EL MARCO DEL PROGRAMA MISIONAL COWORKING DEL IMEBU. | F6: 080-2023 | G6: CPS | H6: DIRECTA | I6: CARDENAS BARILLAS SANDRA LILIANA | J6: 2.3.2.02.02.009.05 | K6: 44978 | L6: 11025000 | M6: 11025000 | N6: 826875 | O6: https://community.secop.gov.co/Public/Tendering/OpportunityDetail/Index?noticeUID=CO1.NTC.4051159&isFromPublicArea=True&isModal=False
A7: 180 | B7: Fortalecer a 5.000 empresas, emprendimientos y/o unidades productivas, a través de la implementación de un programa de incubación y aceleración de emprendimientos innovadores articulados con el ecosistema de emprendimiento, que caracterice las capacidades tecnológicas instaladas (duras y blandas) con enfoque diferencial. | C7: 2020680010157 | D7: FORTALECIMIENTO DEL COWORKING COMO ESTRATEGIA PARA EL EMPRENDIMIENTO, INNOVACIÓN, DINAMIZACIÓN Y ACELERACIÓN EMPRESARIAL EN EL MUNICIPIO DE BUCARAMANGA | E7: PRESTAR LOS SERVICIOS PROFESIONALES DE CARACTER TEMPORAL PARA BRINDAR APOYO Y SEGUIMIENTO TECNICO, ADMINISTRATIVO Y COMERCIAL A EMPRENDEDORES Y EMPRESARIOS DE LA CIUDAD, DE ACUERDO A LA ESTRATEGIA INCUBADORA DE EMPRENDIMIENTOS, EN EL MARCO DEL PROGRAMA MISIONAL COWORKING DEL IMEBU | F7: 048-2023 | G7: CPS | H7: DIRECTA | I7: CHARRY BOLIVAR LORENA | J7: 2.3.2.02.02.009.05 | K7: 44953 | L7: 14700000 | M7: 14700000 | N7: =490000+3675000 -> 4165000 | O7: https://community.secop.gov.co/Public/Tendering/OpportunityDetail/Index?noticeUID=CO1.NTC.3855802&isFromPublicArea=True&isModal=False
A8: 180 | B8: Fortalecer a 5.000 empresas, emprendimientos y/o unidades productivas, a través de la implementación de un programa de incubación y aceleración de emprendimientos innovadores articulados con el ecosistema de emprendimiento, que caracterice las capacidades tecnológicas instaladas (duras y blandas) con enfoque diferencial. | C8: 2020680010157 | D8: FORTALECIMIENTO DEL COWORKING COMO ESTRATEGIA PARA EL EMPRENDIMIENTO, INNOVACIÓN, DINAMIZACIÓN Y ACELERACIÓN EMPRESARIAL EN EL MUNICIPIO DE BUCARAMANGA | E8: PRESTAR LOS SERVICIOS PROFESIONALES DE CARACTER TEMPORAL, PARA BRINDAR APOYO Y ACOMPAÑAMIENTO A LOS MODELOS DE NEGOCIOS DE EMPRENDEDORES Y EMPRESARIOS DE LA CIUDAD DE BUCARAMANGA, DE ACUERDO A LA ESTRATEGIA INCUBADORA DE EMPRENDIMIENTOS, EN EL MARCO DEL PROGRAMA MISIONAL COWORKING DEL IMEBU. CPS-093-2023, DURACIÓN SEIS (06) MESES. | F8: 093-2023 | G8: CPS | H8: DIRECTA | I8: DELGADO GALVIS MARTHA LILIANA | J8: 2.3.2.02.02.009.05 | K8: 44995 | L8: 22800000 | M8: 22800000
A9: 180 | B9: Fortalecer a 5.000 empresas, emprendimientos y/o unidades productivas, a través de la implementación de un programa de incubación y aceleración de emprendimientos innovadores articulados con el ecosistema de emprendimiento, que caracterice las capacidades tecnológicas instaladas (duras y blandas) con enfoque diferencial. | C9: 2020680010157 | D9: FORTALECIMIENTO DEL COWORKING COMO ESTRATEGIA PARA EL EMPRENDIMIENTO, INNOVACIÓN, DINAMIZACIÓN Y ACELERACIÓN EMPRESARIAL EN EL MUNICIPIO DE BUCARAMANGA | E9: PRESTAR LOS SERVICIOS PROFESIONALES DE CARÁCTER TEMPORAL PARA APOYAR EN LAS DIFERENTES ESTRATEGIAS DE MARKETING A EMPRESARIOS Y EMPRENDEDORES DE LA CIUDAD, EN EL MARCO DEL PROGRAMA COWORKING DEL IMEBU | F9: 053-2023 | G9: CPS | H9: DIRECTA | I9: GARCIA ORTIZ SILVIA JULIANA | J9: 2.3.2.02.02.009.05 | K9: 44957 | L9: 33600000 | M9: 33600000 | N9: 4200000 | O9: https://community.secop.gov.co/Public/Tendering/OpportunityDetail/Index?noticeUID=CO1.NTC.3890153&isFromPublicArea=True&isModal=False | Q9: =Gastos_Febrero!$M$82 -> 695900000 | W9: =SUMIF(Contratación!$A$2:$A$270,"180",Contratación!$L$2:$L$270) -> 614625000 | AC9: =SUMIF(Contratación!$A$2:$A$270,"180",Contratación!$M$2:$M$270) -> 614625000 | AI9: =SUMIF(Contratación!$A$2:$A$270,"180",Contratación!$N$2:$N$270) -> 52916875
A10: 180 | B10: Fortalecer a 5.000 empresas, emprendimientos y/o unidades productivas, a través de la implementación de un programa de incubación y aceleración de emprendimientos innovadores articulados con el ecosistema de emprendimiento, que caracterice las capacidades tecnológicas instaladas (duras y blandas) con enfoque diferencial. | C10: 2020680010157 | D10: FORTALECIMIENTO DEL COWORKING COMO ESTRATEGIA PARA EL EMPRENDIMIENTO, INNOVACIÓN, DINAMIZACIÓN Y ACELERACIÓN EMPRESARIAL EN EL MUNICIPIO DE BUCARAMANGA | E10: PRESTAR LOS SERVICIOS PROFESIONALES DE CARÁCTER TEMPORAL COMO PRODUCTOR Y FOTÓGRAFO QUE CONTRIBUYA A IMPULSAR Y FORTALECER LAS CAMPAÑAS CREATIVAS DE EMPRESARIOS Y EMPRENDEDORES DE LA CIUDAD, EN EL MARCO DEL PROGRAMA COWORKING DEL IMEBU | F10: 054-2023 | G10: CPS | H10: DIRECTA | I10: LEAL MORENO CRISTIAN CAMILO | J10: 2.3.2.02.02.009.05 | K10: 44957 | L10: 33600000 | M10: 33600000 | N10: 4200000 | O10: https://community.secop.gov.co/Public/Tendering/OpportunityDetail/Index?noticeUID=CO1.NTC.3891354&isFromPublicArea=True&isModal=False | Q10: =Gastos_Febrero!$M$80*'% METAS CDE'!F4 -> 5.4335822e+08 | W10: =SUMIF(Contratación!$A$2:$A$270,"182",Contratación!$L$2:$L$270) -> 499013636 | AC10: =SUMIF(Contratación!$A$2:$A$270,"182",Contratación!$M$2:$M$270) -> 499013636 | AI10: =SUMIF(Contratación!$A$2:$A$270,"182",Contratación!$N$2:$N$270) -> 0
A11: 180 | B11: Fortalecer a 5.000 empresas, emprendimientos y/o unidades productivas, a través de la implementación de un programa de incubación y aceleración de emprendimientos innovadores articulados con el ecosistema de emprendimiento, que caracterice las capacidades tecnológicas instaladas (duras y blandas) con enfoque diferencial. | C11: 2020680010157 | D11: FORTALECIMIENTO DEL COWORKING COMO ESTRATEGIA PARA EL EMPRENDIMIENTO, INNOVACIÓN, DINAMIZACIÓN Y ACELERACIÓN EMPRESARIAL EN EL MUNICIPIO DE BUCARAMANGA | E11: PRESTAR LOS SERVICIOS PROFESIONALES DE CARÁCTER TEMPORAL PARA BRINDAR APOYO EN ESTRATEGIAS DIGITALES Y AUTOMATIZACIÓN DE MARKETING, DIRIGIDO A EMPRESARIOS Y EMPRENDEDORES DE LA CIUDAD EN EL MARCO DE LA ESTRATEGIA AVANZA BGA-PROGRAMA COWORKING DEL IMEBU. | F11: 035-2023 | G11: CPS | H11: DIRECTA | I11: LIZARAZO GUERRERO JUAN SEBASTIAN | J11: 2.3.2.02.02.009.05 | K11: 44950 | L11: 33600000 | M11: 33600000 | N11: =980000+4200000 -> 5180000 | O11: https://community.secop.gov.co/Public/Tendering/OpportunityDetail/Index?noticeUID=CO1.NTC.3824914&isFromPublicArea=True&isModal=False | Q11: =Gastos_Febrero!$M$80*'% METAS CDE'!F5 -> 47256718 | W11: =SUMIF(Contratación!$A$2:$A$270,"183",Contratación!$L$2:$L$270) -> 43400000 | AC11: =SUMIF(Contratación!$A$2:$A$270,"183",Contratación!$M$2:$M$270) -> 43400000 | AI11: =SUMIF(Contratación!$A$2:$A$270,"183",Contratación!$N$2:$N$270) -> 2683333
A12: 180 | B12: Fortalecer a 5.000 empresas, emprendimientos y/o unidades productivas, a través de la implementación de un programa de incubación y aceleración de emprendimientos innovadores articulados con el ecosistema de emprendimiento, que caracterice las capacidades tecnológicas instaladas (duras y blandas) con enfoque diferencial. | C12: 2020680010157 | D12: FORTALECIMIENTO DEL COWORKING COMO ESTRATEGIA PARA EL EMPRENDIMIENTO, INNOVACIÓN, DINAMIZACIÓN Y ACELERACIÓN EMPRESARIAL EN EL MUNICIPIO DE BUCARAMANGA | E12: CD 23-00082, PRESTAR LOS SERVICIOS PROFESIONALES DE CARÁCTER TEMPORAL PARA BRINDAR APOYO A LA SUBDIRECCIÓN TÉCNICA EN LA GESTIÓN DE ESTRATEGIAS DIGITALES Y AUTOMATIZACIÓN DE MARKETING, DIRIGIDO A EMPRESARIOS Y EMPRENDEDORES DE BUCARAMANGA EN EL MARCO DE LA ESTRATEGIA AVANZA BGA -PROGRAMA COWORKING DEL IMEBU. CPS 071 DURACIÓN OCHO (08) MESES. | F12: 071-2023 | G12: CPS | H12: DIRECTA | I12: LOPEZ LOPEZ YULIET DAYANA | J12: 2.3.2.02.02.009.05 | K12: 44966 | L12: 33600000 | M12: 33600000 | N12: 3080000 | O12: https://community.secop.gov.co/Public/Tendering/OpportunityDetail/Index?noticeUID=CO1.NTC.3961646&isFromPublicArea=True&isModal=False | Q12: =Gastos_Febrero!$M$80*'% METAS CDE'!F6 -> 8.4953533e+08 | W12: =SUMIF(Contratación!$A$2:$A$270,"184",Contratación!$L$2:$L$270) -> 780203000 | AC12: =SUMIF(Contratación!$A$2:$A$270,"184",Contratación!$M$2:$M$270) -> 760778000 | AI12: =SUMIF(Contratación!$A$2:$A$270,"184",Contratación!$N$2:$N$270) -> 144393624
A13: 180 | B13: Fortalecer a 5.000 empresas, emprendimientos y/o unidades productivas, a través de la implementación de un programa de incubación y aceleración de emprendimientos innovadores articulados con el ecosistema de emprendimiento, que caracterice las capacidades tecnológicas instaladas (duras y blandas) con enfoque diferencial. | C13: 2020680010157 | D13: FORTALECIMIENTO DEL COWORKING COMO ESTRATEGIA PARA EL EMPRENDIMIENTO, INNOVACIÓN, DINAMIZACIÓN Y ACELERACIÓN EMPRESARIAL EN EL MUNICIPIO DE BUCARAMANGA | E13: CD 23-00093, PRESTAR LOS SERVICIOS PROFESIONALES DE CARÁCTER TEMPORAL, PARA BRINDAR APOYO Y SEGUIMIENTO, TÉCNICO, ADMINISTRATIVO, FINANCIERO Y COMERCIAL A EMPRENDEDORES Y EMPRESARIOS DE LA CIUDAD DE BUCARAMANGA, DE ACUERDO A LA ESTRATEGIA INCUBADORA DE EMPRENDIMIENTOS, EN EL MARCO DEL PROGRAMA MISIONAL COWORKING DEL IMEBU. CPS074, DURACIÓN CUATRO (04) MESES. | F13: 074-2023 | G13: CPS | H13: DIRECTA | I13: MUñOZ AYALA DIANA CONSTANZA | J13: 2.3.2.02.02.009.05 | K13: 44974 | L13: 14700000 | M13: 14700000 | N13: 1715000 | O13: https://community.secop.gov.co/Public/Tendering/OpportunityDetail/Index?noticeUID=CO1.NTC.4022369&isFromPublicArea=True&isModal=False | Q13: =Gastos_Febrero!$M$80*'% METAS CDE'!F7 -> 2.1428172e+08 | W13: =SUMIF(Contratación!$A$2:$A$270,"185",Contratación!$L$2:$L$270) -> 196793750 | AC13: =SUMIF(Contratación!$A$2:$A$270,"185",Contratación!$M$2:$M$270) -> 177368750 | AI13: =SUMIF(Contratación!$A$2:$A$270,"185",Contratación!$M$2:$N$270) -> 177368750
A14: 180 | B14: Fortalecer a 5.000 empresas, emprendimientos y/o unidades productivas, a través de la implementación de un programa de incubación y aceleración de emprendimientos innovadores articulados con el ecosistema de emprendimiento, que caracterice las capacidades tecnológicas instaladas (duras y blandas) con enfoque diferencial. | C14: 2020680010157 | D14: FORTALECIMIENTO DEL COWORKING COMO ESTRATEGIA PARA EL EMPRENDIMIENTO, INNOVACIÓN, DINAMIZACIÓN Y ACELERACIÓN EMPRESARIAL EN EL MUNICIPIO DE BUCARAMANGA | E14: CD 23-00095, PRESTAR LOS SERVICIOS PROFESIONALES DE CARÁCTER TEMPORAL, PARA BRINDAR APOYO Y SEGUIMIENTO TÉCNICO, ADMINISTRATIVO, FINANCIERO Y COMERCIAL A EMPRENDEDORES Y EMPRESARIOS DE LA CIUDAD DE BUCARAMANGA, DE ACUERDO A LA ESTRATEGIA INCUBADORA DE EMPRENDIMIENTOS, EN EL MARCO DEL PROGRAMA MISIONAL COWORKING DEL IMEBU. CPS 079, DURACIÓN CUATRO (04) MESES. | F14: 079-2023 | G14: CPS | H14: DIRECTA | I14: PARRA ARCHILA ENITH DURLEY | J14: 2.3.2.02.02.009.05 | K14: 44978 | L14: 14700000 | M14: 14700000 | N14: 1225000 | O14: https://community.secop.gov.co/Public/Tendering/OpportunityDetail/Index?noticeUID=CO1.NTC.4043084&isFromPublicArea=True&isModal=False | W14: 0 | AC14: 0 | AI14: 0
A15: 180 | B15: Fortalecer a 5.000 empresas, emprendimientos y/o unidades productivas, a través de la implementación de un programa de incubación y aceleración de emprendimientos innovadores articulados con el ecosistema de emprendimiento, que caracterice las capacidades tecnológicas instaladas (duras y blandas) con enfoque diferencial. | C15: 2020680010157 | D15: FORTALECIMIENTO DEL COWORKING COMO ESTRATEGIA PARA EL EMPRENDIMIENTO, INNOVACIÓN, DINAMIZACIÓN Y ACELERACIÓN EMPRESARIAL EN EL MUNICIPIO DE BUCARAMANGA | E15: PRESTAR LOS SERVICIOS PROFESIONALES DE CARÁCTER TEMPORAL PARA APOYAR LA GESTIÓN, RECEPCIÓN Y ENTREGA DE HERRAMIENTAS TECNOLÓGICAS, REQUERIDAS PARA EL PROCESO DE ACELERACIÓN EMPRESARIAL EN EL MARCO DEL PROGRAMA COWORKING DE LA ENTIDAD. | F15: 018-2023 | G15: CPS | H15: DIRECTA | I15: PEREZ ROMERO LUIS JULIAN | J15: 2.3.2.02.02.009.05 | K15: 44945 | L15: 40800000 | M15: 40800000 | N15: =1360000+5100000 -> 6460000 | O15: https://community.secop.gov.co/Public/Tendering/OpportunityDetail/Index?noticeUID=CO1.NTC.3789237&isFromPublicArea=True&isModal=False | W15: =SUMIF(Contratación!$A$2:$A$270,"186",Contratación!$L$2:$L$270) -> 111362500 | AC15: =SUMIF(Contratación!$A$2:$A$270,"186",Contratación!$M$2:$M$270) -> 111362500 | AI15: =SUMIF(Contratación!$A$2:$A$270,"186",Contratación!$N$2:$N$270) -> 8849999.5
A16: 180 | B16: Fortalecer a 5.000 empresas, emprendimientos y/o unidades productivas, a través de la implementación de un programa de incubación y aceleración de emprendimientos innovadores articulados con el ecosistema de emprendimiento, que caracterice las capacidades tecnológicas instaladas (duras y blandas) con enfoque diferencial. | C16: 2020680010157 | D16: FORTALECIMIENTO DEL COWORKING COMO ESTRATEGIA PARA EL EMPRENDIMIENTO, INNOVACIÓN, DINAMIZACIÓN Y ACELERACIÓN EMPRESARIAL EN EL MUNICIPIO DE BUCARAMANGA | E16: PRESTAR LOS SERVICIOS PROFESIONALES DE CARÁCTER TEMPORAL PARA COADYUVAR EN LA COORDINACIÓN, PUESTA EN MARCHA Y SEGUIMIENTO DE LAS ACCIONES REQUERIDAS BAJO LA ESTRATEGIA DE INCUBACIÓN EMPRESARIAL CREA BGA, EN EL MARCO DEL PROGRAMA COWORKING DEL IMEBU. | F16: 049-2023 | G16: CPS | H16: DIRECTA | I16: PITA BERMUDEZ LAURA NATHALIA | J16: 2.3.2.02.02.009.05 | K16: 44953 | L16: 40800000 | M16: 40800000 | N16: =680000+5100000 -> 5780000 | O16: https://community.secop.gov.co/Public/Tendering/OpportunityDetail/Index?noticeUID=CO1.NTC.3855639&isFromPublicArea=True&isModal=False | W16: =SUMIF(Contratación!$A$2:$A$270,"186",Contratación!$L$2:$L$270) -> 111362500 | AC16: =SUMIF(Contratación!$A$2:$A$270,"186",Contratación!$M$2:$M$270) -> 111362500 | AI16: =SUMIF(Contratación!$A$2:$A$270,"186",Contratación!$N$2:$N$270) -> 8849999.5
A17: 180 | B17: Fortalecer a 5.000 empresas, emprendimientos y/o unidades productivas, a través de la implementación de un programa de incubación y aceleración de emprendimientos innovadores articulados con el ecosistema de emprendimiento, que caracterice las capacidades tecnológicas instaladas (duras y blandas) con enfoque diferencial. | C17: 2020680010157 | D17: FORTALECIMIENTO DEL COWORKING COMO ESTRATEGIA PARA EL EMPRENDIMIENTO, INNOVACIÓN, DINAMIZACIÓN Y ACELERACIÓN EMPRESARIAL EN EL MUNICIPIO DE BUCARAMANGA | E17: PRESTAR LOS SERVICIOS PROFESIONALES DE CARÁCTER TEMPORAL PARA BRINDAR APOYO EN LA COORDINACIÓN DE PROYECTOS DE INNOVACIÓN SOCIAL, EN EL MARCO DEL PROGRAMA MISIONAL DE LA ENTIDAD COWORKING. | F17: 017-2023 | G17: CPS | H17: DIRECTA | I17: QUIÑONEZ SANTOS NUBIA MARCELA | J17: 2.3.2.02.02.009.05 | K17: 44944 | L17: 40800000 | M17: 40800000 | N17: =1360000+5100000 -> 6460000 | O17: https://community.secop.gov.co/Public/Tendering/OpportunityDetail/Index?noticeUID=CO1.NTC.3785554&isFromPublicArea=True&isModal=False | AI17: 0
A18: 180 | B18: Fortalecer a 5.000 empresas, emprendimientos y/o unidades productivas, a través de la implementación de un programa de incubación y aceleración de emprendimientos innovadores articulados con el ecosistema de emprendimiento, que caracterice las capacidades tecnológicas instaladas (duras y blandas) con enfoque diferencial. | C18: 2020680010157 | D18: FORTALECIMIENTO DEL COWORKING COMO ESTRATEGIA PARA EL EMPRENDIMIENTO, INNOVACIÓN, DINAMIZACIÓN Y ACELERACIÓN EMPRESARIAL EN EL MUNICIPIO DE BUCARAMANGA | E18: PRESTAR LOS SERVICIOS PROFESIONALES DE CARÁCTER TEMPORAL COMO DISEÑADOR GRÁFICO, PARA CONTRIBUIR EN EL DISEÑO DE PIEZAS GRÁFICAS QUE PERMITAN IMPULSAR Y FORTALECER LAS CAMPAÑAS CREATIVAS DE EMPRESARIOS Y EMPRENDEDORES DE LA CIUDAD DE BUCARAMANGA, EN EL MARCO DEL PROGRAMA COWORKING DEL IMEBU | F18: 057-2023 | G18: CPS | H18: DIRECTA | I18: RAMIREZ RONDON EDGAR MATEO | J18: 2.3.2.02.02.009.05 | K18: 44957 | L18: 33600000 | M18: 33600000 | N18: 4200000 | O18: https://community.secop.gov.co/Public/Tendering/OpportunityDetail/Index?noticeUID=CO1.NTC.3890345&isFromPublicArea=True&isModal=False | Q18: =Gastos_Febrero!$M$83/3 -> 79590000 | W18: =SUMIF(Contratación!$A$2:$A$270,"188",Contratación!$L$2:$L$270) -> 73203333 | AC18: =SUMIF(Contratación!$A$2:$A$270,"188",Contratación!$M$2:$M$270) -> 73203333 | AI18: =SUMIF(Contratación!$A$2:$A$270,"188",Contratación!$N$2:$N$270) -> 15956819
A19: 184 | B19: Formar a 7.000 emprendedores a través de un programa de formación teórica, empresarial y/o artesanal con enfoque diferencial para emprendimientos artísticos, culturales, creativos, negocios verdes, microempresarios y/o unidades productivas urbanas y rurales. | C19: 2020680010074 | D19: FORTALECIMIENTO DEL CENTRO DE DESARROLLO EMPRESARIAL Y DE EMPLEABILIDAD EN EL MUNICIPIO DE BUCARAMANGA | E19: PRESTAR LOS SERVICIOS PROFESIONALES DE CARACTER TEMPORAL PARA APOYAR A LOS MICRO, PEQUEÑOS Y MEDIANOS EMPRESARIOS Y/O EMPRENDEDORES EN LA GESTIÓN DE PROYECTOS QUE PERMITAN GENERAR ACCIONES Y ESTRATEGIAS QUE COADYUVEN A LA REACTIVACIÓN Y FORTALECIMIENTO DE NEGOCIOS NUEVOS Y EXISTENTES, CON EL FIN DE PROMOVER E IMPULSAR EL DESARROLLO ECONÓMICO DEL MUNICIPIO DE BUCARAMANGA, A TRAVÉS DEL CENTRO DE DESARROLLO EMPRESARIAL - CAFE MADRID. CPS-086-2023, DURACIÓN SIETE (07) MESES. | F19: CPS-086 | G19: CPS | H19: DIRECTA | I19: ACEVEDO FERREIRA VIVIANA | J19: 2.3.2.02.02.009.03 | K19: 44986 | L19: 13300000 | M19: 13300000 | Q19: =Gastos_Febrero!$M$83/3 -> 79590000 | W19: =SUMIF(Contratación!$A$2:$A$270,"189",Contratación!$L$2:$L$270) -> 73203333 | AC19: =SUMIF(Contratación!$A$2:$A$270,"188",Contratación!$M$2:$M$270) -> 73203333 | AI19: =SUMIF(Contratación!$A$2:$A$270,"188",Contratación!$N$2:$N$270) -> 15956819
A20: 185 | B20: Implementar en 4.000 mipymes planes estratégicos orientados a innovar y/o incorporación tecnológica en áreas empresariales estratégicas con apoyo de Universidades y actores económicos clave. | C20: 2020680010074 | D20: FORTALECIMIENTO DEL CENTRO DE DESARROLLO EMPRESARIAL Y DE EMPLEABILIDAD EN EL MUNICIPIO DE BUCARAMANGA | E20: PRESTAR LOS SERVICIOS PROFESIONALES DE CARACTER TEMPORAL PARA APOYAR A LOS MICRO, PEQUEÑOS Y MEDIANOS EMPRESARIOS Y/O EMPRENDEDORES EN LA GESTIÓN DE PROYECTOS QUE PERMITAN GENERAR ACCIONES Y ESTRATEGIAS QUE COADYUVEN A LA REACTIVACIÓN Y FORTALECIMIENTO DE NEGOCIOS NUEVOS Y EXISTENTES, CON EL FIN DE PROMOVER E IMPULSAR EL DESARROLLO ECONÓMICO DEL MUNICIPIO DE BUCARAMANGA, A TRAVÉS DEL CENTRO DE DESARROLLO EMPRESARIAL - CAFE MADRID. CPS-086-2023, DURACIÓN SIETE (07) MESES. | F20: CPS-086 | G20: CPS | H20: DIRECTA | I20: ACEVEDO FERREIRA VIVIANA | J20: 2.3.2.02.02.009.03 | K20: 44986 | L20: 13300000 | M20: 13300000 | AC20: =SUMIF(Contratación!$A$2:$A$270,"188",Contratación!$M$2:$M$270) -> 73203333 | AI20: =SUMIF(Contratación!$A$2:$A$270,"188",Contratación!$N$2:$N$270) -> 15956819
A21: 184 | B21: Formar a 7.000 emprendedores a través de un programa de formación teórica, empresarial y/o artesanal con enfoque diferencial para emprendimientos artísticos, culturales, creativos, negocios verdes, microempresarios y/o unidades productivas urbanas y rurales. | C21: 2020680010074 | D21: FORTALECIMIENTO DEL CENTRO DE DESARROLLO EMPRESARIAL Y DE EMPLEABILIDAD EN EL MUNICIPIO DE BUCARAMANGA | E21: PRESTAR LOS SERVICIOS PROFESIONALES DE CARÁCTER TEMPORAL PARA BRINDAR APOYO EN LA CREACIÓN DE ESPACIOS Y CONDICIONES ADECUADAS PARA LOS DIÁLOGOS CON LOS GRUPOS DE VALOR Y/O SECTORES PRIORIZADOS, CON EL FIN DE LOGRAR UNA PARTICIPACIÓN ACTIVA DE LA CIUDADANÍA, EN EL MARCO DE LA ESTRATEGIA COMUNITARIA PARA LA REACTIVACION ECONOMICA - SOMOS LOCALES DE LOS CENTROS DE DESARROLLO EMPRESARIAL CDE. | F21: 056-2023 | G21: CPS | H21: DIRECTA | I21: ALBERNIA DIAZ LUIS CARLOS | J21: 2.3.2.02.02.009.03 | K21: 44957 | L21: 26600000 | M21: 26600000 | N21: 3800000 | O21: https://community.secop.gov.co/Public/Tendering/OpportunityDetail/Index?noticeUID=CO1.NTC.3889932&isFromPublicArea=True&isModal=False | Q21: =Gastos_Febrero!$M$84 -> 541456051 | W21: =SUMIF(Contratación!$A$2:$A$270,"302",Contratación!$L$2:$L$270) -> 538083602 | AC21: =SUMIF(Contratación!$A$2:$A$270,"302",Contratación!$M$2:$M$270) -> 538083602 | AI21: =SUMIF(Contratación!$A$2:$A$270,"302",Contratación!$N$2:$N$270) -> 110296666
A22: 184 | B22: Formar a 7.000 emprendedores a través de un programa de formación teórica, empresarial y/o artesanal con enfoque diferencial para emprendimientos artísticos, culturales, creativos, negocios verdes, microempresarios y/o unidades productivas urbanas y rurales. | C22: 2020680010074 | D22: FORTALECIMIENTO DEL CENTRO DE DESARROLLO EMPRESARIAL Y DE EMPLEABILIDAD EN EL MUNICIPIO DE BUCARAMANGA | E22: PRESTAR LOS SERVICIOS PROFESIONALES DE CARACTER TEMPORAL PARA APOYAR A LOS MICRO, PEQUEÑOS Y MEDIANOS EMPRESARIOS Y/O EMPRENDEDORES EN LA GESTIÓN DE PROYECTOS QUE PERMITAN GENERAR ACCIONES Y ESTRATEGIAS QUE COADYUVEN A LA REACTIVACIÓN Y FORTALECIMIENTO DE NEGOCIOS NUEVOS Y EXISTENTES, CON EL FIN DE PROMOVER E IMPULSAR EL DESARROLLO ECONÓMICO DEL MUNICIPIO DE BUCARAMANGA, A TRAVÉS DEL CENTRO DE DESARROLLO EMPRESARIAL - KENNEDY. CPS-089-2023, DURACIÓN SIETE (07) MESES. | F22: CPS-089 | G22: CPS | H22: DIRECTA | I22: ALVAREZ LIZCANO KATHERIN LISSETH | J22: 2.3.2.02.02.009.03 | K22: 44987 | L22: 13300000 | M22: 13300000
A23: 185 | B23: Implementar en 4.000 mipymes planes estratégicos orientados a innovar y/o incorporación tecnológica en áreas empresariales estratégicas con apoyo de Universidades y actores económicos clave. | C23: 2020680010074 | D23: FORTALECIMIENTO DEL CENTRO DE DESARROLLO EMPRESARIAL Y DE EMPLEABILIDAD EN EL MUNICIPIO DE BUCARAMANGA | E23: PRESTAR LOS SERVICIOS PROFESIONALES DE CARACTER TEMPORAL PARA APOYAR A LOS MICRO, PEQUEÑOS Y MEDIANOS EMPRESARIOS Y/O EMPRENDEDORES EN LA GESTIÓN DE PROYECTOS QUE PERMITAN GENERAR ACCIONES Y ESTRATEGIAS QUE COADYUVEN A LA REACTIVACIÓN Y FORTALECIMIENTO DE NEGOCIOS NUEVOS Y EXISTENTES, CON EL FIN DE PROMOVER E IMPULSAR EL DESARROLLO ECONÓMICO DEL MUNICIPIO DE BUCARAMANGA, A TRAVÉS DEL CENTRO DE DESARROLLO EMPRESARIAL - KENNEDY. CPS-089-2023, DURACIÓN SIETE (07) MESES. | F23: CPS-089 | G23: CPS | H23: DIRECTA | I23: ALVAREZ LIZCANO KATHERIN LISSETH | J23: 2.3.2.02.02.009.03 | K23: 44987 | L23: 13300000 | M23: 13300000
A24: 184 | B24: Formar a 7.000 emprendedores a través de un programa de formación teórica, empresarial y/o artesanal con enfoque diferencial para emprendimientos artísticos, culturales, creativos, negocios verdes, microempresarios y/o unidades productivas urbanas y rurales. | C24: 2020680010074 | D24: FORTALECIMIENTO DEL CENTRO DE DESARROLLO EMPRESARIAL Y DE EMPLEABILIDAD EN EL MUNICIPIO DE BUCARAMANGA | E24: PRESTACIÓN DE SERVICIOS DE APOYO A LA GESTIÓN, PARA CONTRIBUIR EN LAS ACTIVIDADES LOGÍSTICAS, OPERATIVAS Y ASISTENCIALES QUE SE REQUIERAN EN LAS COMUNAS Y/O CORREGIMIENTOS DE BUCARAMANGA, DENTRO DE LA ESTRATEGIA DE REACTIVACIÓN ECONOMICA - SOMOS LOCALES DEL IMEBU. | F24: 062-2023 | G24: CPS | H24: DIRECTA | I24: ARDILA SANDOVAL JURITH DANIELA | J24: 2.3.2.02.02.009.03 | K24: 44957 | L24: 11025000 | M24: 11025000 | N24: 2756250 | O24: https://community.secop.gov.co/Public/Tendering/OpportunityDetail/Index?noticeUID=CO1.NTC.3892169&isFromPublicArea=True&isModal=False
A25: 184 | B25: Formar a 7.000 emprendedores a través de un programa de formación teórica, empresarial y/o artesanal con enfoque diferencial para emprendimientos artísticos, culturales, creativos, negocios verdes, microempresarios y/o unidades productivas urbanas y rurales. | C25: 2020680010074 | D25: FORTALECIMIENTO DEL CENTRO DE DESARROLLO EMPRESARIAL Y DE EMPLEABILIDAD EN EL MUNICIPIO DE BUCARAMANGA | E25: PRESTAR LOS SERVICIOS PROFESIONALES DE CARACTER TEMPORAL PARA APOYAR A LOS MICRO, PEQUEÑOS Y MEDIANOS EMPRESARIOS Y/O EMPRENDEDORES EN LA GESTIÓN DE PROYECTOS QUE PERMITAN GENERAR ACCIONES Y ESTRATEGIAS QUE COADYUVEN A LA REACTIVACIÓN Y FORTALECIMIENTO DE NEGOCIOS NUEVOS Y EXISTENTES, CON EL FIN DE PROMOVER E IMPULSAR EL DESARROLLO ECONÓMICO DEL MUNICIPIO DE BUCARAMANGA, A TRAVÉS DEL CENTRO DE DESARROLLO EMPRESARIAL - CHAPINERO. CPS-087-2023, DURACIÓN SIETE (07) MESES. | F25: CPS-087 | G25: CPS | H25: DIRECTA | I25: ARISTIDES HERNANDEZ VALENCIA | J25: 2.3.2.02.02.009.03 | K25: 44986 | L25: 13300000 | M25: 13300000
A26: 185 | B26: Implementar en 4.000 mipymes planes estratégicos orientados a innovar y/o incorporación tecnológica en áreas empresariales estratégicas con apoyo de Universidades y actores económicos clave. | C26: 2020680010074 | D26: FORTALECIMIENTO DEL CENTRO DE DESARROLLO EMPRESARIAL Y DE EMPLEABILIDAD EN EL MUNICIPIO DE BUCARAMANGA | E26: PRESTAR LOS SERVICIOS PROFESIONALES DE CARACTER TEMPORAL PARA APOYAR A LOS MICRO, PEQUEÑOS Y MEDIANOS EMPRESARIOS Y/O EMPRENDEDORES EN LA GESTIÓN DE PROYECTOS QUE PERMITAN GENERAR ACCIONES Y ESTRATEGIAS QUE COADYUVEN A LA REACTIVACIÓN Y FORTALECIMIENTO DE NEGOCIOS NUEVOS Y EXISTENTES, CON EL FIN DE PROMOVER E IMPULSAR EL DESARROLLO ECONÓMICO DEL MUNICIPIO DE BUCARAMANGA, A TRAVÉS DEL CENTRO DE DESARROLLO EMPRESARIAL - CHAPINERO. CPS-087-2023, DURACIÓN SIETE (07) MESES. | F26: CPS-087 | G26: CPS | H26: DIRECTA | I26: ARISTIDES HERNANDEZ VALENCIA | J26: 2.3.2.02.02.009.03 | K26: 44986 | L26: 13300000 | M26: 13300000
A27: 184 | B27: Formar a 7.000 emprendedores a través de un programa de formación teórica, empresarial y/o artesanal con enfoque diferencial para emprendimientos artísticos, culturales, creativos, negocios verdes, microempresarios y/o unidades productivas urbanas y rurales. | C27: 2020680010074 | D27: FORTALECIMIENTO DEL CENTRO DE DESARROLLO EMPRESARIAL Y DE EMPLEABILIDAD EN EL MUNICIPIO DE BUCARAMANGA | E27: PRESTAR LOS SERVICIOS PROFESIONALES DE CARACTER TEMPORAL PARA APOYAR A LOS MICRO, PEQUEÑOS Y MEDIANOS EMPRESARIOS Y/O EMPRENDEDORES, EN LA GESTION DE PROYECTOS QUE PERMITAN GENERAR ACCIONES Y ESTRATEGIAS QUE COADYUVEN A LA REACTIVACION Y FORTALECIMIENTO DE NEGOCIOS NUEVOS Y EXISTENTES, CON EL FIN DE PROMOVER E IMPULSAR EL DESARROLLO ECONOMICO DEL MUNICIPIO DE BUCARAMANGA, A TRAVES DEL CENTRO DE DESARROLLO EMPRESARIAL - CAFÉ MADRID. CPS-097-2023, DURACIÓN SIETE (07) MESES. | F27: CPS-097-2023 | G27: CPS | H27: DIRECTA | I27: ASCENCIO PIMIENTO ANGELICA MARIA | J27: 2.3.2.02.02.009.03 | K27: 45007 | L27: 13300000 | M27: 13300000
A28: 185 | B28: Implementar en 4.000 mipymes planes estratégicos orientados a innovar y/o incorporación tecnológica en áreas empresariales estratégicas con apoyo de Universidades y actores económicos clave. | C28: 2020680010074 | D28: FORTALECIMIENTO DEL CENTRO DE DESARROLLO EMPRESARIAL Y DE EMPLEABILIDAD EN EL MUNICIPIO DE BUCARAMANGA | E28: PRESTAR LOS SERVICIOS PROFESIONALES DE CARACTER TEMPORAL PARA APOYAR A LOS MICRO, PEQUEÑOS Y MEDIANOS EMPRESARIOS Y/O EMPRENDEDORES, EN LA GESTION DE PROYECTOS QUE PERMITAN GENERAR ACCIONES Y ESTRATEGIAS QUE COADYUVEN A LA REACTIVACION Y FORTALECIMIENTO DE NEGOCIOS NUEVOS Y EXISTENTES, CON EL FIN DE PROMOVER E IMPULSAR EL DESARROLLO ECONOMICO DEL MUNICIPIO DE BUCARAMANGA, A TRAVES DEL CENTRO DE DESARROLLO EMPRESARIAL - CAFÉ MADRID. CPS-097-2023, DURACIÓN SIETE (07) MESES. | F28: CPS-097-2023 | G28: CPS | H28: DIRECTA | I28: ASCENCIO PIMIENTO ANGELICA MARIA | J28: 2.3.2.02.02.009.03 | K28: 45007 | L28: 13300000 | M28: 13300000
A29: 184 | B29: Formar a 7.000 emprendedores a través de un programa de formación teórica, empresarial y/o artesanal con enfoque diferencial para emprendimientos artísticos, culturales, creativos, negocios verdes, microempresarios y/o unidades productivas urbanas y rurales. | C29: 2020680010074 | D29: FORTALECIMIENTO DEL CENTRO DE DESARROLLO EMPRESARIAL Y DE EMPLEABILIDAD EN EL MUNICIPIO DE BUCARAMANGA | E29: PRESTACIÓN DE SERVICIOS DE APOYO A LA GESTIÓN, PARA CONTRIBUIR EN LAS ACTIVIDADES LOGÍSTICAS, OPERATIVAS Y ASISTENCIALES QUE SE REQUIERAN EN LAS COMUNAS Y/O CORREGIMIENTOS DE BUCARAMANGA, DENTRO DE LA ESTRATEGIA DE REACTIVACIÓN ECONÓMICA -SOMOS LOCALES DEL IMEBU. | F29: 075-2023 | G29: CPS | H29: DIRECTA | I29: BAUTISTA GALLO CLAUDIA MILENA | J29: 2.3.2.02.02.009.03 | K29: 44978 | L29: 11025000 | M29: 11025000 | N29: 918750 | O29: https://community.secop.gov.co/Public/Tendering/OpportunityDetail/Index?noticeUID=CO1.NTC.4041724&isFromPublicArea=True&isModal=False
A30: 182 | B30: Implementar 1 programa de desarrollo empresarial y de empleabilidad para las micro y pequeñas empresas (incluyendo unidades productivas). | C30: 2020680010074 | D30: FORTALECIMIENTO DEL CENTRO DE DESARROLLO EMPRESARIAL Y DE EMPLEABILIDAD EN EL MUNICIPIO DE BUCARAMANGA | E30: AUNAR ESFUERZOS TÉCNICOS, ADMINISTRATIVOS, OPERATIVOS Y ECONÓMICOS PARA COORDINAR ADMINISTRATIVAMENTE EL CENTRO DE DESARROLLO EMPRESARIAL Y EMPLEABILIDAD - CDE, UBICADO EN EL BARRIO CAFÉ MADRID Y PRESTAR EL ACOMPAÑAMIENTO EN LAS RUTAS DE EMPRENDIMIENTO Y DESARROLLO EMPRESARIAL DE TRES CDE A PARTIR DE LO SEÑALADO EN EL MODELO DE OPERACIÓN VIGENTE EN LA CIUDAD DE BUCARAMANGA | F30: 002-2023 | G30: CA | H30: DIRECTA | I30: CAMARA DE COMERCIO DE BUCARAMANGA | J30: 2.3.2.02.02.009.03 | K30: 44974 | L30: 79005242 | M30: 79005242 | N30: 0 | O30: https://community.secop.gov.co/Public/Tendering/OpportunityDetail/Index?noticeUID=CO1.NTC.4042930&isFromPublicArea=True&isModal=False
A31: 182 | B31: Implementar 1 programa de desarrollo empresarial y de empleabilidad para las micro y pequeñas empresas (incluyendo unidades productivas). | C31: 2020680010074 | D31: FORTALECIMIENTO DEL CENTRO DE DESARROLLO EMPRESARIAL Y DE EMPLEABILIDAD EN EL MUNICIPIO DE BUCARAMANGA | E31: ENTREGAR A TITULO DE ARRENDAMIENTO A FAVOR DEL INSTITUTO MUNICIPAL DE EMPLEO Y FOMENTO EMPRESARIAL DEL MUNICIPIO DE BUCARAMANGA -IMEBU, EL BIEN INMUEBLE UBICADO EN LA CARRERA 15 No. 2-71, PARA EL FUNCIONAMIENTO DEL CENTRO DE DESARROLLO EMPRESARIAL Y DE EMPLEABILIDAD -CDE SEDE CHAPINERO. CA CD-003 DE 2023. | F31: ARRENDAMIENTO | G31: ARRENDAMIENTO | H31: DIRECTA | I31: CAMARGO GUTIERREZ FLOR HELENA | J31: 2.3.2.02.02.007.02 | K31: 44980 | L31: 68750000 | M31: 68750000 | N31: 0 | O31: https://community.secop.gov.co/Public/Tendering/OpportunityDetail/Index?noticeUID=CO1.NTC.4061054&isFromPublicArea=True&isModal=False
