Workbook

Sheet PA 2022
B1: PLAN DE ACCIÓN - PLAN DE DESARROLLO MUNICIPAL INSTITUTO MUNICIPAL DE EMPLEO Y FOMENTO EMPRESARIAL DE BUCARAMANGA - IMEBU | AC1: Código: F-DPM-1210-238,37-030
AC2: Versión: 1.0
AC3: Fecha aprobación: Marzo-24-2021
AC4: Página: 1 de 1
A5: FECHA DE SUSCRIPCIÓN: | D5: 44595
A6: FECHA DE CORTE: | D6: 44865
B7: PDM 2020-2023 | G7: PROYECTOS DE INVERSIÓN | L7: CUMPLIMIENTO DE META | O7: RECURSOS PROGRAMADOS | V7: RECURSOS EJECUTADOS | AB7: EJECUCIÓN PPTAL | AC7: RECURSOS GESTIONADOS | AD7: RESPONSABLES
A8: No. | B8: Línea estratégica | C8: Componente | D8: Programa | E8: Meta PDM | F8: Indicador de producto | G8: Código BPIN | H8: Nombre del Proyecto | I8: Actividades | J8: Fecha inicio | K8: Fecha de terminación | L8: Meta programada | M8: Meta ejecutada | N8: AVANCE | O8: Rubro | P8: RECURSOS PROPIOS MUNICIPIO | Q8: SGP | R8: SGR | S8: RECURSOS PROPIOS INSTITUTOS | T8: OTROS | U8: TOTAL PROGRAMADO | V8: RECURSOS PROPIOS MUNICIPIO | W8: SGP | X8: SGR | Y8: RECURSOS PROPIOS INSTITUTOS | Z8: OTROS | AA8: TOTAL EJECUTADO | AD8: Dependencia | AE8: Responsable
A9: 180 | B9: BUCARAMANGA PRODUCTIVA Y COMPETITIVA: EMPRESAS INNOVADORAS, RESPONSABLES Y CONSCIENTES | C9: Emprendimiento, Innovación, Formalización Y Dinamización Empresarial | D9: Emprendimiento E Innovación | E9: Fortalecer a 5.000 empresas, emprendimientos y/o unidades productivas, a través de la implementación de un programa de incubación y aceleración de emprendimientos innovadores articulados con el ecosistema de emprendimiento, que caracterice las capacidades tecnológicas instaladas (duras y blandas) con enfoque diferencial. | F9: Número de empresas, emprendimientos y/o unidades productivas fortalecidas a través de la implementación de un programa de incubación y aceleración de emprendimientos innovadores articulados con el ecosistema de emprendimiento, que caracterice las capacidades tecnológicas instaladas (duras y blandas) con enfoque diferencial. | G9: 2020680010157 | H9: FORTALECIMIENTO DEL COWORKING COMO ESTRATEGIA PARA EL EMPRENDIMIENTO, INNOVACIÓN, DINAMIZACIÓN Y ACELERACIÓN EMPRESARIAL EN EL MUNICIPIO DE BUCARAMANGA | I9: Asesorar técnicamente a emprendedores y/o empresarios en etapa de aceleración en programas de formación empresarial. Realizar adecuaciones en espacio para prestación de servicios de consultoria a emprendedores y/o empresarios en etapa de aceleración y Coworking. | J9: 44566 | K9: 44926 | L9: 800 | M9: =+SUM('Resultado por Estrategias '!C3:C8) -> 1146 | N9: =IF(M9/L9>100%,100%,M9/L9) -> 1 | O9: 2.3.2.02.02.007 2.3.2.02.02.009 | P9: =+Gastos_Octubre!M78 -> 1073333488 | U9: =+SUM(P9:T9) -> 1073333488 | V9: =+Gastos_Octubre!U78 -> 928600172 | AA9: =SUM(V9:Z9) -> 928600172 | AB9: =IFERROR(AA9/U9,"-") -> 0.86515532 | AC9: =+'Recursos Gestionados'!G2+'Recursos Gestionados'!G3 -> 367129521 | AD9: IMEBU | AE9: Luis Gonzalo Gómez Guerrero
A10: 182 | B10: BUCARAMANGA PRODUCTIVA Y COMPETITIVA: EMPRESAS INNOVADORAS, RESPONSABLES Y CONSCIENTES | C10: Emprendimiento, Innovación, Formalización Y Dinamización Empresarial | D10: Centros De Desarrollo Empresarial | E10: Implementar 1 programa de desarrollo empresarial y de empleabilidad para las micro y pequeñas empresas (incluyendo unidades productivas). | F10: Número de programas de desarrollo empresariales y de empleabilidad implementados para las micro y pequeñas empresas (incluyendo unidades productivas). | G10: 2020680010074 | H10: FORTALECIMIENTO DEL CENTRO DE DESARROLLO EMPRESARIAL Y DE EMPLEABILIDAD EN EL MUNICIPIO DE BUCARAMANGA | I10: Asesorar a emprendedores y empresarios en programas de formación empresarial (Modelo de Negocios y diseño Planes de Mejora). Implementar Estrategia comunitaria para el emprendimiento y el desarrollo empresarial. Formulación de la estrategia de reactivación y sostenimiento de la economía. Brindar acompañamiento a los proyectos productivos de la población victima. | J10: 44566 | K10: 44926 | L10: 1 | M10: 1 | N10: =IF(M10/L10>100%,100%,M10/L10) -> 1 | O10: 2.3.2.02.02.006 2.3.2.02.02.007 2.3.2.02.02.009 | P10: =+'Calculos CDE'!E4 -> 707809454 | U10: =+SUM(P10:T10) -> 707809454 | V10: =+'Calculos CDE'!E4 -> 707809454 | AA10: =SUM(V10:Z10) -> 707809454 | AB10: =IFERROR(AA10/U10,"-") -> 1 | AC10: =+'Recursos Gestionados'!G4+'Recursos Gestionados'!G5 -> 306281194 | AD10: IMEBU | AE10: Luis Gonzalo Gómez Guerrero
A11: 183 | B11: BUCARAMANGA PRODUCTIVA Y COMPETITIVA: EMPRESAS INNOVADORAS, RESPONSABLES Y CONSCIENTES | C11: Emprendimiento, Innovación, Formalización Y Dinamización Empresarial | D11: Centros De Desarrollo Empresarial | E11: Desarrollar el modelo CDE virtual para que amplíen la cobertura en la ciudad. | F11: Porcentaje de avance en el desarrollo del modelo CDE virtual para que amplíen la cobertura en la ciudad. | G11: 2020680010074 | H11: FORTALECIMIENTO DEL CENTRO DE DESARROLLO EMPRESARIAL Y DE EMPLEABILIDAD EN EL MUNICIPIO DE BUCARAMANGA | I11: Asesorar a emprendedores y empresarios en programas de formación empresarial (Modelo de Negocios y diseño Planes de Mejora). Implementar Estrategia comunitaria para el emprendimiento y el desarrollo empresarial. Formulación de la estrategia de reactivació | J11: 44566 | K11: 44926 | L11: 0.35 | M11: ='Resultado por Estrategias '!C16 -> 1 | N11: =IF(M11/L11>100%,100%,M11/L11) -> 1 | O11: 2.3.2.02.02.006 2.3.2.02.02.007 2.3.2.02.02.009 | P11: =+'Calculos CDE'!E8 -> 377766666 | U11: =+SUM(P11:T11) -> 377766666 | V11: =+'Calculos CDE'!E8 -> 377766666 | AA11: =SUM(V11:Z11) -> 377766666 | AB11: =IFERROR(AA11/U11,"-") -> 1 | AD11: IMEBU | AE11: Luis Gonzalo Gómez Guerrero
A12: 184 | B12: BUCARAMANGA PRODUCTIVA Y COMPETITIVA: EMPRESAS INNOVADORAS, RESPONSABLES Y CONSCIENTES | C12: Emprendimiento, Innovación, Formalización Y Dinamización Empresarial | D12: Centros De Desarrollo Empresarial | E12: Formar a 7.000 emprendedores a través de un programa de formación teórica, empresarial y/o artesanal con enfoque diferencial para emprendimientos artísticos, culturales, creativos, negocios verdes, microempresarios y/o unidades productivas urbanas y rurales. | F12: Número de emprendedores formados a través de un programa de formación teórica, empresarial y/o artesanal con enfoque diferencial para emprendimientos artísticos, culturales, creativos, negocios verdes, microempresarios y/o unidades productivas urbanas y rurales. | G12: 2020680010074 | H12: FORTALECIMIENTO DEL CENTRO DE DESARROLLO EMPRESARIAL Y DE EMPLEABILIDAD EN EL MUNICIPIO DE BUCARAMANGA | I12: Asesorar a emprendedores y empresarios en programas de formación empresarial (Modelo de Negocios y diseño Planes de Mejora). Implementar Estrategia comunitaria para el emprendimiento y el desarrollo empresarial. Formulación de la estrategia de reactivació | J12: 44566 | K12: 44926 | L12: 2000 | M12: =+SUM('Resultado por Estrategias '!C9:C14) -> 6091 | N12: =IF(M12/L12>100%,100%,M12/L12) -> 1 | O12: 2.3.2.02.02.006 2.3.2.02.02.007 2.3.2.02.02.009 | P12: =(+Gastos_Octubre!M76-P10-P11)/2 -> 754983130 | U12: =+SUM(P12:T12) -> 754983130 | V12: =+'Calculos CDE'!E25 -> 4.6375088e+08 | AA12: =SUM(V12:Z12) -> 4.6375088e+08 | AB12: =IFERROR(AA12/U12,"-") -> 0.61425331 | AD12: IMEBU | AE12: Luis Gonzalo Gómez Guerrero
A13: 185 | B13: BUCARAMANGA PRODUCTIVA Y COMPETITIVA: EMPRESAS INNOVADORAS, RESPONSABLES Y CONSCIENTES | C13: Emprendimiento, Innovación, Formalización Y Dinamización Empresarial | D13: Centros De Desarrollo Empresarial | E13: Implementar en 4.000 mipymes planes estratégicos orientados a innovar y/o incorporación tecnológica en áreas empresariales estratégicas con apoyo de Universidades y actores económicos clave. | F13: Número de mipymes con planes estratégicos implementados orientados a innovar y/o incorporación tecnológica en áreas empresariales estratégicas con apoyo de Universidades y actores económicos clave. | G13: 2020680010074 | H13: FORTALECIMIENTO DEL CENTRO DE DESARROLLO EMPRESARIAL Y DE EMPLEABILIDAD EN EL MUNICIPIO DE BUCARAMANGA | I13: Identificar habilidades y destrezas de emprendedores, empresarios y ciudadanos para orientarlos hacia el emprendimiento o la empleabilidad. | J13: 44566 | K13: 44926 | L13: 800 | M13: =+'Resultado por Estrategias '!C15 -> 753 | N13: =IF(M13/L13>100%,100%,M13/L13) -> 0.94125 | O13: 2.3.2.02.02.006 2.3.2.02.02.007 2.3.2.02.02.009 | P13: =(+Gastos_Octubre!M76-P10-P11)/2 -> 754983130 | U13: =+SUM(P13:T13) -> 754983130 | V13: =+'Calculos CDE'!E28 -> 4.6375088e+08 | AA13: =SUM(V13:Z13) -> 4.6375088e+08 | AB13: =IFERROR(AA13/U13,"-") -> 0.61425331 | AD13: IMEBU | AE13: Luis Gonzalo Gómez Guerrero
A14: 186 | B14: BUCARAMANGA PRODUCTIVA Y COMPETITIVA: EMPRESAS INNOVADORAS, RESPONSABLES Y CONSCIENTES | C14: Emprendimiento, Innovación, Formalización Y Dinamización Empresarial | D14: Banca Ciudadana | E14: Intervenir a 4.000 empresas y/o emprendimientos mediante apalancamiento financiero orientado a realizar inversión en innovación y/o tecnología en la zona rural y urbana con enfoque diferencial. | F14: Número de empresas y/o emprendimientos intervenidos mediante apalancamiento financiero orientado a realizar inversión en innovación y/o tecnología en la zona rural y urbana con enfoque diferencial. | G14: 2020680010084 | H14: APOYO DEL FONDO DE FOMENTO Y CRÉDITO DE APOYO DEL IMEBU, PROGRAMA BANCA CIUDADANA EN EL MUNICIPIO DE BUCARAMANGA | I14: Otorgar créditos para el emprendimiento y/o fortalecimiento financiero de empresas orientados a capital de trabajo, nómina y/o activos fijos. Realizar acompañamiento técnico y visitas pos crédito a los emprendimientos y/o empresas apoyadas. | J14: 44566 | K14: 44926 | L14: 300 | M14: =+'Resultado por Estrategias '!C18 -> 1671 | N14: =IF(M14/L14>100%,100%,M14/L14) -> 1 | O14: 2.3.2.02.02.009 | P14: =+Gastos_Octubre!M77/2 -> 550000000 | U14: =+SUM(P14:T14) -> 550000000 | V14: =Gastos_Octubre!U77/2 -> 63771666 | AA14: =SUM(V14:Z14) -> 63771666 | AB14: =IFERROR(AA14/U14,"-") -> 0.11594848 | AD14: IMEBU | AE14: Luis Gonzalo Gómez Guerrero
A15: 187 | B15: BUCARAMANGA PRODUCTIVA Y COMPETITIVA: EMPRESAS INNOVADORAS, RESPONSABLES Y CONSCIENTES | C15: Emprendimiento, Innovación, Formalización Y Dinamización Empresarial | D15: Banca Ciudadana | E15: Otorgar 6.000 créditos a emprendimientos y mipymes de orientados a capital de trabajo o destinos de inversión diferente a innovación y/o tecnología en zonas urbanas y rurales. | F15: Número de créditos otorgados a emprendimientos y mipymes de orientados a capital de trabajo o destinos de inversión diferente a innovación y/o tecnología en zonas urbanas y rurales. | G15: 2020680010084 | H15: APOYO DEL FONDO DE FOMENTO Y CRÉDITO DE APOYO DEL IMEBU, PROGRAMA BANCA CIUDADANA EN EL MUNICIPIO DE BUCARAMANGA | I15: Otorgar créditos para el emprendimiento y/o fortalecimiento financiero de empresas orientadas a la innovación y/o incorporación de tecnología. | J15: 44566 | K15: 44926 | L15: 1200 | M15: =+'Resultado por Estrategias '!C19 -> 1279 | N15: =IF(M15/L15>100%,100%,M15/L15) -> 1 | O15: 2.3.2.02.02.009 | P15: =+Gastos_Octubre!M77/2 -> 550000000 | U15: =+SUM(P15:T15) -> 550000000 | V15: =Gastos_Octubre!U77/2 -> 63771666 | AA15: =SUM(V15:Z15) -> 63771666 | AB15: =IFERROR(AA15/U15,"-") -> 0.11594848 | AD15: IMEBU | AE15: Luis Gonzalo Gómez Guerrero
A16: 188 | B16: BUCARAMANGA PRODUCTIVA Y COMPETITIVA: EMPRESAS INNOVADORAS, RESPONSABLES Y CONSCIENTES | C16: Empleabilidad, Empleo Y Trabajo Decente | D16: Empleo Y Empleabilidad | E16: Registrar 5.000 hojas de vida para facilitar el proceso de inserción en el mercado laboral identificando habilidades, destrezas y que competencias para el trabajo. | F16: Número de hojas de vida registradas para facilitar el proceso de inserción en el mercado laboral identificando habilidades, destrezas y que competencias para el trabajo. | G16: 2020680010061 | H16: FORTALECIMIENTO DE LA OFICINA DE FOMENTO A LA EMPLEABILIDAD, EL EMPLEO Y EL TRABAJO DECENTE EN EL MUNICIPIO DE BUCARAMANGA | I16: Brindar formación en competencias personales y/o técnicas para el trabajo Realizar intermediación laboral entre oferentes de trabajo y buscadores de empleo. Ofrecer acompañamiento a las empresas en la estructuración y selección de perfiles adecuados a sus requerimientos. Formular la política pública de empleo y trabajo decente de la ciudad. | J16: 44566 | K16: 44926 | L16: 1300 | M16: =+'Resultado por Estrategias '!C20 -> 5600 | N16: =IF(M16/L16>100%,100%,M16/L16) -> 1 | O16: 2.3.2.02.02.009 | P16: =+Gastos_Octubre!M79/3 -> 2.7437778e+08 | U16: =SUM(P16:T16) -> 2.7437778e+08 | V16: =Gastos_Octubre!U79/3 -> 268895403 | AA16: =SUM(V16:Z16) -> 268895403 | AB16: =IFERROR(AA16/U16,"-") -> 0.98001889 | AD16: IMEBU | AE16: Luis Gonzalo Gómez Guerrero
A17: 189 | B17: BUCARAMANGA PRODUCTIVA Y COMPETITIVA: EMPRESAS INNOVADORAS, RESPONSABLES Y CONSCIENTES | C17: Empleabilidad, Empleo Y Trabajo Decente | D17: Empleo Y Empleabilidad | E17: Formar 3.000 jóvenes y adultos en competencias personales y/o técnicas para el trabajo con el fin de facilitar su inserción en el mercado laboral. | F17: Número de jóvenes y adultos formados en competencias personales y/o técnicas para el trabajo con el fin de facilitar su inserción en el mercado laboral. | G17: 2020680010061 | H17: FORTALECIMIENTO DE LA OFICINA DE FOMENTO A LA EMPLEABILIDAD, EL EMPLEO Y EL TRABAJO DECENTE EN EL MUNICIPIO DE BUCARAMANGA | I17: Brindar formación en competencias personales y/o técnicas para el trabajo Realizar intermediación laboral entre oferentes de trabajo y buscadores de empleo. Ofrecer acompañamiento a las empresas en la estructuración y selección de perfiles adecuados a sus requerimientos. Formular la política pública de empleo y trabajo decente de la ciudad. | J17: 44566 | K17: 44926 | L17: 800 | M17: =+'Resultado por Estrategias '!C21 -> 3032 | N17: =IF(M17/L17>100%,100%,M17/L17) -> 1 | O17: 2.3.2.02.02.009 | P17: =+Gastos_Octubre!M79/3 -> 2.7437778e+08 | U17: =SUM(P17:T17) -> 2.7437778e+08 | V17: =Gastos_Octubre!U79/3 -> 268895403 | AA17: =SUM(V17:Z17) -> 268895403 | AB17: =IFERROR(AA17/U17,"-") -> 0.98001889 | AD17: IMEBU | AE17: Luis Gonzalo Gómez Guerrero
A18: 190 | B18: BUCARAMANGA PRODUCTIVA Y COMPETITIVA: EMPRESAS INNOVADORAS, RESPONSABLES Y CONSCIENTES | C18: Empleabilidad, Empleo Y Trabajo Decente | D18: Empleo Y Empleabilidad | E18: Acompañar a 1.500 empresas en el fomento de una cultura del empleo y trabajo decente para capturar vacantes que permitan realizar la intermediación laboral. | F18: Número de empresas acompañadas en el fomento de una cultura del empleo y trabajo decente para capturar vacantes que permitan realizar la intermediación laboral. | G18: 2020680010061 | H18: FORTALECIMIENTO DE LA OFICINA DE FOMENTO A LA EMPLEABILIDAD, EL EMPLEO Y EL TRABAJO DECENTE EN EL MUNICIPIO DE BUCARAMANGA | I18: Brindar formación en competencias personales y/o técnicas para el trabajo Realizar intermediación laboral entre oferentes de trabajo y buscadores de empleo. Ofrecer acompañamiento a las empresas en la estructuración y selección de perfiles adecuados a sus requerimientos. Formular la política pública de empleo y trabajo decente de la ciudad. | J18: 44566 | K18: 44926 | L18: 390 | M18: =+'Resultado por Estrategias '!C22 -> 805 | N18: =IF(M18/L18>100%,100%,M18/L18) -> 1 | O18: 2.3.2.02.02.009 | P18: =+Gastos_Octubre!M79/3 -> 2.7437778e+08 | U18: =SUM(P18:T18) -> 2.7437778e+08 | V18: =Gastos_Octubre!U79/3 -> 268895403 | AA18: =SUM(V18:Z18) -> 268895403 | AB18: =IFERROR(AA18/U18,"-") -> 0.98001889 | AD18: IMEBU | AE18: Luis Gonzalo Gómez Guerrero
A19: 302 | B19: BUCARAMANGA TERRITORIO LIBRE DE CORRUPCIÓN: INSTITUCIONES SÓLIDAS Y CONFIABLES | C19: Administración Pública Moderna E Innovadora | D19: Gobierno Fortalecido Para Ser Y Hacer | E19: Mantener en funcionamiento el 100% de los programas del Instituto Municipal del Empleo. | F19: Porcentaje de los programas de Instituto Municipal del Empleo mantenidos en funcionamiento. | G19: 2021680010176 | H19: FORTALECIMIENTO DE LOS PROCESOS DEL INSTITUTO MUNICIPAL DE EMPLEO Y FOMENTO EMPRESARIAL DEL MUNICIPIO DE BUCARAMANGA | I19: Apoyar los procesos administrativos, juridicos y de control interno del IMEBU. Realizar acompañamiento, seguimiento y control de los programas y proyectos misionales del IMEBU. | J19: 44566 | K19: 44926 | L19: 1 | M19: 1 | N19: =IF(M19/L19>100%,100%,M19/L19) -> 1 | O19: 2.3.2.02.02.009 | P19: =+Gastos_Octubre!M80 -> 8.22455e+08 | U19: =SUM(P19:T19) -> 8.22455e+08 | V19: =Gastos_Octubre!U80 -> 781171665 | AA19: =SUM(V19:Z19) -> 781171665 | AB19: =IFERROR(AA19/U19,"-") -> 0.94980475 | AD19: IMEBU | AE19: Luis Gonzalo Gómez Guerrero
A20: =SUM(--(FREQUENCY(A9:A19,A9:A19)>0)) -> 11 | M20: TOTALES | N20: =IFERROR(AVERAGE(N9:N19),"-") -> 0.99465909 | Q20: =SUM(Q9:Q19) -> 0 | R20: =SUM(R9:R19) -> 0 | S20: =SUM(S9:S19) -> 0 | T20: =SUM(T9:T19) -> 0 | U20: =SUM(U9:U19) -> 6.4144642e+09 | V20: =SUM(V9:V19) -> 4657079268 | W20: =SUM(W9:W19) -> 0 | X20: =SUM(X9:X19) -> 0 | ... AA20: =SUM(AA9:AA19) -> 4657079268 | AB20: =IFERROR(AA20/U20,"-") -> 0.72602779 | AC20: =SUM(AC9:AC19) -> 673410715

Sheet Gastos_Abril
A1: INSTITUTO MUNICIPAL DE EMPLEO Y FOMENTO EMPRESARIAL - IMEBU
A2: NIT: 00804014968 - 1
A3: EJECUCION PRESUPUESTAL DE GASTOS
A4: Periodo comprendido entre 01-01-2022 y 30-04-2022
A5: Fecha de Impresión: 04.05.2022 Hora: 10:04:am
A6: Impreso por: GUSTAVO - GUSTAVO RAMIREZ BONELLS | P6: CDP | U6: RP | Z6: PAGOS
A7: Codigo de Control | B7: Rubro Presupuestal | C7: Unidad Ejecutora | D7: Descripción | E7: Fuente | F7: Presupuesto Inicial | G7: Adiciones | H7: Aplazamientos | I7: Desaplazamiento | J7: Reducciones | K7: Créditos | L7: Contracréditos | M7: Presupuesto Definitivo | N7: Cdps Mes Anterior | O7: Cdps Mes Actual | P7: Total Ejecutado Segun Cdps | Q7: Cdps Vigencia Futura | R7: Saldo por Ejecutar | S7: Compromisos Mes Anterior | T7: Total Compromisos mes Actual | U7: Total Compromisos | V7: Saldo por Comprometer | W7: Total Obligaciones | X7: Pagos Mes Anterior | Y7: Total Pagos Periodo | Z7: Total Pagos | AA7: Saldo por Pagar
B8: 2 | C8: IMEB | D8: Gastos | F8: 5040000000 | G8: 0 | H8: 0 | I8: 0 | J8: 0 | K8: 262956147 | L8: 262956147 | M8: 5040000000 | N8: 0 | O8: 3172296992 | P8: 3172296992 | Q8: 0 | R8: 1867703008 | S8: 0 | T8: 3102701578 | U8: 3102701578 | V8: 1937298422 | W8: 1281993723 | X8: 0 | Y8: 1249419323 | Z8: 1249419323 | AA8: 1853282255
B9: 2.1 | C9: IMEB | D9: Funcionamiento | F9: 2332862428 | G9: 0 | H9: 0 | I9: 0 | J9: 0 | K9: 82943000 | L9: 82943000 | M9: 2332862428 | N9: 0 | O9: 915853792 | P9: 915853792 | Q9: 0 | R9: 1417008636 | S9: 0 | T9: 894258378 | U9: 894258378 | V9: 1438604050 | W9: 535448158 | X9: 0 | Y9: 514773758 | Z9: 514773758 | AA9: 379484620
B10: 2.1.1 | C10: IMEB | D10: Gastos de personal | F10: 1388561517 | G10: 0 | H10: 0 | I10: 0 | J10: 0 | K10: 36006000 | L10: 0 | M10: 1424567517 | N10: 0 | O10: 354552025 | P10: 354552025 | Q10: 0 | R10: 1070015492 | S10: 0 | T10: 354552025 | U10: 354552025 | V10: 1070015492 | W10: 354438945 | X10: 0 | Y10: 334452745 | Z10: 334452745 | AA10: 20099280
B11: 2.1.1.01 | C11: IMEB | D11: Planta de personal permanente | F11: 1388561517 | G11: 0 | H11: 0 | I11: 0 | J11: 0 | K11: 36006000 | L11: 0 | M11: 1424567517 | N11: 0 | O11: 354552025 | P11: 354552025 | Q11: 0 | R11: 1070015492 | S11: 0 | T11: 354552025 | U11: 354552025 | V11: 1070015492 | W11: 354438945 | X11: 0 | Y11: 334452745 | Z11: 334452745 | AA11: 20099280
B12: 2.1.1.01.01 | C12: IMEB | D12: Factores constitutivos de salario | F12: 986057546 | G12: 0 | H12: 0 | I12: 0 | J12: 0 | K12: 22850000 | L12: 0 | M12: 1008907546 | N12: 0 | O12: 267000073 | P12: 267000073 | Q12: 0 | R12: 741907473 | S12: 0 | T12: 267000073 | U12: 267000073 | V12: 741907473 | W12: 267000073 | X12: 0 | Y12: 267000073 | Z12: 267000073 | AA12: 0
B13: 2.1.1.01.01.001 | C13: IMEB | D13: Factores salariales comunes | F13: 976294600 | G13: 0 | H13: 0 | I13: 0 | J13: 0 | K13: 22540000 | L13: 0 | M13: 998834600 | N13: 0 | O13: 266983117 | P13: 266983117 | Q13: 0 | R13: 731851483 | S13: 0 | T13: 266983117 | U13: 266983117 | V13: 731851483 | W13: 266983117 | X13: 0 | Y13: 266983117 | Z13: 266983117 | AA13: 0
A14: 220001 | B14: 2.1.1.01.01.001.01 | C14: IMEB | D14: Sueldo básico | E14: 1.2.1.0.0 | F14: 775965124 | G14: 0 | H14: 0 | I14: 0 | J14: 0 | K14: 16220000 | L14: 0 | M14: 792185124 | N14: 0 | O14: 257594650 | P14: 257594650 | Q14: 0 | R14: 534590474 | S14: 0 | T14: 257594650 | U14: 257594650 | V14: 534590474 | W14: 257594650 | X14: 0 | Y14: 257594650 | Z14: 257594650 | AA14: 0
A15: 220002 | B15: 2.1.1.01.01.001.06 | C15: IMEB | D15: Prima de servicios | E15: 1.2.1.0.0 | F15: 66549782 | G15: 0 | H15: 0 | I15: 0 | J15: 0 | K15: 2100000 | L15: 0 | M15: 68649782 | N15: 0 | O15: 128450 | P15: 128450 | Q15: 0 | R15: 68521332 | S15: 0 | T15: 128450 | U15: 128450 | V15: 68521332 | W15: 128450 | X15: 0 | Y15: 128450 | Z15: 128450 | AA15: 0
A16: 220003 | B16: 2.1.1.01.01.001.07 | C16: IMEB | D16: Bonificación por servicios prestados | E16: 1.2.1.0.0 | F16: 22632315 | G16: 0 | H16: 0 | I16: 0 | J16: 0 | K16: 710000 | L16: 0 | M16: 23342315 | N16: 0 | O16: 5806779 | P16: 5806779 | Q16: 0 | R16: 17535536 | S16: 0 | T16: 5806779 | U16: 5806779 | V16: 17535536 | W16: 5806779 | X16: 0 | Y16: 5806779 | Z16: 5806779 | AA16: 0
B17: 2.1.1.01.01.001.08 | C17: IMEB | D17: Prestaciones sociales | F17: 111147379 | G17: 0 | H17: 0 | I17: 0 | J17: 0 | K17: 3510000 | L17: 0 | M17: 114657379 | N17: 0 | O17: 3453238 | P17: 3453238 | Q17: 0 | R17: 111204141 | S17: 0 | T17: 3453238 | U17: 3453238 | V17: 111204141 | W17: 3453238 | X17: 0 | Y17: 3453238 | Z17: 3453238 | AA17: 0
A18: 220004 | B18: 2.1.1.01.01.001.08.01 | C18: IMEB | D18: Prima de navidad | E18: 1.2.1.0.0 | F18: 75099581 | G18: 0 | H18: 0 | I18: 0 | J18: 0 | K18: 2360000 | L18: 0 | M18: 77459581 | N18: 0 | O18: 136165 | P18: 136165 | Q18: 0 | R18: 77323416 | S18: 0 | T18: 136165 | U18: 136165 | V18: 77323416 | W18: 136165 | X18: 0 | Y18: 136165 | Z18: 136165 | AA18: 0
A19: 220005 | B19: 2.1.1.01.01.001.08.02 | C19: IMEB | D19: Prima de vacaciones | E19: 1.2.1.0.0 | F19: 36047798 | G19: 0 | H19: 0 | I19: 0 | J19: 0 | K19: 1150000 | L19: 0 | M19: 37197798 | N19: 0 | O19: 3317073 | P19: 3317073 | Q19: 0 | R19: 33880725 | S19: 0 | T19: 3317073 | U19: 3317073 | V19: 33880725 | W19: 3317073 | X19: 0 | Y19: 3317073 | Z19: 3317073 | AA19: 0
A20: 220006 | B20: 2.1.1.01.01.002 | C20: IMEB | D20: Factores salariales especiales | E20: 1.2.1.0.0 | F20: 9762946 | G20: 0 | H20: 0 | I20: 0 | J20: 0 | K20: 310000 | L20: 0 | M20: 10072946 | N20: 0 | O20: 16956 | P20: 16956 | Q20: 0 | R20: 10055990 | S20: 0 | T20: 16956 | U20: 16956 | V20: 10055990 | W20: 16956 | X20: 0 | Y20: 16956 | Z20: 16956 | AA20: 0
B21: 2.1.1.01.02 | C21: IMEB | D21: Contribuciones inherentes a la nómina | F21: 335322951 | G21: 0 | H21: 0 | I21: 0 | J21: 0 | K21: 11360000 | L21: 0 | M21: 346682951 | N21: 0 | O21: 82506979 | P21: 82506979 | Q21: 0 | R21: 264175972 | S21: 0 | T21: 82506979 | U21: 82506979 | V21: 264175972 | W21: 82393899 | X21: 0 | Y21: 62407699 | Z21: 62407699 | AA21: 20099280
A22: 220007 | B22: 2.1.1.01.02.001 | C22: IMEB | D22: Aportes a la seguridad social en pensiones | E22: 1.2.1.0.0 | F22: 95788061 | G22: 0 | H22: 0 | I22: 0 | J22: 0 | K22: 3050000 | L22: 0 | M22: 98838061 | N22: 0 | O22: 32630350 | P22: 32630350 | Q22: 0 | R22: 66207711 | S22: 0 | T22: 32630350 | U22: 32630350 | V22: 66207711 | W22: 32630350 | X22: 0 | Y22: 24627550 | Z22: 24627550 | AA22: 8002800
A23: 220008 | B23: 2.1.1.01.02.002 | C23: IMEB | D23: Aportes a la seguridad social en salud | E23: 1.2.1.0.0 | F23: 67849877 | G23: 0 | H23: 0 | I23: 0 | J23: 0 | K23: 2160000 | L23: 0 | M23: 70009877 | N23: 0 | O23: 23112448 | P23: 23112448 | Q23: 0 | R23: 46897429 | S23: 0 | T23: 23112448 | U23: 23112448 | V23: 46897429 | W23: 23112448 | X23: 0 | Y23: 17444048 | Z23: 17444048 | AA23: 5668400
A24: 220009 | B24: 2.1.1.01.02.003 | C24: IMEB | D24: Aportes de cesantías | E24: 1.2.1.0.0 | F24: 81357880 | G24: 0 | H24: 0 | I24: 0 | J24: 0 | K24: 2560000 | L24: 0 | M24: 83917880 | N24: 0 | O24: 141301 | P24: 141301 | Q24: 0 | R24: 83776579 | S24: 0 | T24: 141301 | U24: 141301 | V24: 83776579 | W24: 141301 | X24: 0 | Y24: 141301 | Z24: 141301 | AA24: 0
A25: 220010 | B25: 2.1.1.01.02.004 | C25: IMEB | D25: Aportes a cajas de compensación familiar | E25: 1.2.1.0.0 | F25: 38048157 | G25: 0 | H25: 0 | I25: 0 | J25: 0 | K25: 1312000 | L25: 0 | M25: 39360157 | N25: 0 | O25: 11202500 | P25: 11202500 | Q25: 0 | R25: 28157657 | S25: 0 | T25: 11202500 | U25: 11202500 | V25: 28157657 | W25: 11202500 | X25: 0 | Y25: 8534300 | Z25: 8534300 | AA25: 2668200
A26: 220011 | B26: 2.1.1.01.02.005 | C26: IMEB | D26: Aportes generales al sistema de riesgos laborales | E26: 1.2.1.0.0 | F26: 4718781 | G26: 0 | H26: 0 | I26: 0 | J26: 0 | K26: 637000 | L26: 0 | M26: 5355781 | N26: 0 | O26: 1414480 | P26: 1414480 | Q26: 0 | R26: 3941301 | S26: 0 | T26: 1414480 | U26: 1414480 | V26: 3941301 | W26: 1301400 | X26: 0 | Y26: 990600 | Z26: 990600 | AA26: 423880
A27: 220012 | B27: 2.1.1.01.02.006 | C27: IMEB | D27: Aportes al ICBF | E27: 1.2.1.0.0 | F27: 28536117 | G27: 0 | H27: 0 | I27: 0 | J27: 0 | K27: 985000 | L27: 0 | M27: 29521117 | N27: 0 | O27: 8403300 | P27: 8403300 | Q27: 0 | R27: 21117817 | S27: 0 | T27: 8403300 | U27: 8403300 | V27: 21117817 | W27: 8403300 | X27: 0 | Y27: 6401800 | Z27: 6401800 | AA27: 2001500
A28: 220013 | B28: 2.1.1.01.02.007 | C28: IMEB | D28: Aportes al SENA | E28: 1.2.1.0.0 | F28: 19024078 | G28: 0 | H28: 0 | I28: 0 | J28: 0 | K28: 656000 | L28: 0 | M28: 19680078 | N28: 0 | O28: 5602600 | P28: 5602600 | Q28: 0 | R28: 14077478 | S28: 0 | T28: 5602600 | U28: 5602600 | V28: 14077478 | W28: 5602600 | X28: 0 | Y28: 4268100 | Z28: 4268100 | AA28: 1334500
B29: 2.1.1.01.03 | C29: IMEB | D29: Remuneraciones no constitutivas de factor salarial | F29: 67181020 | G29: 0 | H29: 0 | I29: 0 | J29: 0 | K29: 1796000 | L29: 0 | M29: 68977020 | N29: 0 | O29: 5044973 | P29: 5044973 | Q29: 0 | R29: 63932047 | S29: 0 | T29: 5044973 | U29: 5044973 | V29: 63932047 | W29: 5044973 | X29: 0 | Y29: 5044973 | Z29: 5044973 | AA29: 0
B30: 2.1.1.01.03.001 | C30: IMEB | D30: Prestaciones sociales | F30: 67181020 | G30: 0 | H30: 0 | I30: 0 | J30: 0 | K30: 1796000 | L30: 0 | M30: 68977020 | N30: 0 | O30: 5044973 | P30: 5044973 | Q30: 0 | R30: 63932047 | S30: 0 | T30: 5044973 | U30: 5044973 | V30: 63932047 | W30: 5044973 | X30: 0 | Y30: 5044973 | Z30: 5044973 | AA30: 0
A31: 220014 | B31: 2.1.1.01.03.001.01 | C31: IMEB | D31: Vacaciones | E31: 1.2.1.0.0 | F31: 52870104 | G31: 0 | H31: 0 | I31: 0 | J31: 0 | K31: 1660000 | L31: 0 | M31: 54530104 | N31: 0 | O31: 4636379 | P31: 4636379 | Q31: 0 | R31: 49893725 | S31: 0 | T31: 4636379 | U31: 4636379 | V31: 49893725 | W31: 4636379 | X31: 0 | Y31: 4636379 | Z31: 4636379 | AA31: 0
A32: 220015 | B32: 2.1.1.01.03.001.02 | C32: IMEB | D32: Indemnización por vacaciones | E32: 1.3.2.3.05 | F32: 10000000 | G32: 0 | H32: 0 | I32: 0 | J32: 0 | K32: 0 | L32: 0 | M32: 10000000 | N32: 0 | O32: 0 | P32: 0 | Q32: 0 | R32: 10000000 | S32: 0 | T32: 0 | U32: 0 | V32: 10000000 | W32: 0 | X32: 0 | Y32: 0 | Z32: 0 | AA32: 0
A33: 220016 | B33: 2.1.1.01.03.001.03 | C33: IMEB | D33: Bonificacion especial de recreación | E33: 1.2.1.0.0 | F33: 4310916 | G33: 0 | H33: 0 | I33: 0 | J33: 0 | K33: 136000 | L33: 0 | M33: 4446916 | N33: 0 | O33: 408594 | P33: 408594 | Q33: 0 | R33: 4038322 | S33: 0 | T33: 408594 | U33: 408594 | V33: 4038322 | W33: 408594 | X33: 0 | Y33: 408594 | Z33: 408594 | AA33: 0
B34: 2.1.2 | C34: IMEB | D34: Adquisición de bienes y servicios | F34: 788491311 | G34: 0 | H34: 0 | I34: 0 | J34: 0 | K34: 41000000 | L34: 82943000 | M34: 746548311 | N34: 0 | O34: 545301767 | P34: 545301767 | Q34: 0 | R34: 201246544 | S34: 0 | T34: 523706353 | U34: 523706353 | V34: 222841958 | W34: 173697081 | X34: 0 | Y34: 173008881 | Z34: 173008881 | AA34: 350697472
B35: 2.1.2.02 | C35: IMEB | D35: Adquisiciones diferentes de activos | F35: 788491311 | G35: 0 | H35: 0 | I35: 0 | J35: 0 | K35: 41000000 | L35: 82943000 | M35: 746548311 | N35: 0 | O35: 545301767 | P35: 545301767 | Q35: 0 | R35: 201246544 | S35: 0 | T35: 523706353 | U35: 523706353 | V35: 222841958 | W35: 173697081 | X35: 0 | Y35: 173008881 | Z35: 173008881 | AA35: 350697472
B36: 2.1.2.02.01 | C36: IMEB | D36: Materiales y suministros | F36: 82118061 | G36: 0 | H36: 0 | I36: 0 | J36: 0 | K36: 15000000 | L36: 0 | M36: 97118061 | N36: 0 | O36: 32441886 | P36: 32441886 | Q36: 0 | R36: 64676175 | S36: 0 | T36: 10846472 | U36: 10846472 | V36: 86271589 | W36: 513200 | X36: 0 | Y36: 275000 | Z36: 275000 | AA36: 10571472
A37: 220017 | B37: 2.1.2.02.01.002 | C37: IMEB | D37: Productos alimenticios, bebidas y tabaco; textiles, prendas de vestir y productos de cuero | E37: 1.2.1.0.0 | F37: 13118061 | G37: 0 | H37: 0 | I37: 0 | J37: 0 | K37: 0 | L37: 0 | M37: 13118061 | N37: 0 | O37: 12614415 | P37: 12614415 | Q37: 0 | R37: 503646 | S37: 0 | T37: 10846472 | U37: 10846472 | V37: 2271589 | W37: 513200 | X37: 0 | Y37: 275000 | Z37: 275000 | AA37: 10571472
A38: 220018 | B38: 2.1.2.02.01.003 | C38: IMEB | D38: Otros bienes transportables (excepto productos metálicos, maquinaria y equipo) | E38: 1.2.1.0.0 | F38: 39000000 | G38: 0 | H38: 0 | I38: 0 | J38: 0 | K38: 15000000 | L38: 0 | M38: 54000000 | N38: 0 | O38: 19827471 | P38: 19827471 | Q38: 0 | R38: 34172529 | S38: 0 | T38: 0 | U38: 0 | V38: 54000000 | W38: 0 | X38: 0 | Y38: 0 | Z38: 0 | AA38: 0
A39: 220019 | B39: 2.1.2.02.01.004 | C39: IMEB | D39: Productos metalicos y paquetes de software | E39: 1.2.1.0.0 | F39: 30000000 | G39: 0 | H39: 0 | I39: 0 | J39: 0 | K39: 0 | L39: 0 | M39: 30000000 | N39: 0 | O39: 0 | P39: 0 | Q39: 0 | R39: 30000000 | S39: 0 | T39: 0 | U39: 0 | V39: 30000000 | W39: 0 | X39: 0 | Y39: 0 | Z39: 0 | AA39: 0
B40: 2.1.2.02.02 | C40: IMEB | D40: Adquisición de servicios | F40: 706373250 | G40: 0 | H40: 0 | I40: 0 | J40: 0 | K40: 26000000 | L40: 82943000 | M40: 649430250 | N40: 0 | O40: 512859881 | P40: 512859881 | Q40: 0 | R40: 136570369 | S40: 0 | T40: 512859881 | U40: 512859881 | V40: 136570369 | W40: 173183881 | X40: 0 | Y40: 172733881 | Z40: 172733881 | AA40: 340126000
...

Sheet Gastos_Mayo
A1: INSTITUTO MUNICIPAL DE EMPLEO Y FOMENTO EMPRESARIAL - IMEBU
A2: NIT: 00804014968 - 1
A3: EJECUCION PRESUPUESTAL DE GASTOS
A4: Periodo comprendido entre 01-01-2022 y 31-05-2022
A5: Fecha de Impresión: 02.06.2022 Hora: 11:45:am
A6: Impreso por: GUSTAVO - GUSTAVO RAMIREZ BONELLS | P6: CDP | U6: RP | Z6: PAGOS
A7: Codigo de Control | B7: Rubro Presupuestal | C7: Unidad Ejecutora | D7: Descripción | E7: Fuente | F7: Presupuesto Inicial | G7: Adiciones | H7: Aplazamientos | I7: Desaplazamiento | J7: Reducciones | K7: Créditos | L7: Contracréditos | M7: Presupuesto Definitivo | N7: Cdps Mes Anterior | O7: Cdps Mes Actual | P7: Total Ejecutado Segun Cdps | Q7: Cdps Vigencia Futura | R7: Saldo por Ejecutar | S7: Compromisos Mes Anterior | T7: Total Compromisos mes Actual | U7: Total Compromisos | V7: Saldo por Comprometer | W7: Total Obligaciones | X7: Pagos Mes Anterior | Y7: Total Pagos Periodo | Z7: Total Pagos | AA7: Saldo por Pagar
A8: 220077 | B8: 2.1.2.02.02.010 | C8: IMEB | D8: Viáticos de funcionarios en Comisión | E8: APM | F8: 0 | G8: 0 | H8: 0 | I8: 0 | J8: 0 | K8: 10000000 | L8: 0 | M8: 10000000 | N8: 0 | O8: 1112562 | P8: 1112562 | Q8: 0 | R8: 8887438 | S8: 0 | T8: 1112562 | U8: 1112562 | V8: 8887438 | W8: 1112562 | X8: 0 | Y8: 1112562 | Z8: 1112562 | AA8: 0
B9: 2 | C9: IMEB | D9: Gastos | F9: 5040000000 | G9: 0 | H9: 0 | I9: 0 | J9: 0 | K9: 272956147 | L9: 272956147 | M9: 5040000000 | N9: 0 | O9: 3363322882 | P9: 3363322882 | Q9: 0 | R9: 1676677118 | S9: 0 | T9: 3292904992 | U9: 3292904992 | V9: 1747095008 | W9: 1701608632 | X9: 0 | Y9: 1672694860 | Z9: 1672694860 | AA9: 1620210132
B10: 2.1 | C10: IMEB | D10: Funcionamiento | F10: 2332862428 | G10: 0 | H10: 0 | I10: 0 | J10: 0 | K10: 92943000 | L10: 92943000 | M10: 2332862428 | N10: 0 | O10: 1018277245 | P10: 1018277245 | Q10: 0 | R10: 1314585183 | S10: 0 | T10: 995859355 | U10: 995859355 | V10: 1337003073 | W10: 677583823 | X10: 0 | Y10: 648670051 | Z10: 648670051 | AA10: 347189304
B11: 2.1.1 | C11: IMEB | D11: Gastos de personal | F11: 1388561517 | G11: 0 | H11: 0 | I11: 0 | J11: 0 | K11: 36006000 | L11: 0 | M11: 1424567517 | N11: 0 | O11: 447070203 | P11: 447070203 | Q11: 0 | R11: 977497314 | S11: 0 | T11: 447070203 | U11: 447070203 | V11: 977497314 | W11: 446978483 | X11: 0 | Y11: 425611183 | Z11: 425611183 | AA11: 21459020
B12: 2.1.1.01 | C12: IMEB | D12: Planta de personal permanente | F12: 1388561517 | G12: 0 | H12: 0 | I12: 0 | J12: 0 | K12: 36006000 | L12: 0 | M12: 1424567517 | N12: 0 | O12: 447070203 | P12: 447070203 | Q12: 0 | R12: 977497314 | S12: 0 | T12: 447070203 | U12: 447070203 | V12: 977497314 | W12: 446978483 | X12: 0 | Y12: 425611183 | Z12: 425611183 | AA12: 21459020
B13: 2.1.1.01.01 | C13: IMEB | D13: Factores constitutivos de salario | F13: 986057546 | G13: 0 | H13: 0 | I13: 0 | J13: 0 | K13: 22850000 | L13: 0 | M13: 1008907546 | N13: 0 | O13: 338172311 | P13: 338172311 | Q13: 0 | R13: 670735235 | S13: 0 | T13: 338172311 | U13: 338172311 | V13: 670735235 | W13: 338172311 | X13: 0 | Y13: 338172311 | Z13: 338172311 | AA13: 0
B14: 2.1.1.01.01.001 | C14: IMEB | D14: Factores salariales comunes | F14: 976294600 | G14: 0 | H14: 0 | I14: 0 | J14: 0 | K14: 22540000 | L14: 0 | M14: 998834600 | N14: 0 | O14: 338155355 | P14: 338155355 | Q14: 0 | R14: 660679245 | S14: 0 | T14: 338155355 | U14: 338155355 | V14: 660679245 | W14: 338155355 | X14: 0 | Y14: 338155355 | Z14: 338155355 | AA14: 0
A15: 220001 | B15: 2.1.1.01.01.001.01 | C15: IMEB | D15: Sueldo básico | E15: 1.2.1.0.0 | F15: 775965124 | G15: 0 | H15: 0 | I15: 0 | J15: 0 | K15: 16220000 | L15: 0 | M15: 792185124 | N15: 0 | O15: 324285374 | P15: 324285374 | Q15: 0 | R15: 467899750 | S15: 0 | T15: 324285374 | U15: 324285374 | V15: 467899750 | W15: 324285374 | X15: 0 | Y15: 324285374 | Z15: 324285374 | AA15: 0
A16: 220002 | B16: 2.1.1.01.01.001.06 | C16: IMEB | D16: Prima de servicios | E16: 1.2.1.0.0 | F16: 66549782 | G16: 0 | H16: 0 | I16: 0 | J16: 0 | K16: 2100000 | L16: 0 | M16: 68649782 | N16: 0 | O16: 128450 | P16: 128450 | Q16: 0 | R16: 68521332 | S16: 0 | T16: 128450 | U16: 128450 | V16: 68521332 | W16: 128450 | X16: 0 | Y16: 128450 | Z16: 128450 | AA16: 0
A17: 220003 | B17: 2.1.1.01.01.001.07 | C17: IMEB | D17: Bonificación por servicios prestados | E17: 1.2.1.0.0 | F17: 22632315 | G17: 0 | H17: 0 | I17: 0 | J17: 0 | K17: 710000 | L17: 0 | M17: 23342315 | N17: 0 | O17: 10288293 | P17: 10288293 | Q17: 0 | R17: 13054022 | S17: 0 | T17: 10288293 | U17: 10288293 | V17: 13054022 | W17: 10288293 | X17: 0 | Y17: 10288293 | Z17: 10288293 | AA17: 0
B18: 2.1.1.01.01.001.08 | C18: IMEB | D18: Prestaciones sociales | F18: 111147379 | G18: 0 | H18: 0 | I18: 0 | J18: 0 | K18: 3510000 | L18: 0 | M18: 114657379 | N18: 0 | O18: 3453238 | P18: 3453238 | Q18: 0 | R18: 111204141 | S18: 0 | T18: 3453238 | U18: 3453238 | V18: 111204141 | W18: 3453238 | X18: 0 | Y18: 3453238 | Z18: 3453238 | AA18: 0
A19: 220004 | B19: 2.1.1.01.01.001.08.01 | C19: IMEB | D19: Prima de navidad | E19: 1.2.1.0.0 | F19: 75099581 | G19: 0 | H19: 0 | I19: 0 | J19: 0 | K19: 2360000 | L19: 0 | M19: 77459581 | N19: 0 | O19: 136165 | P19: 136165 | Q19: 0 | R19: 77323416 | S19: 0 | T19: 136165 | U19: 136165 | V19: 77323416 | W19: 136165 | X19: 0 | Y19: 136165 | Z19: 136165 | AA19: 0
A20: 220005 | B20: 2.1.1.01.01.001.08.02 | C20: IMEB | D20: Prima de vacaciones | E20: 1.2.1.0.0 | F20: 36047798 | G20: 0 | H20: 0 | I20: 0 | J20: 0 | K20: 1150000 | L20: 0 | M20: 37197798 | N20: 0 | O20: 3317073 | P20: 3317073 | Q20: 0 | R20: 33880725 | S20: 0 | T20: 3317073 | U20: 3317073 | V20: 33880725 | W20: 3317073 | X20: 0 | Y20: 3317073 | Z20: 3317073 | AA20: 0
A21: 220006 | B21: 2.1.1.01.01.002 | C21: IMEB | D21: Factores salariales especiales | E21: 1.2.1.0.0 | F21: 9762946 | G21: 0 | H21: 0 | I21: 0 | J21: 0 | K21: 310000 | L21: 0 | M21: 10072946 | N21: 0 | O21: 16956 | P21: 16956 | Q21: 0 | R21: 10055990 | S21: 0 | T21: 16956 | U21: 16956 | V21: 10055990 | W21: 16956 | X21: 0 | Y21: 16956 | Z21: 16956 | AA21: 0
B22: 2.1.1.01.02 | C22: IMEB | D22: Contribuciones inherentes a la nómina | F22: 335322951 | G22: 0 | H22: 0 | I22: 0 | J22: 0 | K22: 11360000 | L22: 0 | M22: 346682951 | N22: 0 | O22: 103852919 | P22: 103852919 | Q22: 0 | R22: 242830032 | S22: 0 | T22: 103852919 | U22: 103852919 | V22: 242830032 | W22: 103761199 | X22: 0 | Y22: 82393899 | Z22: 82393899 | AA22: 21459020
A23: 220007 | B23: 2.1.1.01.02.001 | C23: IMEB | D23: Aportes a la seguridad social en pensiones | E23: 1.2.1.0.0 | F23: 95788061 | G23: 0 | H23: 0 | I23: 0 | J23: 0 | K23: 3050000 | L23: 0 | M23: 98838061 | N23: 0 | O23: 41170950 | P23: 41170950 | Q23: 0 | R23: 57667111 | S23: 0 | T23: 41170950 | U23: 41170950 | V23: 57667111 | W23: 41170950 | X23: 0 | Y23: 32630350 | Z23: 32630350 | AA23: 8540600
A24: 220008 | B24: 2.1.1.01.02.002 | C24: IMEB | D24: Aportes a la seguridad social en salud | E24: 1.2.1.0.0 | F24: 67849877 | G24: 0 | H24: 0 | I24: 0 | J24: 0 | K24: 2160000 | L24: 0 | M24: 70009877 | N24: 0 | O24: 29161948 | P24: 29161948 | Q24: 0 | R24: 40847929 | S24: 0 | T24: 29161948 | U24: 29161948 | V24: 40847929 | W24: 29161948 | X24: 0 | Y24: 23112448 | Z24: 23112448 | AA24: 6049500
A25: 220009 | B25: 2.1.1.01.02.003 | C25: IMEB | D25: Aportes de cesantías | E25: 1.2.1.0.0 | F25: 81357880 | G25: 0 | H25: 0 | I25: 0 | J25: 0 | K25: 2560000 | L25: 0 | M25: 83917880 | N25: 0 | O25: 141301 | P25: 141301 | Q25: 0 | R25: 83776579 | S25: 0 | T25: 141301 | U25: 141301 | V25: 83776579 | W25: 141301 | X25: 0 | Y25: 141301 | Z25: 141301 | AA25: 0
A26: 220010 | B26: 2.1.1.01.02.004 | C26: IMEB | D26: Aportes a cajas de compensación familiar | E26: 1.2.1.0.0 | F26: 38048157 | G26: 0 | H26: 0 | I26: 0 | J26: 0 | K26: 1312000 | L26: 0 | M26: 39360157 | N26: 0 | O26: 14049900 | P26: 14049900 | Q26: 0 | R26: 25310257 | S26: 0 | T26: 14049900 | U26: 14049900 | V26: 25310257 | W26: 14049900 | X26: 0 | Y26: 11202500 | Z26: 11202500 | AA26: 2847400
A27: 220011 | B27: 2.1.1.01.02.005 | C27: IMEB | D27: Aportes generales al sistema de riesgos laborales | E27: 1.2.1.0.0 | F27: 4718781 | G27: 0 | H27: 0 | I27: 0 | J27: 0 | K27: 637000 | L27: 0 | M27: 5355781 | N27: 0 | O27: 1763020 | P27: 1763020 | Q27: 0 | R27: 3592761 | S27: 0 | T27: 1763020 | U27: 1763020 | V27: 3592761 | W27: 1671300 | X27: 0 | Y27: 1301400 | Z27: 1301400 | AA27: 461620
A28: 220012 | B28: 2.1.1.01.02.006 | C28: IMEB | D28: Aportes al ICBF | E28: 1.2.1.0.0 | F28: 28536117 | G28: 0 | H28: 0 | I28: 0 | J28: 0 | K28: 985000 | L28: 0 | M28: 29521117 | N28: 0 | O28: 10539200 | P28: 10539200 | Q28: 0 | R28: 18981917 | S28: 0 | T28: 10539200 | U28: 10539200 | V28: 18981917 | W28: 10539200 | X28: 0 | Y28: 8403300 | Z28: 8403300 | AA28: 2135900
A29: 220013 | B29: 2.1.1.01.02.007 | C29: IMEB | D29: Aportes al SENA | E29: 1.2.1.0.0 | F29: 19024078 | G29: 0 | H29: 0 | I29: 0 | J29: 0 | K29: 656000 | L29: 0 | M29: 19680078 | N29: 0 | O29: 7026600 | P29: 7026600 | Q29: 0 | R29: 12653478 | S29: 0 | T29: 7026600 | U29: 7026600 | V29: 12653478 | W29: 7026600 | X29: 0 | Y29: 5602600 | Z29: 5602600 | AA29: 1424000
B30: 2.1.1.01.03 | C30: IMEB | D30: Remuneraciones no constitutivas de factor salarial | F30: 67181020 | G30: 0 | H30: 0 | I30: 0 | J30: 0 | K30: 1796000 | L30: 0 | M30: 68977020 | N30: 0 | O30: 5044973 | P30: 5044973 | Q30: 0 | R30: 63932047 | S30: 0 | T30: 5044973 | U30: 5044973 | V30: 63932047 | W30: 5044973 | X30: 0 | Y30: 5044973 | Z30: 5044973 | AA30: 0
B31: 2.1.1.01.03.001 | C31: IMEB | D31: Prestaciones sociales | F31: 67181020 | G31: 0 | H31: 0 | I31: 0 | J31: 0 | K31: 1796000 | L31: 0 | M31: 68977020 | N31: 0 | O31: 5044973 | P31: 5044973 | Q31: 0 | R31: 63932047 | S31: 0 | T31: 5044973 | U31: 5044973 | V31: 63932047 | W31: 5044973 | X31: 0 | Y31: 5044973 | Z31: 5044973 | AA31: 0
A32: 220014 | B32: 2.1.1.01.03.001.01 | C32: IMEB | D32: Vacaciones | E32: 1.2.1.0.0 | F32: 52870104 | G32: 0 | H32: 0 | I32: 0 | J32: 0 | K32: 1660000 | L32: 0 | M32: 54530104 | N32: 0 | O32: 4636379 | P32: 4636379 | Q32: 0 | R32: 49893725 | S32: 0 | T32: 4636379 | U32: 4636379 | V32: 49893725 | W32: 4636379 | X32: 0 | Y32: 4636379 | Z32: 4636379 | AA32: 0
A33: 220015 | B33: 2.1.1.01.03.001.02 | C33: IMEB | D33: Indemnización por vacaciones | E33: 1.3.2.3.05 | F33: 10000000 | G33: 0 | H33: 0 | I33: 0 | J33: 0 | K33: 0 | L33: 0 | M33: 10000000 | N33: 0 | O33: 0 | P33: 0 | Q33: 0 | R33: 10000000 | S33: 0 | T33: 0 | U33: 0 | V33: 10000000 | W33: 0 | X33: 0 | Y33: 0 | Z33: 0 | AA33: 0
A34: 220016 | B34: 2.1.1.01.03.001.03 | C34: IMEB | D34: Bonificacion especial de recreación | E34: 1.2.1.0.0 | F34: 4310916 | G34: 0 | H34: 0 | I34: 0 | J34: 0 | K34: 136000 | L34: 0 | M34: 4446916 | N34: 0 | O34: 408594 | P34: 408594 | Q34: 0 | R34: 4038322 | S34: 0 | T34: 408594 | U34: 408594 | V34: 4038322 | W34: 408594 | X34: 0 | Y34: 408594 | Z34: 408594 | AA34: 0
B35: 2.1.2 | C35: IMEB | D35: Adquisición de bienes y servicios | F35: 788491311 | G35: 0 | H35: 0 | I35: 0 | J35: 0 | K35: 51000000 | L35: 92943000 | M35: 746548311 | N35: 0 | O35: 555207042 | P35: 555207042 | Q35: 0 | R35: 191341269 | S35: 0 | T35: 532789152 | U35: 532789152 | V35: 213759159 | W35: 221465175 | X35: 0 | Y35: 213918703 | Z35: 213918703 | AA35: 318870449
B36: 2.1.2.02 | C36: IMEB | D36: Adquisiciones diferentes de activos | F36: 788491311 | G36: 0 | H36: 0 | I36: 0 | J36: 0 | K36: 51000000 | L36: 92943000 | M36: 746548311 | N36: 0 | O36: 555207042 | P36: 555207042 | Q36: 0 | R36: 191341269 | S36: 0 | T36: 532789152 | U36: 532789152 | V36: 213759159 | W36: 221465175 | X36: 0 | Y36: 213918703 | Z36: 213918703 | AA36: 318870449
B37: 2.1.2.02.01 | C37: IMEB | D37: Materiales y suministros | F37: 82118061 | G37: 0 | H37: 0 | I37: 0 | J37: 0 | K37: 15000000 | L37: 0 | M37: 97118061 | N37: 0 | O37: 36125539 | P37: 36125539 | Q37: 0 | R37: 60992522 | S37: 0 | T37: 13707649 | U37: 13707649 | V37: 83410412 | W37: 8059672 | X37: 0 | Y37: 513200 | Z37: 513200 | AA37: 13194449
A38: 220017 | B38: 2.1.2.02.01.002 | C38: IMEB | D38: Productos alimenticios, bebidas y tabaco; textiles, prendas de vestir y productos de cuero | E38: 1.2.1.0.0 | F38: 13118061 | G38: 0 | H38: 0 | I38: 0 | J38: 0 | K38: 0 | L38: 0 | M38: 13118061 | N38: 0 | O38: 12614415 | P38: 12614415 | Q38: 0 | R38: 503646 | S38: 0 | T38: 10846472 | U38: 10846472 | V38: 2271589 | W38: 8059672 | X38: 0 | Y38: 513200 | Z38: 513200 | AA38: 10333272
A39: 220018 | B39: 2.1.2.02.01.003 | C39: IMEB | D39: Otros bienes transportables (excepto productos metálicos, maquinaria y equipo) | E39: 1.2.1.0.0 | F39: 39000000 | G39: 0 | H39: 0 | I39: 0 | J39: 0 | K39: 15000000 | L39: 0 | M39: 54000000 | N39: 0 | O39: 23511124 | P39: 23511124 | Q39: 0 | R39: 30488876 | S39: 0 | T39: 2861177 | U39: 2861177 | V39: 51138823 | W39: 0 | X39: 0 | Y39: 0 | Z39: 0 | AA39: 2861177
A40: 220019 | B40: 2.1.2.02.01.004 | C40: IMEB | D40: Productos metalicos y paquetes de software | E40: 1.2.1.0.0 | F40: 30000000 | G40: 0 | H40: 0 | I40: 0 | J40: 0 | K40: 0 | L40: 0 | M40: 30000000 | N40: 0 | O40: 0 | P40: 0 | Q40: 0 | R40: 30000000 | S40: 0 | T40: 0 | U40: 0 | V40: 30000000 | W40: 0 | X40: 0 | Y40: 0 | Z40: 0 | AA40: 0
...

Sheet Recursos Gestionados
A1: Meta | B1: Proyecto | C1: Contrato | D1: Cooperante | E1: Aporte Dinero IMEBU | F1: Aporte Especie IMEBU | G1: Aporte Cooperante | H1: Total Convenio
A2: =+'PA 2022'!E9 -> Fortalecer a 5.000 empresas, emprendimientos y/o unidades productivas, a través de la implementación de un programa de incubación y aceleración de emprendimientos innovadores articulados con el ecosistema de emprendimiento, que caracterice las capacidades tecnológicas instaladas (duras y blandas) con enfoque diferencial. | B2: =+'PA 2022'!H9 -> FORTALECIMIENTO DEL COWORKING COMO ESTRATEGIA PARA EL EMPRENDIMIENTO, INNOVACIÓN, DINAMIZACIÓN Y ACELERACIÓN EMPRESARIAL EN EL MUNICIPIO DE BUCARAMANGA | C2: Convenio CCT 001 - 2022 | D2: Camara de comercio | E2: 448760119 | G2: 153470340 | H2: =+E2+G2 -> 602230459
A3: =+'PA 2022'!E10 -> Implementar 1 programa de desarrollo empresarial y de empleabilidad para las micro y pequeñas empresas (incluyendo unidades productivas). | B3: =+'PA 2022'!H10 -> FORTALECIMIENTO DEL CENTRO DE DESARROLLO EMPRESARIAL Y DE EMPLEABILIDAD EN EL MUNICIPIO DE BUCARAMANGA | C3: Acuerdo de cooperación | D3: Eiwos Colombia | G3: 213659181
A4: =+'PA 2022'!E10 -> Implementar 1 programa de desarrollo empresarial y de empleabilidad para las micro y pequeñas empresas (incluyendo unidades productivas). | B4: =+'PA 2022'!H10 -> FORTALECIMIENTO DEL CENTRO DE DESARROLLO EMPRESARIAL Y DE EMPLEABILIDAD EN EL MUNICIPIO DE BUCARAMANGA | C4: Convenio CA 001 - 2022 | D4: Camara de comercio | E4: 82331162 | F4: 236720000 | G4: 139668961 | H4: =+F4+E4+G4 -> 458720123
A5: =+'PA 2022'!E10 -> Implementar 1 programa de desarrollo empresarial y de empleabilidad para las micro y pequeñas empresas (incluyendo unidades productivas). | B5: =+'PA 2022'!H10 -> FORTALECIMIENTO DEL CENTRO DE DESARROLLO EMPRESARIAL Y DE EMPLEABILIDAD EN EL MUNICIPIO DE BUCARAMANGA | C5: Convenio CA 002 - 2022 | D5: Comfenalco | E5: 318284115 | F5: 70474177 | G5: 166612233 | H5: =+F5+E5+G5 -> 555370525
E6: =+SUM(E2:E5) -> 849375396 | F6: =+SUM(F2:F5) -> 307194177 | G6: =+SUM(G2:G5) -> 673410715 | H6: =+SUM(H2:H5) -> 1616321107 | I6: =G6/H6 -> 0.41663176

Sheet Resultado por Estrategias 
G1: EJECUTADO
A2: Proyecto | B2: Estrategia | C2: Beneficiados | D2: Meta Real cuatrienio | F2: Meta mensual | G2: Enero | H2: Febrero | I2: Marzo | J2: Abril | K2: Mayo | L2: Junio | M2: Julio | N2: Agosto | O2: Septiembre | P2: Octubre | Q2: Meta a 31 Octubre | R2: Cumpl a Octubre | S2: Rezago a hoy | T2: Estrategia
A3: Coworking | B3: Consultorio E Marketing | C3: =+SUM(G3:P3) -> 638 | D3: 1600 | E3: 800 | F3: =+E3/12 -> 66.666667 | G3: 0 | H3: 17 | I3: 62 | J3: 80 | K3: 99 | L3: 124 | M3: 10 | N3: 84 | O3: 82 | P3: 80 | Q3: =+F3*10 -> 666.66667 | R3: =SUM(G3:P3) -> 638 | S3: =+R3-Q3 -> -28.666667 | T3: 200 Maraton Empleo y Emprendimiento. En junio se nivela.
A4: Coworking | B4: Espacios Colaborativos | C4: =+SUM(G4:P4) -> 23 | E4: 200 | G4: 0 | H4: 14 | I4: 0 | J4: 0 | K4: 3 | L4: 2 | M4: 0 | N4: 1 | O4: 1 | P4: 2 | Q4: =+F4*10 -> 0 | R4: =SUM(G4:P4) -> 23 | S4: =+R4-Q4 -> 23
A5: Coworking | B5: Cemprende - SEED LAB | C5: =+SUM(G5:P5) -> 15 | F5: =+E4/12 -> 16.666667 | G5: 0 | H5: 0 | I5: 0 | J5: 0 | K5: 10 | L5: 0 | M5: 0 | N5: 0 | O5: 0 | P5: 5 | Q5: =+F5*10 -> 166.66667 | R5: =SUM(G5:P5) -> 15 | S5: =+R5-Q5 -> -151.66667
A6: Coworking | B6: Cemprende - HerramientaSTEC | C6: =+SUM(G6:P6) -> 57 | G6: 0 | H6: 0 | I6: 0 | J6: 15 | K6: 15 | L6: 7 | M6: 5 | N6: 8 | O6: 2 | P6: 5 | Q6: =+F6*10 -> 0 | R6: =SUM(G6:P6) -> 57 | S6: =+R6-Q6 -> 57
A7: Coworking | B7: Avanza BGA | C7: =+SUM(G7:P7) -> 201 | E7: 300 | F7: =+E7/12 -> 25 | G7: 0 | H7: 0 | I7: 51 | J7: 3 | K7: 5 | L7: 26 | M7: 2 | N7: 30 | O7: 33 | P7: 51 | Q7: =+F7*10 -> 250 | R7: =SUM(G7:P7) -> 201 | S7: =+R7-Q7 -> -49 | T7: 101 inscritas que estan en proceso. Salen Junio.
A8: Coworking | B8: Crea | C8: =+SUM(G8:P8) -> 212 | E8: 300 | F8: =+E8/12 -> 25 | G8: 0 | H8: 0 | I8: 0 | J8: 22 | K8: 54 | L8: 47 | M8: 34 | N8: 25 | O8: 30 | P8: 0 | Q8: =+F8*10 -> 250 | R8: =SUM(G8:P8) -> 212 | S8: =+R8-Q8 -> -38 | T8: 460 empresas inscritas, se hizo plan de choque. Feria Udes, Apoyo Cámara Cio. Se requiere personal.
A9: CDE | B9: Planes de mejoramiento diseñados | C9: =+SUM(G9:P9) -> 984 | D9: 2600 | E9: 430 | F9: =+E9/12 -> 35.833333 | G9: 0 | H9: 84 | I9: 76 | J9: 78 | K9: 87 | L9: 138 | M9: 72 | N9: 106 | O9: 206 | P9: 137 | Q9: =+F9*10 -> 358.33333 | R9: =SUM(G9:P9) -> 984 | S9: =+R9-Q9 -> 625.66667
A10: CDE | B10: Modelos de negocio | C10: =+SUM(G10:P10) -> 254 | E10: 180 | F10: =+E10/12 -> 15 | G10: 0 | H10: 0 | I10: 12 | J10: 12 | K10: 55 | L10: 36 | M10: 25 | N10: 27 | O10: 30 | P10: 57 | Q10: =+F10*10 -> 150 | R10: =SUM(G10:P10) -> 254 | S10: =+R10-Q10 -> 104
A11: CDE | B11: Talleres CDE | C11: =+SUM(G11:P11) -> 2184 | E11: 620 | F11: =+E11/12 -> 51.666667 | G11: 0 | H11: 0 | I11: 83 | J11: 128 | K11: 165 | L11: 330 | M11: 604 | N11: 215 | O11: 359 | P11: 300 | Q11: =+F11*10 -> 516.66667 | R11: =SUM(G11:P11) -> 2184 | S11: =+R11-Q11 -> 1667.3333
A12: CDE | B12: Talleres vitrinismo Beatriz | C12: =+SUM(G12:P12) -> 280 | E12: 220 | F12: =+E12/12 -> 18.333333 | G12: 0 | H12: 0 | I12: 20 | J12: 39 | K12: 36 | L12: 32 | M12: 37 | N12: 31 | O12: 23 | P12: 62 | Q12: =+F12*10 -> 183.33333 | R12: =SUM(G12:P12) -> 280 | S12: =+R12-Q12 -> 96.666667 | T12: Agenda 400 años
A13: CDE | B13: Taller en e-comerce y uso de plataforma Market Place | C13: =+SUM(G13:P13) -> 200 | E13: 350 | F13: =+E13/12 -> 29.166667 | G13: 0 | H13: 0 | I13: 10 | J13: 137 | K13: 0 | L13: 32 | M13: 1 | N13: 0 | O13: 0 | P13: 20 | Q13: =+F13*10 -> 291.66667 | R13: =SUM(G13:P13) -> 200 | S13: =+R13-Q13 -> -91.666667
A14: CDE | B14: Talleres Somos Locales | C14: =+SUM(G14:P14) -> 2189 | E14: 800 | F14: =+E14/12 -> 66.666667 | G14: 0 | H14: 0 | I14: 0 | J14: 225 | K14: 452 | L14: 438 | M14: 220 | N14: 560 | O14: 294 | P14: 0 | Q14: =+F14*10 -> 666.66667 | R14: =SUM(G14:P14) -> 2189 | S14: =+R14-Q14 -> 1522.3333
A15: CDE | B15: Planes de mejoramiento implementados | C15: =+SUM(G15:P15) -> 753 | D15: 1324 | E15: =+D15 -> 1324 | F15: =+E15/12 -> 110.33333 | G15: 0 | H15: 0 | I15: 76 | J15: 55 | K15: 72 | L15: 107 | M15: 94 | N15: 29 | O15: 165 | P15: 155 | Q15: =+F15*10 -> 1103.3333 | R15: =SUM(G15:P15) -> 753 | S15: =+R15-Q15 -> -350.33333 | T15: Meta por convenio 410 por disminución equipos. Plan de choque con market place.
A16: CDE | B16: CDE Virtual | C16: =+SUM(G16:P16) -> 1 | D16: 0.6 | E16: 0.35 | F16: =+E16/12 -> 0.029166667 | G16: 0 | H16: 0 | I16: 0 | J16: 0.09 | K16: 0 | L16: 0 | M16: 0.21 | N16: 0 | O16: 0 | P16: 0.7 | Q16: =+F16*10 -> 0.29166667 | R16: =SUM(G16:P16) -> 1 | S16: 0.01 | T16: Entrega en Junio completo hasta plan de mejoramiento. No hay servidor. La Alcaldía no ha contestado si prestan o no servidor.
A17: CDE | B17: Market Place (productos cargados en plataforma) | C17: =+SUM(G17:P17) -> 820 | D17: 1000 | E17: 1000 | F17: =E17/12 -> 83.333333 | G17: 0 | H17: 0 | I17: 0 | J17: 100 | K17: 100 | L17: 100 | M17: 36 | N17: 64 | O17: 283 | P17: 137 | Q17: =+F17*10 -> 833.33333 | R17: =SUM(G17:P17) -> 820 | S17: =+R17-Q17 -> -13.333333 | T17: En Agosto se nivela.
A18: Banca | B18: Creditos tecnologia e innovación | C18: =+SUM(G18:P18) -> 1671 | D18: 2166 | E18: =+D18 -> 2166 | F18: =+E18/12 -> 180.5 | G18: 57 | H18: 99 | I18: 154 | J18: 235 | K18: 355 | L18: 293 | M18: 208 | N18: 109 | O18: 97 | P18: 64 | Q18: =+F18*10 -> 1805 | R18: =SUM(G18:P18) -> 1671 | S18: =+R18-Q18 -> -134 | T18: Apalancafest - Universidades, Plazas, Sena Tecnoparque, CDE, Atento.
A19: Banca | B19: Creditos diferente a tecnologia e innovación | C19: =+SUM(G19:P19) -> 1279 | D19: 1200 | E19: 1200 | F19: =+E19/12 -> 100 | G19: 102 | H19: 160 | I19: 152 | J19: 61 | K19: 95 | L19: 230 | M19: 117 | N19: 129 | O19: 117 | P19: 116 | Q19: =+F19*10 -> 1000 | R19: =SUM(G19:P19) -> 1279 | S19: =+R19-Q19 -> 279
A20: Empleo | B20: Registrados | C20: =+SUM(G20:P20) -> 5600 | D20: 1300 | E20: =+D20 -> 1300 | F20: =+E20/12 -> 108.33333 | G20: 96 | H20: 341 | I20: 611 | J20: 660 | K20: 939 | L20: 556 | M20: 471 | N20: 605 | O20: 587 | P20: 734 | Q20: =+F20*10 -> 1083.3333 | R20: =SUM(G20:P20) -> 5600 | S20: =+R20-Q20 -> 4516.6667
A21: Empleo | B21: Talleres empleo | C21: =+SUM(G21:P21) -> 3032 | D21: 800 | E21: =+D21 -> 800 | F21: =+E21/12 -> 66.666667 | G21: 0 | H21: 68 | I21: 393 | J21: =143+115 -> 258 | K21: 346 | L21: 462 | M21: 381 | N21: 366 | O21: 363 | P21: 395 | Q21: =+F21*10 -> 666.66667 | R21: =SUM(G21:P21) -> 3032 | S21: =+R21-Q21 -> 2365.3333
A22: Empleo | B22: Empresas acompañadas | C22: =+SUM(G22:P22) -> 805 | D22: 390 | E22: =+D22 -> 390 | F22: =+E22/12 -> 32.5 | G22: 0 | H22: 40 | I22: 42 | J22: 120 | K22: 67 | L22: 44 | M22: 12 | N22: 183 | O22: 156 | P22: 141 | Q22: =+F22*10 -> 325 | R22: =SUM(G22:P22) -> 805 | S22: =+R22-Q22 -> 480
B24: IMPACTO
B25: Intermediar y gestionar 5.000 empleos a través de proyectos empresariales, financieros y de empleabilidad en los sectores priorizados. | C25: 3000
A26: Empleo | B26: Colocados | C26: 1210 | F26: =+C26/12 -> 100.83333 | G26: 11 | H26: 83 | I26: 117 | J26: 156 | K26: =170+331 -> 501 | Q26: =+F26*5 -> 504.16667 | R26: =SUM(G26:K26) -> 868 | S26: =+R26-Q26 -> 363.83333
A27: Banca | B27: Empleos nuevos | C27: 1290 | F27: =+C27/12 -> 107.5 | G27: 57 | H27: 122 | I27: 150 | J27: 119 | Q27: =+F27*5 -> 537.5 | R27: =SUM(G27:K27) -> 448 | S27: =+R27-Q27 -> -89.5
A28: CDE | B28: Empleos nuevos | C28: 500 | F28: =+C28/12 -> 41.666667 | G28: 0 | H28: 0 | I28: 0 | J28: 0 | Q28: =+F28*5 -> 208.33333 | R28: =SUM(G28:K28) -> 0 | S28: =+R28-Q28 -> -208.33333
B30: Mejorar en 2.000 empresas sus capacidades competitivas y su nivel de productividad. | C30: 1300
A31: Banca | G31: 11 | H31: 83 | I31: 117 | J31: 156 | K31: 488 | Q31: =+F31*4 -> 0 | R31: =SUM(G31:J31) -> 367 | S31: =+R31-Q31 -> 367
A32: CDE | G32: 57 | H32: 122 | I32: 150 | J32: 119 | Q32: =+F32*4 -> 0 | R32: =SUM(G32:J32) -> 448 | S32: =+R32-Q32 -> 448
A33: Marketing D | G33: 0 | H33: 0 | I33: 0 | J33: 0 | Q33: =+F33*4 -> 0 | R33: =SUM(G33:J33) -> 0 | S33: =+R33-Q33 -> 0
A34: Avanza
A35: Crea | G35: 0 | H35: 0 | I35: 0 | J35: 57
A36: Market Place
A37: Espacios
A38: Seed Lab Stec
A39: Empleo

Sheet Gastos_Julio
A1: INSTITUTO MUNICIPAL DE EMPLEO Y FOMENTO EMPRESARIAL - IMEBU
A2: NIT: 00804014968 - 1
A3: EJECUCION PRESUPUESTAL DE GASTOS
A4: Periodo comprendido entre 01-01-2022 y 31-07-2022
A5: Fecha de Impresión: 02.08.2022 Hora: 03:15:pm
A6: Impreso por: GUSTAVO - GUSTAVO RAMIREZ BONELLS
A7: Codigo de Control | B7: Rubro Presupuestal | C7: Unidad Ejecutora | D7: Descripción | E7: Fuente | F7: Presupuesto Inicial | G7: Adiciones | H7: Aplazamientos | I7: Desaplazamiento | J7: Reducciones | K7: Créditos | L7: Contracréditos | M7: Presupuesto Definitivo | N7: Cdps Mes Anterior | O7: Cdps Mes Actual | P7: Total Ejecutado Segun Cdps | Q7: Cdps Vigencia Futura | R7: Saldo por Ejecutar | S7: Compromisos Mes Anterior | T7: Total Compromisos mes Actual | U7: Total Compromisos | V7: Saldo por Comprometer | W7: Total Obligaciones | X7: Pagos Mes Anterior | Y7: Total Pagos Periodo | Z7: Total Pagos | AA7: Saldo por Pagar
A8: 220077 | B8: 2.1.2.02.02.010 | C8: IMEB | D8: Viáticos de funcionarios en Comisión | E8: APM | F8: 0 | G8: 0 | H8: 0 | I8: 0 | J8: 0 | K8: 10000000 | L8: 0 | M8: 10000000 | N8: 0 | O8: 1112562 | P8: 1112562 | Q8: 0 | R8: 8887438 | S8: 0 | T8: 1112562 | U8: 1112562 | V8: 8887438 | W8: 1112562 | X8: 0 | Y8: 1112562 | Z8: 1112562 | AA8: 0
B9: 2 | C9: IMEB | D9: Gastos | F9: 5040000000 | G9: 3.7073266e+09 | H9: 0 | I9: 0 | J9: 0 | K9: 272956147 | L9: 272956147 | M9: 8.7473266e+09 | N9: 0 | O9: 4597843201 | P9: 4597843201 | Q9: 0 | R9: 4.1494834e+09 | S9: 0 | T9: 4300674392 | U9: 4300674392 | V9: 4.4466522e+09 | W9: 2720679877 | X9: 0 | Y9: 2674385342 | Z9: 2674385342 | AA9: 1626289050
B10: 2.1 | C10: IMEB | D10: Funcionamiento | F10: 2332862428 | G10: 0 | H10: 0 | I10: 0 | J10: 0 | K10: 92943000 | L10: 92943000 | M10: 2332862428 | N10: 0 | O10: 1305911964 | P10: 1305911964 | Q10: 0 | R10: 1026950464 | S10: 0 | T10: 1247271488 | U10: 1247271488 | V10: 1085590940 | W10: 981179016 | X10: 0 | Y10: 961537816 | Z10: 961537816 | AA10: 285733672
B11: 2.1.1 | C11: IMEB | D11: Gastos de personal | F11: 1388561517 | G11: 0 | H11: 0 | I11: 0 | J11: 0 | K11: 36006000 | L11: 0 | M11: 1424567517 | N11: 0 | O11: 660072447 | P11: 660072447 | Q11: 0 | R11: 764495070 | S11: 0 | T11: 660072447 | U11: 660072447 | V11: 764495070 | W11: 660007387 | X11: 0 | Y11: 640586787 | Z11: 640586787 | AA11: 19485660
B12: 2.1.1.01 | C12: IMEB | D12: Planta de personal permanente | F12: 1388561517 | G12: 0 | H12: 0 | I12: 0 | J12: 0 | K12: 36006000 | L12: 0 | M12: 1424567517 | N12: 0 | O12: 660072447 | P12: 660072447 | Q12: 0 | R12: 764495070 | S12: 0 | T12: 660072447 | U12: 660072447 | V12: 764495070 | W12: 660007387 | X12: 0 | Y12: 640586787 | Z12: 640586787 | AA12: 19485660
B13: 2.1.1.01.01 | C13: IMEB | D13: Factores constitutivos de salario | F13: 986057546 | G13: 0 | H13: 0 | I13: 0 | J13: 0 | K13: 22850000 | L13: 0 | M13: 1008907546 | N13: 0 | O13: 502147031 | P13: 502147031 | Q13: 0 | R13: 506760515 | S13: 0 | T13: 502147031 | U13: 502147031 | V13: 506760515 | W13: 502147031 | X13: 0 | Y13: 502147031 | Z13: 502147031 | AA13: 0
B14: 2.1.1.01.01.001 | C14: IMEB | D14: Factores salariales comunes | F14: 976294600 | G14: 0 | H14: 0 | I14: 0 | J14: 0 | K14: 22540000 | L14: 0 | M14: 998834600 | N14: 0 | O14: 502130075 | P14: 502130075 | Q14: 0 | R14: 496704525 | S14: 0 | T14: 502130075 | U14: 502130075 | V14: 496704525 | W14: 502130075 | X14: 0 | Y14: 502130075 | Z14: 502130075 | AA14: 0
A15: 220001 | B15: 2.1.1.01.01.001.01 | C15: IMEB | D15: Sueldo básico | E15: 1.2.1.0.0 | F15: 775965124 | G15: 0 | H15: 0 | I15: 0 | J15: 0 | K15: 16220000 | L15: 0 | M15: 792185124 | N15: 0 | O15: 448607509 | P15: 448607509 | Q15: 0 | R15: 343577615 | S15: 0 | T15: 448607509 | U15: 448607509 | V15: 343577615 | W15: 448607509 | X15: 0 | Y15: 448607509 | Z15: 448607509 | AA15: 0
A16: 220002 | B16: 2.1.1.01.01.001.06 | C16: IMEB | D16: Prima de servicios | E16: 1.2.1.0.0 | F16: 66549782 | G16: 0 | H16: 0 | I16: 0 | J16: 0 | K16: 2100000 | L16: 0 | M16: 68649782 | N16: 0 | O16: 34207924 | P16: 34207924 | Q16: 0 | R16: 34441858 | S16: 0 | T16: 34207924 | U16: 34207924 | V16: 34441858 | W16: 34207924 | X16: 0 | Y16: 34207924 | Z16: 34207924 | AA16: 0
A17: 220003 | B17: 2.1.1.01.01.001.07 | C17: IMEB | D17: Bonificación por servicios prestados | E17: 1.2.1.0.0 | F17: 22632315 | G17: 0 | H17: 0 | I17: 0 | J17: 0 | K17: 710000 | L17: 0 | M17: 23342315 | N17: 0 | O17: 12938977 | P17: 12938977 | Q17: 0 | R17: 10403338 | S17: 0 | T17: 12938977 | U17: 12938977 | V17: 10403338 | W17: 12938977 | X17: 0 | Y17: 12938977 | Z17: 12938977 | AA17: 0
B18: 2.1.1.01.01.001.08 | C18: IMEB | D18: Prestaciones sociales | F18: 111147379 | G18: 0 | H18: 0 | I18: 0 | J18: 0 | K18: 3510000 | L18: 0 | M18: 114657379 | N18: 0 | O18: 6375665 | P18: 6375665 | Q18: 0 | R18: 108281714 | S18: 0 | T18: 6375665 | U18: 6375665 | V18: 108281714 | W18: 6375665 | X18: 0 | Y18: 6375665 | Z18: 6375665 | AA18: 0
A19: 220004 | B19: 2.1.1.01.01.001.08.01 | C19: IMEB | D19: Prima de navidad | E19: 1.2.1.0.0 | F19: 75099581 | G19: 0 | H19: 0 | I19: 0 | J19: 0 | K19: 2360000 | L19: 0 | M19: 77459581 | N19: 0 | O19: 136165 | P19: 136165 | Q19: 0 | R19: 77323416 | S19: 0 | T19: 136165 | U19: 136165 | V19: 77323416 | W19: 136165 | X19: 0 | Y19: 136165 | Z19: 136165 | AA19: 0
A20: 220005 | B20: 2.1.1.01.01.001.08.02 | C20: IMEB | D20: Prima de vacaciones | E20: 1.2.1.0.0 | F20: 36047798 | G20: 0 | H20: 0 | I20: 0 | J20: 0 | K20: 1150000 | L20: 0 | M20: 37197798 | N20: 0 | O20: 6239500 | P20: 6239500 | Q20: 0 | R20: 30958298 | S20: 0 | T20: 6239500 | U20: 6239500 | V20: 30958298 | W20: 6239500 | X20: 0 | Y20: 6239500 | Z20: 6239500 | AA20: 0
A21: 220006 | B21: 2.1.1.01.01.002 | C21: IMEB | D21: Factores salariales especiales | E21: 1.2.1.0.0 | F21: 9762946 | G21: 0 | H21: 0 | I21: 0 | J21: 0 | K21: 310000 | L21: 0 | M21: 10072946 | N21: 0 | O21: 16956 | P21: 16956 | Q21: 0 | R21: 10055990 | S21: 0 | T21: 16956 | U21: 16956 | V21: 10055990 | W21: 16956 | X21: 0 | Y21: 16956 | Z21: 16956 | AA21: 0
B22: 2.1.1.01.02 | C22: IMEB | D22: Contribuciones inherentes a la nómina | F22: 335322951 | G22: 0 | H22: 0 | I22: 0 | J22: 0 | K22: 11360000 | L22: 0 | M22: 346682951 | N22: 0 | O22: 148050659 | P22: 148050659 | Q22: 0 | R22: 198632292 | S22: 0 | T22: 148050659 | U22: 148050659 | V22: 198632292 | W22: 147985599 | X22: 0 | Y22: 128564999 | Z22: 128564999 | AA22: 19485660
